{"text_format":"1","workbook":"xlsx","n_sheets":10,"sheets":["RESUMO","I - Motorista","II-Copa","III - Limpeza I","IV - Limpeza II","V- Recepção I","V-Preposto","Impressão","VI - Recepção II","VII - Auxiliar de Manut. Pred."],"not_rendered":{"charts":0,"images":1,"macros":0,"external_links":1,"defined_names":139,"comments":7,"pivot_tables":0},"unopened":[],"bounds":{"document_bytes":16777216,"sheet_cells":100000,"rows_first":2000,"rows_last":500,"rows_between":2000,"halvings":0,"cell_chars":16384,"cell_head_chars":4096},"cells_cut":0,"cells_raw":0,"read":"whole","date_system":"1900"}

{"sheet":"RESUMO","index":0,"n_rows":21,"n_cols":16,"rows_kept":21,"cut":false,"hidden":false,"merged":[[18,11,18,14],[14,11,14,14],[15,7,15,8],[7,0,7,14],[16,9,16,10],[12,9,12,10],[8,0,8,14],[10,0,11,14],[17,7,17,8],[17,9,17,10],[17,11,17,14],[14,9,14,10],[14,1,14,4],[15,9,15,10],[15,11,15,14],[15,1,15,4],[0,0,2,14],[3,0,3,14],[4,0,4,14],[5,0,5,14],[6,0,6,14],[20,0,20,4],[20,5,20,6],[20,7,20,8],[20,9,20,10],[20,11,20,14],[19,9,19,10],[19,11,19,14],[9,0,9,14],[19,1,19,4],[12,1,12,4],[12,5,12,6],[13,5,13,6],[14,5,14,6],[15,5,15,6],[13,1,13,4],[16,11,16,14],[12,11,12,14],[13,7,13,8],[13,9,13,10],[13,11,13,14],[18,9,18,10],[19,5,19,6],[12,7,12,8],[14,7,14,8],[16,5,16,6],[19,7,19,8],[16,1,16,4],[17,1,17,4],[16,7,16,8],[18,1,18,4],[18,5,18,6],[18,7,18,8],[17,5,17,6]]}
["PLANILHA DE CUSTOS E FORMAÇÃO DE PREÇOS"]
[]
[]
["Razão Social:",null,null,null,null,null,null,null,null,null,null,null,null,null,null,"*Preencher"]
["CNPJ:",null,null,null,null,null,null,null,null,null,null,null,null,null,null,"*Preencher"]
["Inscrição Estadual:",null,null,null,null,null,null,null,null,null,null,null,null,null,null,"*Preencher"]
["Endereço:",null,null,null,null,null,null,null,null,null,null,null,null,null,null,"*Preencher"]
["Telefone",null,null,null,null,null,null,null,null,null,null,null,null,null,null,"*Preencher"]
["Email:",null,null,null,null,null,null,null,null,null,null,null,null,null,null,"*Preencher"]
["Responsável:",null,null,null,null,null,null,null,null,null,null,null,null,null,null,"*Preencher"]
["Resumo de Custos Contratuais"]
[]
["ITEM","POSTOS",null,null,null,"Nº DE POSTOS",null,"VALOR MENSAL",null,"VALOR ANUAL",null,"VALOR CONTRATUAL PREVISTO"]
["Item I","Motorista",null,null,null,2,null,{"$f":"'I - Motorista'!G146","v":0},null,{"$f":"'I - Motorista'!G147+'I - Motorista'!G142+'I - Motorista'!G135","v":23390},null,{"$f":"'I - Motorista'!G149","v":46780},null,null,null,"*Preencimento Automático"]
["Item II","Copeiragem",null,null,null,1,null,{"$f":"'II-Copa'!G139","v":{"$error":"#VALUE!"}},null,{"$f":"'II-Copa'!G140+'II-Copa'!G135","v":{"$error":"#VALUE!"}},null,{"$f":"'II-Copa'!G142","v":{"$error":"#VALUE!"}},null,null,null,"*Preencimento Automático"]
["Item III","Limpeza I",null,null,null,4,null,{"$f":"'III - Limpeza I'!G139","v":0},null,{"$f":"'III - Limpeza I'!G140+'III - Limpeza I'!G135","v":0},null,{"$f":"'III - Limpeza I'!G142","v":0},null,null,null,"*Preencimento Automático"]
["Item IV","Limpeza II",null,null,null,1,null,{"$f":"'IV - Limpeza II'!G139","v":0},null,{"$f":"'IV - Limpeza II'!G140+'IV - Limpeza II'!G135","v":0},null,{"$f":"'IV - Limpeza II'!G142","v":0},null,null,null,"*Preencimento Automático"]
["Item V","Recepção I",null,null,null,1,null,{"$f":"'V- Recepção I'!G139","v":{"$error":"#VALUE!"}},null,{"$f":"'V- Recepção I'!G140+'V- Recepção I'!G135","v":{"$error":"#VALUE!"}},null,{"$f":"'V- Recepção I'!G142","v":{"$error":"#VALUE!"}},null,null,null,"*Preencimento Automático"]
["Item V","Recepção II",null,null,null,1,null,{"$f":"'VI - Recepção II'!G139","v":{"$error":"#VALUE!"}},null,{"$f":"'VI - Recepção II'!G140+'VI - Recepção II'!G135","v":{"$error":"#VALUE!"}},null,{"$f":"'VI - Recepção II'!G142","v":{"$error":"#VALUE!"}},null,null,null,"*Preencimento Automático"]
["Item VII","Auxiliar de Manutenção Predial",null,null,null,1,null,{"$f":"'VII - Auxiliar de Manut. Pred.'!G139","v":{"$error":"#VALUE!"}},null,{"$f":"'VII - Auxiliar de Manut. Pred.'!G140+'VII - Auxiliar de Manut. Pred.'!G135","v":{"$error":"#VALUE!"}},null,{"$f":"'VII - Auxiliar de Manut. Pred.'!G142","v":{"$error":"#VALUE!"}},null,null,null,"*Preencimento Automático"]
["TOTAIS",null,null,null,null,{"$f":"SUM(F14:G20)","v":11},null,{"$f":"SUM(H14:I20)","v":{"$error":"#VALUE!"}},null,{"$f":"SUM(J14:K20)","v":{"$error":"#VALUE!"}},null,{"$f":"SUM(L14:O20)","v":{"$error":"#VALUE!"}}]

{"sheet":"I - Motorista","index":1,"n_rows":161,"n_cols":8,"rows_kept":161,"cut":false,"hidden":false,"merged":[[19,1,19,4],[19,5,19,6],[0,0,0,6],[1,0,1,6],[2,0,2,6],[3,0,3,3],[3,5,3,6],[4,0,4,6],[9,1,9,4],[9,5,9,6],[10,1,10,4],[10,5,10,6],[11,0,11,6],[12,0,12,6],[5,0,5,6],[6,1,6,4],[6,5,6,6],[7,1,7,4],[7,5,7,6],[8,1,8,4],[8,5,8,6],[18,1,18,4],[18,5,18,6],[15,1,15,4],[15,5,15,6],[16,1,16,4],[16,5,16,6],[13,1,13,4],[13,5,13,6],[14,1,14,4],[14,5,14,6],[17,1,17,4],[17,5,17,6],[24,1,24,4],[24,5,24,6],[25,0,25,6],[26,0,26,6],[27,1,27,4],[28,1,28,4],[20,1,20,4],[20,5,20,6],[21,0,21,6],[22,1,22,4],[22,5,22,6],[23,1,23,4],[23,5,23,6],[35,1,35,4],[36,1,36,4],[37,1,37,4],[38,1,38,4],[39,1,39,4],[40,1,40,4],[29,1,29,4],[30,0,30,4],[31,0,31,5],[32,0,32,6],[33,0,33,6],[34,0,34,6],[47,1,47,4],[48,1,48,4],[49,1,49,4],[50,1,50,4],[51,1,51,4],[52,1,52,4],[41,1,41,4],[42,1,42,4],[43,1,43,4],[44,0,44,4],[45,0,45,6],[46,1,46,4],[59,0,59,6],[60,1,60,4],[61,1,61,4],[62,1,62,4],[63,1,63,4],[64,1,64,4],[53,1,53,4],[54,1,54,4],[55,1,55,4],[56,1,56,4],[57,1,57,4],[58,0,58,4],[70,1,70,4],[71,1,71,4],[72,0,72,4],[73,1,73,4],[74,1,74,4],[75,0,75,4],[65,0,65,4],[62,7,63,7],[66,0,66,6],[67,1,67,4],[68,1,68,4],[69,1,69,4],[82,1,82,4],[83,0,83,4],[84,0,84,6],[85,0,85,6],[86,1,86,4],[87,1,87,4],[76,0,76,6],[77,0,77,6],[78,1,78,4],[79,1,79,4],[80,1,80,4],[81,1,81,4],[94,1,94,4],[95,1,95,4],[96,1,96,4],[97,0,97,5],[98,0,98,6],[99,0,99,6],[88,1,88,4],[89,1,89,4],[90,1,90,4],[91,1,91,4],[92,1,92,4],[93,1,93,4],[106,1,106,4],[107,1,107,4],[108,0,108,5],[109,0,109,6],[110,0,110,5],[111,0,111,6],[100,1,100,4],[101,1,101,4],[102,1,102,4],[103,1,103,4],[104,1,104,4],[105,1,105,4],[118,0,118,6],[119,0,119,6],[120,1,120,4],[121,1,121,4],[122,1,122,4],[123,1,123,4],[112,0,112,6],[113,1,113,4],[114,1,114,4],[115,1,115,4],[116,1,116,4],[117,0,117,4],[124,0,124,4],[125,0,125,6],[126,0,126,5],[127,0,127,6],[128,0,128,6],[129,0,130,1],[129,2,130,2],[129,3,130,3],[129,4,130,4],[129,5,130,5],[136,0,136,6],[137,0,138,1],[137,2,138,2],[137,3,138,3],[137,4,138,4],[137,5,138,5],[137,6,138,6],[129,6,130,6],[131,0,131,1],[132,0,132,1],[133,0,133,1],[134,0,134,5],[135,0,135,6],[145,1,145,3],[146,0,146,5],[147,0,147,6],[148,0,148,5],[139,0,139,1],[140,0,140,1],[141,0,141,5],[142,0,142,6],[143,0,143,6],[144,1,144,3]]}
["PLANILHA DE CUSTOS E FORMAÇÃO DE PREÇOS"]
["PRESTAÇÃO DE SERVIÇOS DE CHOFERAGEM"]
["Razão Social:",null,null,null,null,null,null,"*Preencher"]
["CNPJ:",null,null,null,"Pregão n°:","Data:",null,"*Preencher"]
[]
["DISCRIMINAÇÃO DOS SERVIÇOS"]
["A","Data de apresentação da proposta (dia/mês/ano) "]
["B","Município/UF "]
["C","Ano Acordo, Convenção ou Sentença Normativa em Dissídio Coletivo"]
["D","No. Registro acordo convenção coletiva"]
["E","Nº de meses de execução contratual",null,null,null,"24 meses"]
[]
["IDENTIFICAÇÃO DO SERVIÇO"]
["Unidade","Tipo de Serviço",null,null,null,"Quantidade a contratar"]
["Postos","Motorista",null,null,null,"-"]
["Postos","Copeiro",null,null,null,"-"]
["Postos","Limpeza I",null,null,null,"-"]
["Postos","Limpeza II",null,null,null,"-"]
["Postos","Recepcionista I",null,null,null,"-"]
["Postos","Recepcionista II",null,null,null,"-"]
["Postos","Auxiliar de Manutenção Predial",null,null,null,"-"]
["DADOS COMPLEMENTARES PARA CUSTOS REFERENTES À MÃO DE OBRA"]
["A","Salário Normativo da categoria Profissional Vigente"]
["B","Categoria profissional"]
["C","Data-base da categoria"]
[]
["MÓDULO 1 - COMPOSIÇÃO DA REMUNERAÇÃO"]
[1,"Composição da Remuneração:",null,null,null,"%","Valor (R$)"]
["A","Salário Base"]
["B","Adicionais (especificar)"]
["*Diárias, adicionais de horas extras e noturno extra em planilha à parte"]
["Valor Total da Remuneração: ",null,null,null,null,null,{"$f":"SUM(G29:G31)","v":0}]
[]
["MÓDULO 2 - ENCARGOS SOCIAIS E TRABALHISTAS INCIDENTES SOBRE A REMUNERAÇÃO"]
[]
["Grupo 2.1","Encargos Previdenciários e FGTS",null,null,null,"%","Valor (R$)"]
["A","INSS",null,null,null,0.2,{"$f":"$G$32*F37","v":0}]
["B","SESI ou SESC",null,null,null,1.4999999999999999E-2,{"$f":"$G$32*F38","v":0}]
["C","SENAI ou SENAC",null,null,null,0.01,{"$f":"$G$32*F39","v":0}]
["D","INCRA",null,null,null,2E-3,{"$f":"$G$32*F40","v":0}]
["E","Salário educação",null,null,null,2.5000000000000001E-2,{"$f":"$G$32*0.025","v":0}]
["F","FGTS",null,null,null,0.08,{"$f":"$G$32*F42","v":0}]
["G","RAT (Risco Ambiental do Trabalho) x FAP (2,00)",null,null,null,0.03,{"$f":"$G$32*F43","v":0}]
["H","SEBRAE",null,null,null,6.0000000000000001E-3,{"$f":"$G$32*F44","v":0}]
["Valor Total dos encargos previdenciários e FGTS: ",null,null,null,null,{"$f":"SUM(F37:F44)","v":0.36799999999999999},{"$f":"SUM(G37:G44)","v":0}]
[]
["Grupo 2.2","13º Salário e Afastamentos",null,null,null,"%","Valor (R$)"]
["A","13º Salário",null,null,null,8.3330000000000001E-2,{"$f":"SUM($G$32*F48)","v":0}]
["B","Férias",null,null,null,8.3299999999999999E-2,{"$f":"G32*F49","v":0}]
["C","Adicional de férias (1/3)",null,null,null,{"$f":"1/3/12","v":2.7779999999999999E-2},{"$f":"SUM($G$32*F50)","v":0}]
["D","Aviso prévio trabalhado *(1)",null,null,null,{"$f":"7/30/12","v":1.9439999999999999E-2},{"$f":"(G32)*F51","v":0}]
["E","Ausência por doença *(2)",null,null,null,{"$f":"5/30/12","v":1.389E-2},{"$f":"G32*F52","v":0}]
["F","Licença Paternidade *(3)",null,null,null,{"$f":"5/30/12*0.015","v":2.1000000000000001E-4},{"$f":"G32*F53","v":0}]
["G","Ausências Legais *(4)",null,null,null,{"$f":"1/30/12","v":2.7799999999999999E-3},{"$f":"G32*F54","v":0}]
["H","Ausência por acidente de trabalho *(5)",null,null,null,{"$f":"15/30/12*0.08","v":3.3300000000000001E-3},{"$f":"G32*F55","v":0}]
["J","Outros (especificar)",null,null,null,null,{"$f":"G32*F56","v":0}]
[null,"Subtotal: ",null,null,null,{"$f":"SUM(F48:F56)","v":0.23405999999999999},{"$f":"SUM($G$32*F57)","v":0}]
["K","Incidência do grupo 2.1 sobre o grupo 2.2",null,null,null,{"$f":"F45*F57","v":8.6129999999999998E-2},{"$f":"F58*G32","v":0}]
["Valor total do 13º Salário e Afastamentos: ",null,null,null,null,{"$f":"SUM(F57:F58)","v":0.32018999999999997},{"$f":"G57+G58","v":0}]
[]
["Grupo 2.3","Afastamento Maternidade ",null,null,null,"%","Valor (R$)"]
["A","Afastamento Maternidade *(6)",null,null,null,{"$f":"4/12*0.02","v":6.6699999999999997E-3},{"$f":"G32*F62","v":0}]
["B","Férias sobre licença maternidade *(7)",null,null,null,{"$f":"0.1111*0.02*4/12","v":7.3999999999999999E-4},{"$f":"G32*F63","v":0}]
[null,"Subtotal: ",null,null,null,{"$f":"SUM(F62:F63)","v":7.4099999999999999E-3},{"$f":"SUM($G$32*F64)","v":0}]
["C","Incidência do grupo 2.1 sobre o grupo 2.3",null,null,null,{"$f":"F64*F45","v":2.7299999999999998E-3},{"$f":"F65*G32","v":0}]
["Valor total do Afastamento Maternidade: ",null,null,null,null,{"$f":"SUM(F64:F65)","v":1.014E-2},{"$f":"SUM(G64:G65)","v":0}]
[]
["Grupo 2.4","Provisão para Rescisão",null,null,null,"%","Valor (R$)"]
["A","Aviso Prévio Indenizado *(8)",null,null,null,{"$f":"0.05*1/12","v":4.1700000000000001E-3},{"$f":"($G$32)*F69","v":0}]
["B","Indenização Adicional *(9)",null,null,null,{"$f":"0.02*1/12","v":1.67E-3},{"$f":"($G$32)*F70","v":0}]
["C","Indenização (rescisão sem justa causa - multa de 40% do FGTS) *(10)",null,null,null,{"$f":"1*0.4*0.08","v":3.2000000000000001E-2},{"$f":"($G$32)*F71","v":0}]
["D","Indenização (rescisão sem justa causa - contribuição de 10% do FGTS) *(11)",null,null,null,{"$f":"1*0.1*0.08","v":8.0000000000000002E-3},{"$f":"($G$32)*F72","v":0}]
["Subtotal: ",null,null,null,null,{"$f":"SUM(F69:F72)","v":4.5839999999999999E-2},{"$f":"SUM(G69:G72)","v":0}]
["E","Incidência do FGTS sobre o aviso prévio indenizado",null,null,null,{"$f":"F42*F69","v":3.3E-4},{"$f":"F74*$G$32","v":0}]
["F","Incidência do FGTS sobre o período médio de afastamento superior a 15 dias motivado por acidente de trabalho",null,null,null,{"$f":"F42*F55","v":2.7E-4},{"$f":"F75*$G$32","v":0}]
["Valor total da Provisão para Rescisão: ",null,null,null,null,{"$f":"SUM(F73:F75)","v":4.6440000000000002E-2},{"$f":"SUM(G73:G75)","v":0}]
[]
["QUADRO RESUMO - ENCARGOS SOCIAIS E TRABALHISTAS"]
[2,"Encargos Sociais e Trabalhistas",null,null,null,"%","Valor (R$)"]
["2.1","Encargos Previdenciários e FGTS",null,null,null,{"$f":"F45","v":0.36799999999999999},{"$f":"G45","v":0}]
["2.2","13º Salário e Afastamentos",null,null,null,{"$f":"F59","v":0.32018999999999997},{"$f":"G59","v":0}]
["2.3","Afastamento Maternidade",null,null,null,{"$f":"F66","v":1.014E-2},{"$f":"G66","v":0}]
["2.4","Provisão para Rescisão",null,null,null,{"$f":"F76","v":4.6440000000000002E-2},{"$f":"G76","v":0}]
["Valor Total de encargos sociais e trabalhistas: ",null,null,null,null,{"$f":"SUM(F80:F83)","v":0.74477000000000004},{"$f":"SUM(G80:G83)","v":0}]
[]
["MÓDULO 3 - BENEFÍCIOS MENSAIS E DIÁRIOS"]
[3,"Benefícios Mensais e Diários (deduzida parcela do empregado)",null,null,null,"%","Valor (R$)"]
["A","Transporte"]
["B","Desconto legal sobre transporte (máximo de 6% sobre o salário base)",null,null,null,null,null,"(inserir valor negativo)"]
["C","Auxílio alimentação "]
["D","Assistência médica e Familiar"]
["E","Auxílio creche"]
["F","Seguro de vida "]
["G","Auxílio Funeral"]
["H","Cesta Básica"]
["I","Assistência odontológica"]
["J","Outros (especificar)"]
["Valor Total de benefícios mensais e diários: ",null,null,null,null,null,{"$f":"SUM(G88:G97)","v":0}]
[]
["MÓDULO 4 - INSUMOS DIVERSOS"]
[4,"Insumos Diversos",null,null,null,"%","Valor (R$)"]
["A","Uniformes"]
["B","EPIs"]
["C","Materiais"]
["D","Equipamentos (ponto eletrônico, outros)"]
["D","Aparelho celular"]
["F","Franquia de telefonia celular"]
["G","Outros (especificar)"]
["Valor Total de insumos diversos: ",null,null,null,null,null,{"$f":"SUM(G102:G108)","v":0}]
[]
["VALOR TOTAL DE REMUNERAÇÃO + ENCARGOS SOCIAIS + BENEFÍCIOS + INSUMOS",null,null,null,null,null,{"$f":"G32+G84+G98+G109","v":0}]
[]
["MÓDULO 5 - BONIFICAÇÃO E OUTRAS DESPESAS"]
[5,"Bonificações e outras despesas",null,null,null,"%","Valor (R$)"]
["A","LDI - Lucro e Despesas Indiretas",null,null,null,null,{"$f":"F115*$G$111","v":0}]
["B","Despesas Administrativas / Operacionais",null,null,null,null,{"$f":"F116*$G$111","v":0}]
["C","Outras despesas (especificar)",null,null,null,null,{"$f":"F117*$G$111","v":0}]
["Valor Total de bonificações e outras despesas: ",null,null,null,null,{"$f":"SUM(F115:F117)","v":0},{"$f":"SUM(G115:G117)","v":0}]
[]
["MÓDULO 6 - TRIBUTAÇÃO SOBRE O FATURAMENTO"]
[6,"Tributos",null,null,null,"%","Valor (R$)"]
["A","ISS",null,null,null,null,{"$f":"($G$111+$G$118)/(1-$F$125)*F122","v":0}]
["B","PIS",null,null,null,null,{"$f":"($G$111+$G$118)/(1-$F$125)*F123","v":0}]
["C","COFINS",null,null,null,null,{"$f":"($G$111+$G$118)/(1-$F$125)*F124","v":0}]
["Valor Total dos tributos: ",null,null,null,null,{"$f":"SUM(F122:F124)","v":0},{"$f":"SUM(G122:G124)","v":0}]
[]
["VALOR MENSAL TOTAL POR EMPREGADO",null,null,null,null,null,{"$f":"G111+G118+G125","v":0}]
[]
["7 - PREVISÃO DE ADICIONAL NOTURNO E DE HORAS EXTRAS ANUAL"]
["Benefício",null,"Previsão (hs) / ano","Adicional","Valor Base","Valor com Encargos ","Valor com Impostos"]
[]
["A - Hora extra (dias úteis)",null,260,0.6,{"$f":"C132*(D132+1)*$G$32/220","v":0},{"$f":"E132*(1+$F$84)","v":0},{"$f":"F132/(1-$F$125)","v":0},"*Viagens antes das 8hs ou após 18hs: 216hs e com fator de segurança de 20% = 260hs"]
["B - Hora extra (repouso/feriado)",null,78,1,{"$f":"C133*(D133+1)/220*$G$32","v":0},{"$f":"E133*(1+$F$84)","v":0},{"$f":"F133/(1-$F$125)","v":0},"*Viagens aos domingos: 65hs e com fator de segurança de 20% = 78hs"]
["C - Hora extra noturna",null,100,0.2,{"$f":"C134*$G$32/220*(1+D132)*(1+D134)*(1/52.5*60)","v":0},{"$f":"E134*(1+$F$84)","v":0},{"$f":"F134/(1-$F$125)","v":0},"*Total de horas após 22hs: 84hs e com fator de segurança de 20% = 100 hs"]
["Valor Total de Adicional Noturno e de Horas Extras: ",null,null,null,null,null,{"$f":"SUM(G132:G134)","v":0}]
[]
["8 - PREVISÃO DE DIÁRIAS E INDENIZAÇÃO DE ALIMENTAÇÃO ANUAL"]
["Benefício",null,"Previsão Anual","Valor Médio","Valor Base","Valor com Bonificações","Valor com Impostos"]
[]
["Diária",null,67,300,{"$f":"C140*D140","v":20100},{"$f":"E140*(1+$F$118)","v":20100},{"$f":"F140/(1-$F$125)","v":20100}," *Média de diárias por ano (R$16.565,71) / diária de BH-SP (R$300,00) * 1,2 (fator de segurança) = 67"]
["Indenização de Alimentação",null,47,70,{"$f":"C141*D141","v":3290},{"$f":"E141*(1+$F$118)","v":3290},{"$f":"F141/(1-$F$125)","v":3290}," *Média anual de 39 indenizações * 1,2 (fator de segurança) = 47"]
["Valor Total de previsão de diárias e indenização de alimentação: ",null,null,null,null,null,{"$f":"SUM(G140:G141)","v":23390}]
[]
["QUADRO RESUMO DO VALOR MENSAL DO SERVIÇO"]
["ITEM","DESCRIÇÃO",null,null,"QUANT. DE EMPREGADO PARA O SERVIÇO","VALOR PROPOSTO POR EMPREGADO","VALOR TOTAL DO SERVIÇO"]
[null,null,null,null,null,{"$f":"G127","v":0},{"$f":"F146*E146","v":0},"*Valor Mensal sem horas extras, diárias e indenizações"]
["VALOR ANUAL DO SERVIÇO",null,null,null,null,null,{"$f":"G146*12","v":0}]
[]
["VALOR TOTAL BIENAL DO SERVIÇO COM HORAS EXTRAS, NOTURNAS E DIÁRIAS/INDENIZAÇÕES",null,null,null,null,null,{"$f":"(G135+G142+G147)*2","v":46780}]
[]
[" *(1) Redução de 7 dias ou de 2h por dia. (Percentual relativo a contrato de 12 meses"]
["*(2) Estimativa de 5 dias de licença por ano"]
["*(3) Estimativa de 1,5% dos funcionários usufruindo 5 dias de licença por ano"]
["*(4) Estimativa de 1 ausência por ano"]
["*(5) Estimativa de 1 licença de 15 dias por ano para 8% dos funcionários"]
["*(6) Estimativa de 2% dos funcionários usufruindo de 4 meses de licença por ano"]
["*(7) Estimativa de 2% dos funcionários usufruindo de 4 meses de licença por ano"]
[" *(8) Estimativa de que 5% dos funcionários serão substituídos em um ano."]
[" *(9) Estimativa de que 2% dos funcionários serão demitidos com indenização adicional."]
[" *(10) Multa de 40% do FGTS em relação aos trabalhadores contratados."]
[" *(11) Contribuição de 10% do FGTS em relação aos trabalhadores contratados."]

{"sheet":"II-Copa","index":2,"n_rows":154,"n_cols":10,"rows_kept":154,"cut":false,"hidden":false,"merged":[[0,0,0,6],[1,0,1,6],[2,0,2,6],[3,5,3,6],[4,0,4,6],[5,0,5,6],[8,1,8,4],[8,5,8,6],[9,1,9,4],[9,5,9,6],[10,1,10,4],[10,5,10,6],[6,1,6,4],[6,5,6,6],[3,0,3,2],[3,3,3,4],[7,1,7,4],[7,5,7,6],[15,1,15,4],[15,5,15,6],[19,1,19,4],[19,5,19,6],[18,5,18,6],[16,1,16,4],[16,5,16,6],[18,1,18,4],[11,0,11,6],[12,0,12,6],[13,1,13,4],[13,5,13,6],[14,1,14,4],[14,5,14,6],[17,1,17,4],[17,5,17,6],[24,1,24,4],[24,5,24,6],[25,0,25,6],[26,0,26,6],[27,1,27,4],[28,1,28,4],[20,1,20,4],[20,5,20,6],[21,0,21,6],[22,1,22,4],[22,5,22,6],[23,1,23,4],[23,5,23,6],[35,1,35,4],[36,1,36,4],[37,1,37,4],[38,1,38,4],[39,1,39,4],[40,1,40,4],[29,1,29,4],[30,0,30,4],[31,0,31,5],[32,0,32,6],[33,0,33,6],[34,0,34,6],[47,1,47,4],[48,1,48,4],[49,1,49,4],[50,1,50,4],[51,1,51,4],[52,1,52,4],[41,1,41,4],[42,1,42,4],[43,1,43,4],[44,0,44,4],[45,0,45,6],[46,1,46,4],[59,0,59,6],[60,1,60,4],[61,1,61,4],[62,1,62,4],[63,1,63,4],[64,1,64,4],[53,1,53,4],[54,1,54,4],[55,1,55,4],[56,1,56,4],[57,1,57,4],[58,0,58,4],[70,1,70,4],[71,1,71,4],[72,0,72,4],[73,1,73,4],[74,1,74,4],[75,0,75,4],[65,0,65,4],[62,7,63,7],[66,0,66,6],[67,1,67,4],[68,1,68,4],[69,1,69,4],[82,1,82,4],[83,0,83,4],[84,0,84,6],[85,0,85,6],[86,1,86,4],[87,1,87,4],[76,0,76,6],[77,0,77,6],[78,1,78,4],[79,1,79,4],[80,1,80,4],[81,1,81,4],[94,1,94,4],[95,1,95,4],[96,1,96,4],[97,0,97,5],[98,0,98,6],[99,0,99,6],[88,1,88,4],[89,1,89,4],[90,1,90,4],[91,1,91,4],[92,1,92,4],[93,1,93,4],[106,1,106,4],[107,1,107,4],[108,0,108,5],[109,0,109,6],[110,0,110,5],[111,0,111,6],[100,1,100,4],[101,1,101,4],[102,1,102,4],[103,1,103,4],[104,1,104,4],[105,1,105,4],[118,0,118,6],[119,0,119,6],[120,1,120,4],[121,1,121,4],[122,1,122,4],[123,1,123,4],[112,0,112,6],[113,1,113,4],[114,1,114,4],[115,1,115,4],[116,1,116,4],[117,0,117,4],[124,0,124,4],[125,0,125,6],[126,0,126,5],[127,0,127,6],[136,0,136,6],[128,0,128,6],[129,0,130,1],[129,2,130,2],[129,3,130,3],[129,4,130,4],[141,0,141,5],[131,0,131,1],[132,0,132,1],[133,0,133,1],[134,0,134,5],[135,0,135,6],[129,5,130,5],[129,6,130,6],[137,1,137,3],[138,1,138,3],[139,0,139,5],[140,0,140,6]]}
["PLANILHA DE CUSTOS E FORMAÇÃO DE PREÇOS"]
["PRESTAÇÃO DE SERVIÇOS DE COPEIRAGEM"]
[{"$f":"'I - Motorista'!A3:G3","v":"Razão Social:"},null,null,null,null,null,null,"*Preenchimento automático"]
[{"$f":"'I - Motorista'!A4:D4","v":"CNPJ:"},null,null,{"$f":"'I - Motorista'!E4","v":"Pregão n°:"},null,{"$f":"'I - Motorista'!F4:G4","v":"Data:"},null,"*Preenchimento automático"]
[]
["DISCRIMINAÇÃO DOS SERVIÇOS"]
["A","Data de apresentação da proposta (dia/mês/ano) "]
["B","Município/UF "]
["C","Ano Acordo, Convenção ou Sentença Normativa em Dissídio Coletivo"]
["D","No. Registro acordo convenção coletiva"]
["E","Nº de meses de execução contratual",null,null,null,"24 meses"]
[]
["IDENTIFICAÇÃO DO SERVIÇO"]
["Unidade","Tipo de Serviço",null,null,null,"Quantidade a contratar"]
["Postos","Motorista",null,null,null,"-"]
["Postos","Copeiro",null,null,null,"-"]
["Postos","Limpeza I",null,null,null,"-"]
["Postos","Limpeza II",null,null,null,"-"]
["Postos","Recepcionista I",null,null,null,"-"]
["Postos","Recepcionista II",null,null,null,"-"]
["Postos","Auxiliar de Manutenção Predial",null,null,null,"-"]
["DADOS COMPLEMENTARES PARA CUSTOS REFERENTES À MÃO DE OBRA"]
["A","Salário Normativo da categoria Profissional Vigente"]
["B","Categoria profissional"]
["C","Data-base da categoria"]
[]
["MÓDULO 1 - COMPOSIÇÃO DA REMUNERAÇÃO"]
[1,"Composição da Remuneração:",null,null,null,"%","Valor (R$)"]
["A","Salário Base"]
["B","Adicionais (especificar)"]
["*Diárias, adicionais de horas extras e noturno extra em planilha à parte"]
["Valor Total da Remuneração: ",null,null,null,null,null,{"$f":"SUM(G29:G31)","v":0}]
[]
["MÓDULO 2 - ENCARGOS SOCIAIS E TRABALHISTAS INCIDENTES SOBRE A REMUNERAÇÃO"]
[]
["Grupo 2.1","Encargos Previdenciários e FGTS",null,null,null,"%","Valor (R$)"]
["A","INSS",null,null,null,0.2,{"$f":"$G$32*F37","v":0}]
["B","SESI ou SESC",null,null,null,1.4999999999999999E-2,{"$f":"$G$32*F38","v":0}]
["C","SENAI ou SENAC",null,null,null,0.01,{"$f":"$G$32*F39","v":0}]
["D","INCRA",null,null,null,2E-3,{"$f":"$G$32*F40","v":0}]
["E","Salário educação",null,null,null,2.5000000000000001E-2,{"$f":"$G$32*0.025","v":0}]
["F","FGTS",null,null,null,0.08,{"$f":"$G$32*F42","v":0}]
["G","RAT (Risco Ambiental do Trabalho) x FAP (2,00)",null,null,null,0.03,{"$f":"$G$32*F43","v":0}]
["H","SEBRAE",null,null,null,6.0000000000000001E-3,{"$f":"$G$32*F44","v":0}]
["Valor Total dos encargos previdenciários e FGTS: ",null,null,null,null,{"$f":"SUM(F37:F44)","v":0.36799999999999999},{"$f":"SUM(G37:G44)","v":0}]
[]
["Grupo 2.2","13º Salário e Afastamentos",null,null,null,"%","Valor (R$)"]
["A","13º Salário",null,null,null,8.3330000000000001E-2,{"$f":"SUM($G$32*F48)","v":0}]
["B","Férias",null,null,null,8.3299999999999999E-2,{"$f":"G32*F49","v":0}]
["C","Adicional de férias (1/3)",null,null,null,{"$f":"1/3/12","v":2.7779999999999999E-2},{"$f":"SUM($G$32*F50)","v":0}]
["D","Aviso prévio trabalhado *(1)",null,null,null,{"$f":"7/30/12","v":1.9439999999999999E-2},{"$f":"(G32)*F51","v":0}]
["E","Ausência por doença *(2)",null,null,null,{"$f":"5/30/12","v":1.389E-2},{"$f":"G32*F52","v":0}]
["F","Licença Paternidade *(3)",null,null,null,{"$f":"5/30/12*0.015","v":2.1000000000000001E-4},{"$f":"G32*F53","v":0}]
["G","Ausências Legais *(4)",null,null,null,{"$f":"1/30/12","v":2.7799999999999999E-3},{"$f":"G32*F54","v":0}]
["H","Ausência por acidente de trabalho *(5)",null,null,null,{"$f":"15/30/12*0.08","v":3.3300000000000001E-3},{"$f":"G32*F55","v":0}]
["J","Outros (especificar)",null,null,null,null,{"$f":"G32*F56","v":0}]
[null,"Subtotal: ",null,null,null,{"$f":"SUM(F48:F56)","v":0.23405999999999999},{"$f":"SUM($G$32*F57)","v":0}]
["K","Incidência do grupo 2.1 sobre o grupo 2.2",null,null,null,{"$f":"F45*F57","v":8.6129999999999998E-2},{"$f":"F58*G32","v":0}]
["Valor total do 13º Salário e Afastamentos: ",null,null,null,null,{"$f":"SUM(F57:F58)","v":0.32018999999999997},{"$f":"G57+G58","v":0}]
[]
["Grupo 2.3","Afastamento Maternidade ",null,null,null,"%","Valor (R$)"]
["A","Afastamento Maternidade *(6)",null,null,null,{"$f":"4/12*0.02","v":6.6699999999999997E-3},{"$f":"G32*F62","v":0}]
["B","Férias sobre licença maternidade *(7)",null,null,null,{"$f":"0.1111*0.02*4/12","v":7.3999999999999999E-4},{"$f":"G32*F63","v":0}]
[null,"Subtotal: ",null,null,null,{"$f":"SUM(F62:F63)","v":7.4099999999999999E-3},{"$f":"SUM($G$32*F64)","v":0}]
["C","Incidência do grupo 2.1 sobre o grupo 2.3",null,null,null,{"$f":"F64*F45","v":2.7299999999999998E-3},{"$f":"F65*G32","v":0}]
["Valor total do Afastamento Maternidade: ",null,null,null,null,{"$f":"SUM(F64:F65)","v":1.014E-2},{"$f":"SUM(G64:G65)","v":0}]
[]
["Grupo 2.4","Provisão para Rescisão",null,null,null,"%","Valor (R$)"]
["A","Aviso Prévio Indenizado *(8)",null,null,null,{"$f":"0.05*1/12","v":4.1700000000000001E-3},{"$f":"($G$32)*F69","v":0}]
["B","Indenização Adicional *(9)",null,null,null,{"$f":"0.02*1/12","v":1.67E-3},{"$f":"($G$32)*F70","v":0}]
["C","Indenização (rescisão sem justa causa - multa de 40% do FGTS) *(10)",null,null,null,{"$f":"1*0.4*0.08","v":3.2000000000000001E-2},{"$f":"($G$32)*F71","v":0}]
["D","Indenização (rescisão sem justa causa - contribuição de 10% do FGTS) *(11)",null,null,null,{"$f":"1*0.1*0.08","v":8.0000000000000002E-3},{"$f":"($G$32)*F72","v":0}]
["Subtotal: ",null,null,null,null,{"$f":"SUM(F69:F72)","v":4.5839999999999999E-2},{"$f":"SUM(G69:G72)","v":0}]
["E","Incidência do FGTS sobre o aviso prévio indenizado",null,null,null,{"$f":"F42*F69","v":3.3E-4},{"$f":"F74*$G$32","v":0}]
["F","Incidência do FGTS sobre o período médio de afastamento superior a 15 dias motivado por acidente de trabalho",null,null,null,{"$f":"F42*F55","v":2.7E-4},{"$f":"F75*$G$32","v":0}]
["Valor total da Provisão para Rescisão: ",null,null,null,null,{"$f":"SUM(F73:F75)","v":4.6440000000000002E-2},{"$f":"SUM(G73:G75)","v":0}]
[]
["QUADRO RESUMO - ENCARGOS SOCIAIS E TRABALHISTAS"]
[2,"Encargos Sociais e Trabalhistas",null,null,null,"%","Valor (R$)"]
["2.1","Encargos Previdenciários e FGTS",null,null,null,{"$f":"F45","v":0.36799999999999999},{"$f":"G45","v":0}]
["2.2","13º Salário e Afastamentos",null,null,null,{"$f":"F59","v":0.32018999999999997},{"$f":"G59","v":0}]
["2.3","Afastamento Maternidade",null,null,null,{"$f":"F66","v":1.014E-2},{"$f":"G66","v":0}]
["2.4","Provisão para Rescisão",null,null,null,{"$f":"F76","v":4.6440000000000002E-2},{"$f":"G76","v":0}]
["Valor Total de encargos sociais e trabalhistas: ",null,null,null,null,{"$f":"SUM(F80:F83)","v":0.74477000000000004},{"$f":"SUM(G80:G83)","v":0}]
[]
["MÓDULO 3 - BENEFÍCIOS MENSAIS E DIÁRIOS"]
[3,"Benefícios Mensais e Diários (deduzida parcela do empregado)",null,null,null,"%","Valor (R$)"]
["A","Transporte"]
["B","Desconto legal sobre transporte (máximo de 6% sobre o salário base)",null,null,null,null,null,"(inserir valor negativo)"]
["C","Auxílio alimentação "]
["D","Assistência médica e Familiar"]
["E","Auxílio creche"]
["F","Seguro de vida "]
["G","Auxílio Funeral"]
["H","Cesta Básica"]
["I","Assistência odontológica"]
["J","Outros (especificar)"]
["Valor Total de benefícios mensais e diários: ",null,null,null,null,null,{"$f":"SUM(G88:G97)","v":0}]
[]
["MÓDULO 4 - INSUMOS DIVERSOS"]
[4,"Insumos Diversos",null,null,null,"%","Valor (R$)"]
["A","Uniformes"]
["B","EPIs"]
["C","Materiais"]
["D","Equipamentos (ponto eletrônico, outros)"]
["D","Aparelho celular"]
["F","Franquia de telefonia celular"]
["G","Outros (especificar)"]
["Valor Total de insumos diversos: ",null,null,null,null,null,{"$f":"SUM(G102:G108)","v":0}]
[]
["VALOR TOTAL DE REMUNERAÇÃO + ENCARGOS SOCIAIS + BENEFÍCIOS + INSUMOS",null,null,null,null,null,{"$f":"G32+G84+G98+G109","v":0}]
[]
["MÓDULO 5 - BONIFICAÇÃO E OUTRAS DESPESAS"]
[5,"Bonificações e outras despesas",null,null,null,"%","Valor (R$)"]
["A","LDI - Lucro e Despesas Indiretas",null,null,null,null,{"$f":"F115*$G$111","v":0}]
["B","Despesas Administrativas / Operacionais",null,null,null,null,{"$f":"F116*$G$111","v":0}]
["C","Outras despesas (especificar)",null,null,null,null,{"$f":"F117*$G$111","v":0}]
["Valor Total de bonificações e outras despesas: ",null,null,null,null,{"$f":"SUM(F115:F117)","v":0},{"$f":"SUM(G115:G117)","v":0}]
[]
["MÓDULO 6 - TRIBUTAÇÃO SOBRE O FATURAMENTO"]
[6,"Tributos",null,null,null,"%","Valor (R$)"]
["A","ISS",null,null,null,null,{"$f":"($G$111+$G$118)/(1-$F$125)*F122","v":0}]
["B","PIS",null,null,null,null,{"$f":"($G$111+$G$118)/(1-$F$125)*F123","v":0}]
["C","COFINS",null,null,null,null,{"$f":"($G$111+$G$118)/(1-$F$125)*F124","v":0}]
["Valor Total dos tributos: ",null,null,null,null,{"$f":"SUM(F122:F124)","v":0},{"$f":"SUM(G122:G124)","v":0}]
[]
["VALOR MENSAL TOTAL POR EMPREGADO",null,null,null,null,null,{"$f":"G111+G118+G125","v":0}]
[]
["7 - PREVISÃO DE ADICIONAL NOTURNO E DE HORAS EXTRAS"]
["Benefício",null,"Previsão (hs)","Adicional","Valor Base","Valor com Encargos ","Valor com Impostos"]
[null,null,null,null,null,null,null,null,null,"http://www.portaleducacao.com.br/contabilidade/artigos/51238/calculo-hora-extra-noturna"]
["A - Hora extra (dias úteis)",null,288,0.5,{"$f":"C132*(D132+1)*$G$32/220","v":0},{"$f":"E132*(1+$F$84)","v":0},{"$f":"F132/(1-$F$125)","v":0}]
["B - Hora extra (repouso/feriado)",null,36,1,{"$f":"C133*(D133+1)/220*$G$32","v":0},{"$f":"E133*(1+$F$84)","v":0},{"$f":"F133/(1-$F$125)","v":0}]
["C - Hora extra noturna",null,48,0.2,{"$f":"C134*$G$32/220*(1+D132)*(1+D134)*(1/52.5*60)","v":0},{"$f":"E134*(1+$F$84)","v":0},{"$f":"F134/(1-$F$125)","v":0}]
["Valor Total de Adicional Noturno e de Horas Extras: ",null,null,null,null,null,{"$f":"SUM(G132:G134)","v":0}]
[]
["QUADRO RESUMO DO VALOR MENSAL DO SERVIÇO"]
["ITEM","DESCRIÇÃO",null,null,"QUANT. DE EMPREGADO PARA O SERVIÇO","VALOR PROPOSTO POR EMPREGADO","VALOR TOTAL DO SERVIÇO"]
[null,null,null,null,"-",{"$f":"G127","v":0},{"$f":"F139*E139","v":{"$error":"#VALUE!"}},"*Valor Mensal sem horas extras"]
["VALOR DO SERVIÇO ANUAL",null,null,null,null,null,{"$f":"G139*12","v":{"$error":"#VALUE!"}}]
[]
["VALOR TOTAL BIENAL DO SERVIÇO COM HORAS EXTRAS E NOTURNAS",null,null,null,null,null,{"$f":"(G135+G140)*2","v":{"$error":"#VALUE!"}}]
[]
[" *(1) Redução de 7 dias ou de 2h por dia. (Percentual relativo a contrato de 12 meses"]
["*(2) Estimativa de 5 dias de licença por ano"]
["*(3) Estimativa de 1,5% dos funcionários usufruindo 5 dias de licença por ano"]
["*(4) Estimativa de 1 ausência por ano"]
["*(5) Estimativa de 1 licença de 15 dias por ano para 8% dos funcionários"]
["*(6) Estimativa de 2% dos funcionários usufruindo de 4 meses de licença por ano"]
["*(7) Estimativa de 2% dos funcionários usufruindo de 4 meses de licença por ano"]
[" *(8) Estimativa de que 5% dos funcionários serão substituídos em um ano."]
[" *(9) Estimativa de que 2% dos funcionários serão demitidos com indenização adicional."]
[" *(10) Multa de 40% do FGTS em relação aos trabalhadores contratados."]
[" *(11) Contribuição de 10% do FGTS em relação aos trabalhadores contratados."]

{"sheet":"III - Limpeza I","index":3,"n_rows":154,"n_cols":10,"rows_kept":154,"cut":false,"hidden":false,"merged":[[0,0,0,6],[1,0,1,6],[2,0,2,6],[3,5,3,6],[4,0,4,6],[5,0,5,6],[8,1,8,4],[8,5,8,6],[9,1,9,4],[9,5,9,6],[10,1,10,4],[10,5,10,6],[6,1,6,4],[6,5,6,6],[3,0,3,2],[3,3,3,4],[7,1,7,4],[7,5,7,6],[18,1,18,4],[18,5,18,6],[17,1,17,4],[17,5,17,6],[19,1,19,4],[19,5,19,6],[15,1,15,4],[15,5,15,6],[16,1,16,4],[16,5,16,6],[11,0,11,6],[12,0,12,6],[13,1,13,4],[13,5,13,6],[14,1,14,4],[14,5,14,6],[24,1,24,4],[24,5,24,6],[25,0,25,6],[26,0,26,6],[27,1,27,4],[28,1,28,4],[20,1,20,4],[20,5,20,6],[21,0,21,6],[22,1,22,4],[22,5,22,6],[23,1,23,4],[23,5,23,6],[35,1,35,4],[36,1,36,4],[37,1,37,4],[38,1,38,4],[39,1,39,4],[40,1,40,4],[29,1,29,4],[30,0,30,4],[31,0,31,5],[32,0,32,6],[33,0,33,6],[34,0,34,6],[47,1,47,4],[48,1,48,4],[49,1,49,4],[50,1,50,4],[51,1,51,4],[52,1,52,4],[41,1,41,4],[42,1,42,4],[43,1,43,4],[44,0,44,4],[45,0,45,6],[46,1,46,4],[59,0,59,6],[60,1,60,4],[61,1,61,4],[62,1,62,4],[63,1,63,4],[64,1,64,4],[53,1,53,4],[54,1,54,4],[55,1,55,4],[56,1,56,4],[57,1,57,4],[58,0,58,4],[70,1,70,4],[71,1,71,4],[72,0,72,4],[73,1,73,4],[74,1,74,4],[75,0,75,4],[65,0,65,4],[64,7,65,7],[66,0,66,6],[67,1,67,4],[68,1,68,4],[69,1,69,4],[82,1,82,4],[83,0,83,4],[84,0,84,6],[85,0,85,6],[86,1,86,4],[87,1,87,4],[76,0,76,6],[77,0,77,6],[78,1,78,4],[79,1,79,4],[80,1,80,4],[81,1,81,4],[94,1,94,4],[95,1,95,4],[96,1,96,4],[97,0,97,5],[98,0,98,6],[99,0,99,6],[88,1,88,4],[89,1,89,4],[90,1,90,4],[91,1,91,4],[92,1,92,4],[93,1,93,4],[106,1,106,4],[107,1,107,4],[108,0,108,5],[109,0,109,6],[110,0,110,5],[111,0,111,6],[100,1,100,4],[101,1,101,4],[102,1,102,4],[103,1,103,4],[104,1,104,4],[105,1,105,4],[118,0,118,6],[119,0,119,6],[120,1,120,4],[121,1,121,4],[122,1,122,4],[123,1,123,4],[112,0,112,6],[113,1,113,4],[114,1,114,4],[115,1,115,4],[116,1,116,4],[117,0,117,4],[124,0,124,4],[125,0,125,6],[126,0,126,5],[127,0,127,6],[136,0,136,6],[128,0,128,6],[129,0,130,1],[129,2,130,2],[129,3,130,3],[129,4,130,4],[141,0,141,5],[131,0,131,1],[132,0,132,1],[133,0,133,1],[134,0,134,5],[135,0,135,6],[129,5,130,5],[129,6,130,6],[137,1,137,3],[138,1,138,3],[139,0,139,5],[140,0,140,6]]}
["PLANILHA DE CUSTOS E FORMAÇÃO DE PREÇOS"]
["PRESTAÇÃO DE SERVIÇOS DE LIMPEZA I"]
[{"$f":"'I - Motorista'!A3:G3","v":"Razão Social:"},null,null,null,null,null,null,"*Preenchimento automático"]
[{"$f":"'I - Motorista'!A4:D4","v":"CNPJ:"},null,null,{"$f":"'I - Motorista'!E4","v":"Pregão n°:"},null,{"$f":"'I - Motorista'!F4:G4","v":"Data:"},null,"*Preenchimento automático"]
[]
["DISCRIMINAÇÃO DOS SERVIÇOS"]
["A","Data de apresentação da proposta (dia/mês/ano) "]
["B","Município/UF "]
["C","Ano Acordo, Convenção ou Sentença Normativa em Dissídio Coletivo"]
["D","No. Registro acordo convenção coletiva"]
["E","Nº de meses de execução contratual",null,null,null,"17 meses"]
[]
["IDENTIFICAÇÃO DO SERVIÇO"]
["Unidade","Tipo de Serviço",null,null,null,"Quantidade a contratar"]
["Postos","Motorista",null,null,null,"-"]
["Postos","Copeiro",null,null,null,"-"]
["Postos","Limpeza I",null,null,null,"-"]
["Postos","Limpeza II",null,null,null,"-"]
["Postos","Recepcionista I",null,null,null,"-"]
["Postos","Recepcionista II",null,null,null,"-"]
["Postos","Auxiliar de Manutenção Predial",null,null,null,"-"]
["DADOS COMPLEMENTARES PARA CUSTOS REFERENTES À MÃO DE OBRA"]
["A","Salário Normativo da categoria Profissional Vigente"]
["B","Categoria profissional"]
["C","Data-base da categoria"]
[]
["MÓDULO 1 - COMPOSIÇÃO DA REMUNERAÇÃO"]
[1,"Composição da Remuneração:",null,null,null,"%","Valor (R$)"]
["A","Salário Base"]
["B","Adicionais (especificar)"]
["*Diárias, adicionais de horas extras e noturno extra em planilha à parte"]
["Valor Total da Remuneração: ",null,null,null,null,null,{"$f":"SUM(G29:G31)","v":0}]
[]
["MÓDULO 2 - ENCARGOS SOCIAIS E TRABALHISTAS INCIDENTES SOBRE A REMUNERAÇÃO"]
[]
["Grupo 2.1","Encargos Previdenciários e FGTS",null,null,null,"%","Valor (R$)"]
["A","INSS",null,null,null,0.2,{"$f":"$G$32*F37","v":0}]
["B","SESI ou SESC",null,null,null,1.4999999999999999E-2,{"$f":"$G$32*F38","v":0}]
["C","SENAI ou SENAC",null,null,null,0.01,{"$f":"$G$32*F39","v":0}]
["D","INCRA",null,null,null,2E-3,{"$f":"$G$32*F40","v":0}]
["E","Salário educação",null,null,null,2.5000000000000001E-2,{"$f":"$G$32*0.025","v":0}]
["F","FGTS",null,null,null,0.08,{"$f":"$G$32*F42","v":0}]
["G","RAT (Risco Ambiental do Trabalho) x FAP (2,00)",null,null,null,0.03,{"$f":"$G$32*F43","v":0}]
["H","SEBRAE",null,null,null,6.0000000000000001E-3,{"$f":"$G$32*F44","v":0}]
["Valor Total dos encargos previdenciários e FGTS: ",null,null,null,null,{"$f":"SUM(F37:F44)","v":0.36799999999999999},{"$f":"SUM(G37:G44)","v":0}]
[]
["Grupo 2.2","13º Salário e Afastamentos",null,null,null,"%","Valor (R$)"]
["A","13º Salário",null,null,null,8.3330000000000001E-2,{"$f":"SUM($G$32*F48)","v":0}]
["B","Férias",null,null,null,8.3299999999999999E-2,{"$f":"G32*F49","v":0}]
["C","Adicional de férias (1/3)",null,null,null,{"$f":"1/3/12","v":2.7779999999999999E-2},{"$f":"SUM($G$32*F50)","v":0}]
["D","Aviso prévio trabalhado *(1)",null,null,null,{"$f":"7/30/12","v":1.9439999999999999E-2},{"$f":"(G32)*F51","v":0}]
["E","Ausência por doença *(2)",null,null,null,{"$f":"5/30/12","v":1.389E-2},{"$f":"G32*F52","v":0}]
["F","Licença Paternidade *(3)",null,null,null,{"$f":"5/30/12*0.015","v":2.1000000000000001E-4},{"$f":"G32*F53","v":0}]
["G","Ausências Legais *(4)",null,null,null,{"$f":"1/30/12","v":2.7799999999999999E-3},{"$f":"G32*F54","v":0}]
["H","Ausência por acidente de trabalho *(5)",null,null,null,{"$f":"15/30/12*0.08","v":3.3300000000000001E-3},{"$f":"G32*F55","v":0}]
["J","Outros (especificar)",null,null,null,null,{"$f":"G32*F56","v":0}]
[null,"Subtotal: ",null,null,null,{"$f":"SUM(F48:F56)","v":0.23405999999999999},{"$f":"SUM($G$32*F57)","v":0}]
["K","Incidência do grupo 2.1 sobre o grupo 2.2",null,null,null,{"$f":"F45*F57","v":8.6129999999999998E-2},{"$f":"F58*G32","v":0}]
["Valor total do 13º Salário e Afastamentos: ",null,null,null,null,{"$f":"SUM(F57:F58)","v":0.32018999999999997},{"$f":"G57+G58","v":0}]
[]
["Grupo 2.3","Afastamento Maternidade ",null,null,null,"%","Valor (R$)"]
["A","Afastamento Maternidade *(6)",null,null,null,{"$f":"4/12*0.02","v":6.6699999999999997E-3},{"$f":"G32*F62","v":0}]
["B","Férias sobre licença maternidade *(7)",null,null,null,{"$f":"0.1111*0.02*4/12","v":7.3999999999999999E-4},{"$f":"G32*F63","v":0}]
[null,"Subtotal: ",null,null,null,{"$f":"SUM(F62:F63)","v":7.4099999999999999E-3},{"$f":"SUM($G$32*F64)","v":0}]
["C","Incidência do grupo 2.1 sobre o grupo 2.3",null,null,null,{"$f":"F64*F45","v":2.7299999999999998E-3},{"$f":"F65*G32","v":0}]
["Valor total do Afastamento Maternidade: ",null,null,null,null,{"$f":"SUM(F64:F65)","v":1.014E-2},{"$f":"SUM(G64:G65)","v":0}]
[]
["Grupo 2.4","Provisão para Rescisão",null,null,null,"%","Valor (R$)"]
["A","Aviso Prévio Indenizado *(8)",null,null,null,{"$f":"0.05*1/12","v":4.1700000000000001E-3},{"$f":"($G$32)*F69","v":0}]
["B","Indenização Adicional *(9)",null,null,null,{"$f":"0.02*1/12","v":1.67E-3},{"$f":"($G$32)*F70","v":0}]
["C","Indenização (rescisão sem justa causa - multa de 40% do FGTS) *(10)",null,null,null,{"$f":"1*0.4*0.08","v":3.2000000000000001E-2},{"$f":"($G$32)*F71","v":0}]
["D","Indenização (rescisão sem justa causa - contribuição de 10% do FGTS) *(11)",null,null,null,{"$f":"1*0.1*0.08","v":8.0000000000000002E-3},{"$f":"($G$32)*F72","v":0}]
["Subtotal: ",null,null,null,null,{"$f":"SUM(F69:F72)","v":4.5839999999999999E-2},{"$f":"SUM(G69:G72)","v":0}]
["E","Incidência do FGTS sobre o aviso prévio indenizado",null,null,null,{"$f":"F42*F69","v":3.3E-4},{"$f":"F74*$G$32","v":0}]
["F","Incidência do FGTS sobre o período médio de afastamento superior a 15 dias motivado por acidente de trabalho",null,null,null,{"$f":"F42*F55","v":2.7E-4},{"$f":"F75*$G$32","v":0}]
["Valor total da Provisão para Rescisão: ",null,null,null,null,{"$f":"SUM(F73:F75)","v":4.6440000000000002E-2},{"$f":"SUM(G73:G75)","v":0}]
[]
["QUADRO RESUMO - ENCARGOS SOCIAIS E TRABALHISTAS"]
[2,"Encargos Sociais e Trabalhistas",null,null,null,"%","Valor (R$)"]
["2.1","Encargos Previdenciários e FGTS",null,null,null,{"$f":"F45","v":0.36799999999999999},{"$f":"G45","v":0}]
["2.2","13º Salário e Afastamentos",null,null,null,{"$f":"F59","v":0.32018999999999997},{"$f":"G59","v":0}]
["2.3","Afastamento Maternidade",null,null,null,{"$f":"F66","v":1.014E-2},{"$f":"G66","v":0}]
["2.4","Provisão para Rescisão",null,null,null,{"$f":"F76","v":4.6440000000000002E-2},{"$f":"G76","v":0}]
["Valor Total de encargos sociais e trabalhistas: ",null,null,null,null,{"$f":"SUM(F80:F83)","v":0.74477000000000004},{"$f":"SUM(G80:G83)","v":0}]
[]
["MÓDULO 3 - BENEFÍCIOS MENSAIS E DIÁRIOS"]
[3,"Benefícios Mensais e Diários (deduzida parcela do empregado)",null,null,null,"%","Valor (R$)"]
["A","Transporte"]
["B","Desconto legal sobre transporte (máximo de 6% sobre o salário base)",null,null,null,null,null,"(inserir valor negativo)"]
["C","Auxílio alimentação "]
["D","Assistência médica e Familiar"]
["E","Auxílio creche"]
["F","Seguro de vida "]
["G","Auxílio Funeral"]
["H","Cesta Básica"]
["I","Assistência odontológica"]
["J","Outros (especificar)"]
["Valor Total de benefícios mensais e diários: ",null,null,null,null,null,{"$f":"SUM(G88:G97)","v":0}]
[]
["MÓDULO 4 - INSUMOS DIVERSOS"]
[4,"Insumos Diversos",null,null,null,"%","Valor (R$)"]
["A","Uniformes"]
["B","EPIs"]
["C","Materiais"]
["D","Equipamentos (ponto eletrônico, outros)"]
["D","Aparelho celular"]
["F","Franquia de telefonia celular"]
["G","Outros (especificar)"]
["Valor Total de insumos diversos: ",null,null,null,null,null,{"$f":"SUM(G102:G108)","v":0}]
[]
["VALOR TOTAL DE REMUNERAÇÃO + ENCARGOS SOCIAIS + BENEFÍCIOS + INSUMOS",null,null,null,null,null,{"$f":"G32+G84+G98+G109","v":0}]
[]
["MÓDULO 5 - BONIFICAÇÃO E OUTRAS DESPESAS"]
[5,"Bonificações e outras despesas",null,null,null,"%","Valor (R$)"]
["A","LDI - Lucro e Despesas Indiretas",null,null,null,null,{"$f":"F115*$G$111","v":0}]
["B","Despesas Administrativas / Operacionais",null,null,null,null,{"$f":"F116*$G$111","v":0}]
["C","Outras despesas (especificar)",null,null,null,null,{"$f":"F117*$G$111","v":0}]
["Valor Total de bonificações e outras despesas: ",null,null,null,null,{"$f":"SUM(F115:F117)","v":0},{"$f":"SUM(G115:G117)","v":0}]
[]
["MÓDULO 6 - TRIBUTAÇÃO SOBRE O FATURAMENTO"]
[6,"Tributos",null,null,null,"%","Valor (R$)"]
["A","ISS",null,null,null,null,{"$f":"($G$111+$G$118)/(1-$F$125)*F122","v":0}]
["B","PIS",null,null,null,null,{"$f":"($G$111+$G$118)/(1-$F$125)*F123","v":0}]
["C","COFINS",null,null,null,null,{"$f":"($G$111+$G$118)/(1-$F$125)*F124","v":0}]
["Valor Total dos tributos: ",null,null,null,null,{"$f":"SUM(F122:F124)","v":0},{"$f":"SUM(G122:G124)","v":0}]
[]
["VALOR MENSAL TOTAL POR EMPREGADO",null,null,null,null,null,{"$f":"G111+G118+G125","v":0}]
[]
["7 - PREVISÃO DE ADICIONAL NOTURNO E DE HORAS EXTRAS"]
["Benefício",null,"Previsão (hs)","Adicional","Valor Base","Valor com Encargos ","Valor com Impostos"]
[]
["A - Hora extra (dias úteis)",null,176,0.5,{"$f":"C132*(D132+1)*$G$32/220","v":0},{"$f":"E132*(1+$F$84)","v":0},{"$f":"F132/(1-$F$125)","v":0}]
["B - Hora extra (repouso/feriado)",null,24,1,{"$f":"C133*(D133+1)/220*$G$32","v":0},{"$f":"E133*(1+$F$84)","v":0},{"$f":"F133/(1-$F$125)","v":0},null,null,"http://www.portaleducacao.com.br/contabilidade/artigos/51238/calculo-hora-extra-noturna"]
["C - Hora extra noturna",null,16,0.2,{"$f":"C134*$G$32/220*(1+D132)*(1+D134)*(1/52.5*60)","v":0},{"$f":"E134*(1+$F$84)","v":0},{"$f":"F134/(1-$F$125)","v":0}]
["Valor Total de Adicional Noturno e de Horas Extras: ",null,null,null,null,null,{"$f":"SUM(G132:G134)","v":0}]
[]
["QUADRO RESUMO DO VALOR MENSAL DO SERVIÇO"]
["ITEM","DESCRIÇÃO",null,null,"QUANT. DE EMPREGADO PARA O SERVIÇO","VALOR PROPOSTO POR EMPREGADO","VALOR TOTAL DO SERVIÇO"]
[null,null,null,null,null,{"$f":"G127","v":0},{"$f":"F139*E139","v":0},"*Valor Mensal sem horas extras"]
["VALOR DO SERVIÇO ANUAL",null,null,null,null,null,{"$f":"G139*12","v":0}]
[]
["VALOR TOTAL CONTRATUAL PREVISTO DO SERVIÇO COM HORAS EXTRAS E NOTURNAS",null,null,null,null,null,{"$f":"(G135+G140)*17/12","v":0},"*VALOR APROXIMADO PARA OS 17 MESES PREVISTOS (Do dia 29 de Setembro até o encerramento do contrato)"]
[]
[" *(1) Redução de 7 dias ou de 2h por dia. (Percentual relativo a contrato de 12 meses"]
["*(2) Estimativa de 5 dias de licença por ano"]
["*(3) Estimativa de 1,5% dos funcionários usufruindo 5 dias de licença por ano"]
["*(4) Estimativa de 1 ausência por ano"]
["*(5) Estimativa de 1 licença de 15 dias por ano para 8% dos funcionários"]
["*(6) Estimativa de 2% dos funcionários usufruindo de 4 meses de licença por ano"]
["*(7) Estimativa de 2% dos funcionários usufruindo de 4 meses de licença por ano"]
[" *(8) Estimativa de que 5% dos funcionários serão substituídos em um ano."]
[" *(9) Estimativa de que 2% dos funcionários serão demitidos com indenização adicional."]
[" *(10) Multa de 40% do FGTS em relação aos trabalhadores contratados."]
[" *(11) Contribuição de 10% do FGTS em relação aos trabalhadores contratados."]

{"sheet":"IV - Limpeza II","index":4,"n_rows":154,"n_cols":10,"rows_kept":154,"cut":false,"hidden":false,"merged":[[138,1,138,3],[139,0,139,5],[140,0,140,6],[141,0,141,5],[131,0,131,1],[132,0,132,1],[133,0,133,1],[134,0,134,5],[135,0,135,6],[136,0,136,6],[128,0,128,6],[129,0,130,1],[129,2,130,2],[129,3,130,3],[129,4,130,4],[129,5,130,5],[129,6,130,6],[137,1,137,3],[119,0,119,6],[120,1,120,4],[121,1,121,4],[122,1,122,4],[123,1,123,4],[124,0,124,4],[125,0,125,6],[126,0,126,5],[127,0,127,6],[110,0,110,5],[111,0,111,6],[112,0,112,6],[113,1,113,4],[114,1,114,4],[115,1,115,4],[116,1,116,4],[117,0,117,4],[118,0,118,6],[101,1,101,4],[102,1,102,4],[103,1,103,4],[104,1,104,4],[105,1,105,4],[106,1,106,4],[107,1,107,4],[108,0,108,5],[109,0,109,6],[92,1,92,4],[93,1,93,4],[94,1,94,4],[95,1,95,4],[96,1,96,4],[97,0,97,5],[98,0,98,6],[99,0,99,6],[100,1,100,4],[83,0,83,4],[84,0,84,6],[85,0,85,6],[86,1,86,4],[87,1,87,4],[88,1,88,4],[89,1,89,4],[90,1,90,4],[91,1,91,4],[74,1,74,4],[75,0,75,4],[76,0,76,6],[77,0,77,6],[78,1,78,4],[79,1,79,4],[80,1,80,4],[81,1,81,4],[82,1,82,4],[64,7,65,7],[66,0,66,6],[67,1,67,4],[68,1,68,4],[69,1,69,4],[70,1,70,4],[71,1,71,4],[72,0,72,4],[73,1,73,4],[57,1,57,4],[58,0,58,4],[59,0,59,6],[60,1,60,4],[61,1,61,4],[62,1,62,4],[63,1,63,4],[64,1,64,4],[65,0,65,4],[48,1,48,4],[49,1,49,4],[50,1,50,4],[51,1,51,4],[52,1,52,4],[53,1,53,4],[54,1,54,4],[55,1,55,4],[56,1,56,4],[39,1,39,4],[40,1,40,4],[41,1,41,4],[42,1,42,4],[43,1,43,4],[44,0,44,4],[45,0,45,6],[46,1,46,4],[47,1,47,4],[30,0,30,4],[31,0,31,5],[32,0,32,6],[33,0,33,6],[34,0,34,6],[35,1,35,4],[36,1,36,4],[37,1,37,4],[38,1,38,4],[23,1,23,4],[23,5,23,6],[24,1,24,4],[24,5,24,6],[25,0,25,6],[26,0,26,6],[27,1,27,4],[28,1,28,4],[29,1,29,4],[17,1,17,4],[17,5,17,6],[19,1,19,4],[19,5,19,6],[20,1,20,4],[20,5,20,6],[21,0,21,6],[22,1,22,4],[22,5,22,6],[18,1,18,4],[18,5,18,6],[12,0,12,6],[13,1,13,4],[13,5,13,6],[14,1,14,4],[14,5,14,6],[15,1,15,4],[15,5,15,6],[16,1,16,4],[16,5,16,6],[7,1,7,4],[7,5,7,6],[8,1,8,4],[8,5,8,6],[9,1,9,4],[9,5,9,6],[10,1,10,4],[10,5,10,6],[11,0,11,6],[0,0,0,6],[1,0,1,6],[2,0,2,6],[3,0,3,2],[3,3,3,4],[3,5,3,6],[4,0,4,6],[5,0,5,6],[6,1,6,4],[6,5,6,6]]}
["PLANILHA DE CUSTOS E FORMAÇÃO DE PREÇOS"]
["PRESTAÇÃO DE SERVIÇOS DE LIMPEZA II"]
[{"$f":"'I - Motorista'!A3:G3","v":"Razão Social:"},null,null,null,null,null,null,"*Preenchimento automático"]
[{"$f":"'I - Motorista'!A4:D4","v":"CNPJ:"},null,null,{"$f":"'I - Motorista'!E4","v":"Pregão n°:"},null,{"$f":"'I - Motorista'!F4:G4","v":"Data:"},null,"*Preenchimento automático"]
[]
["DISCRIMINAÇÃO DOS SERVIÇOS"]
["A","Data de apresentação da proposta (dia/mês/ano) "]
["B","Município/UF "]
["C","Ano Acordo, Convenção ou Sentença Normativa em Dissídio Coletivo"]
["D","No. Registro acordo convenção coletiva"]
["E","Nº de meses de execução contratual",null,null,null,"17 meses"]
[]
["IDENTIFICAÇÃO DO SERVIÇO"]
["Unidade","Tipo de Serviço",null,null,null,"Quantidade a contratar"]
["Postos","Motorista",null,null,null,"-"]
["Postos","Copeiro",null,null,null,"-"]
["Postos","Limpeza I",null,null,null,"-"]
["Postos","Limpeza II",null,null,null,"-"]
["Postos","Recepcionista I",null,null,null,"-"]
["Postos","Recepcionista II",null,null,null,"-"]
["Postos","Auxiliar de Manutenção Predial",null,null,null,"-"]
["DADOS COMPLEMENTARES PARA CUSTOS REFERENTES À MÃO DE OBRA"]
["A","Salário Normativo da categoria Profissional Vigente"]
["B","Categoria profissional"]
["C","Data-base da categoria"]
[]
["MÓDULO 1 - COMPOSIÇÃO DA REMUNERAÇÃO"]
[1,"Composição da Remuneração:",null,null,null,"%","Valor (R$)"]
["A","Salário Base",null,null,null,null,null,"Adicionar 40% de Insalubridade nos termos da Súmula 448 do TST."]
["B","Adicionais (especificar)",null,null,null,0.4,{"$f":"G29*F30","v":0}]
["*Diárias, adicionais de horas extras e noturno extra em planilha à parte"]
["Valor Total da Remuneração: ",null,null,null,null,null,{"$f":"SUM(G29:G31)","v":0}]
[]
["MÓDULO 2 - ENCARGOS SOCIAIS E TRABALHISTAS INCIDENTES SOBRE A REMUNERAÇÃO"]
[]
["Grupo 2.1","Encargos Previdenciários e FGTS",null,null,null,"%","Valor (R$)"]
["A","INSS",null,null,null,0.2,{"$f":"$G$32*F37","v":0}]
["B","SESI ou SESC",null,null,null,1.4999999999999999E-2,{"$f":"$G$32*F38","v":0}]
["C","SENAI ou SENAC",null,null,null,0.01,{"$f":"$G$32*F39","v":0}]
["D","INCRA",null,null,null,2E-3,{"$f":"$G$32*F40","v":0}]
["E","Salário educação",null,null,null,2.5000000000000001E-2,{"$f":"$G$32*0.025","v":0}]
["F","FGTS",null,null,null,0.08,{"$f":"$G$32*F42","v":0}]
["G","RAT (Risco Ambiental do Trabalho) x FAP (2,00)",null,null,null,0.03,{"$f":"$G$32*F43","v":0}]
["H","SEBRAE",null,null,null,6.0000000000000001E-3,{"$f":"$G$32*F44","v":0}]
["Valor Total dos encargos previdenciários e FGTS: ",null,null,null,null,{"$f":"SUM(F37:F44)","v":0.36799999999999999},{"$f":"SUM(G37:G44)","v":0}]
[]
["Grupo 2.2","13º Salário e Afastamentos",null,null,null,"%","Valor (R$)"]
["A","13º Salário",null,null,null,8.3330000000000001E-2,{"$f":"SUM($G$32*F48)","v":0}]
["B","Férias",null,null,null,8.3299999999999999E-2,{"$f":"G32*F49","v":0}]
["C","Adicional de férias (1/3)",null,null,null,{"$f":"1/3/12","v":2.7779999999999999E-2},{"$f":"SUM($G$32*F50)","v":0}]
["D","Aviso prévio trabalhado *(1)",null,null,null,{"$f":"7/30/12","v":1.9439999999999999E-2},{"$f":"(G32)*F51","v":0}]
["E","Ausência por doença *(2)",null,null,null,{"$f":"5/30/12","v":1.389E-2},{"$f":"G32*F52","v":0}]
["F","Licença Paternidade *(3)",null,null,null,{"$f":"5/30/12*0.015","v":2.1000000000000001E-4},{"$f":"G32*F53","v":0}]
["G","Ausências Legais *(4)",null,null,null,{"$f":"1/30/12","v":2.7799999999999999E-3},{"$f":"G32*F54","v":0}]
["H","Ausência por acidente de trabalho *(5)",null,null,null,{"$f":"15/30/12*0.08","v":3.3300000000000001E-3},{"$f":"G32*F55","v":0}]
["J","Outros (especificar)",null,null,null,null,{"$f":"G32*F56","v":0}]
[null,"Subtotal: ",null,null,null,{"$f":"SUM(F48:F56)","v":0.23405999999999999},{"$f":"SUM($G$32*F57)","v":0}]
["K","Incidência do grupo 2.1 sobre o grupo 2.2",null,null,null,{"$f":"F45*F57","v":8.6129999999999998E-2},{"$f":"F58*G32","v":0}]
["Valor total do 13º Salário e Afastamentos: ",null,null,null,null,{"$f":"SUM(F57:F58)","v":0.32018999999999997},{"$f":"G57+G58","v":0}]
[]
["Grupo 2.3","Afastamento Maternidade ",null,null,null,"%","Valor (R$)"]
["A","Afastamento Maternidade *(6)",null,null,null,{"$f":"4/12*0.02","v":6.6699999999999997E-3},{"$f":"G32*F62","v":0}]
["B","Férias sobre licença maternidade *(7)",null,null,null,{"$f":"0.1111*0.02*4/12","v":7.3999999999999999E-4},{"$f":"G32*F63","v":0}]
[null,"Subtotal: ",null,null,null,{"$f":"SUM(F62:F63)","v":7.4099999999999999E-3},{"$f":"SUM($G$32*F64)","v":0}]
["C","Incidência do grupo 2.1 sobre o grupo 2.3",null,null,null,{"$f":"F64*F45","v":2.7299999999999998E-3},{"$f":"F65*G32","v":0}]
["Valor total do Afastamento Maternidade: ",null,null,null,null,{"$f":"SUM(F64:F65)","v":1.014E-2},{"$f":"SUM(G64:G65)","v":0}]
[]
["Grupo 2.4","Provisão para Rescisão",null,null,null,"%","Valor (R$)"]
["A","Aviso Prévio Indenizado *(8)",null,null,null,{"$f":"0.05*1/12","v":4.1700000000000001E-3},{"$f":"($G$32)*F69","v":0}]
["B","Indenização Adicional *(9)",null,null,null,{"$f":"0.02*1/12","v":1.67E-3},{"$f":"($G$32)*F70","v":0}]
["C","Indenização (rescisão sem justa causa - multa de 40% do FGTS) *(10)",null,null,null,{"$f":"1*0.4*0.08","v":3.2000000000000001E-2},{"$f":"($G$32)*F71","v":0}]
["D","Indenização (rescisão sem justa causa - contribuição de 10% do FGTS) *(11)",null,null,null,{"$f":"1*0.1*0.08","v":8.0000000000000002E-3},{"$f":"($G$32)*F72","v":0}]
["Subtotal: ",null,null,null,null,{"$f":"SUM(F69:F72)","v":4.5839999999999999E-2},{"$f":"SUM(G69:G72)","v":0}]
["E","Incidência do FGTS sobre o aviso prévio indenizado",null,null,null,{"$f":"F42*F69","v":3.3E-4},{"$f":"F74*$G$32","v":0}]
["F","Incidência do FGTS sobre o período médio de afastamento superior a 15 dias motivado por acidente de trabalho",null,null,null,{"$f":"F42*F55","v":2.7E-4},{"$f":"F75*$G$32","v":0}]
["Valor total da Provisão para Rescisão: ",null,null,null,null,{"$f":"SUM(F73:F75)","v":4.6440000000000002E-2},{"$f":"SUM(G73:G75)","v":0}]
[]
["QUADRO RESUMO - ENCARGOS SOCIAIS E TRABALHISTAS"]
[2,"Encargos Sociais e Trabalhistas",null,null,null,"%","Valor (R$)"]
["2.1","Encargos Previdenciários e FGTS",null,null,null,{"$f":"F45","v":0.36799999999999999},{"$f":"G45","v":0}]
["2.2","13º Salário e Afastamentos",null,null,null,{"$f":"F59","v":0.32018999999999997},{"$f":"G59","v":0}]
["2.3","Afastamento Maternidade",null,null,null,{"$f":"F66","v":1.014E-2},{"$f":"G66","v":0}]
["2.4","Provisão para Rescisão",null,null,null,{"$f":"F76","v":4.6440000000000002E-2},{"$f":"G76","v":0}]
["Valor Total de encargos sociais e trabalhistas: ",null,null,null,null,{"$f":"SUM(F80:F83)","v":0.74477000000000004},{"$f":"SUM(G80:G83)","v":0}]
[]
["MÓDULO 3 - BENEFÍCIOS MENSAIS E DIÁRIOS"]
[3,"Benefícios Mensais e Diários (deduzida parcela do empregado)",null,null,null,"%","Valor (R$)"]
["A","Transporte"]
["B","Desconto legal sobre transporte (máximo de 6% sobre o salário base)",null,null,null,null,null,"(inserir valor negativo)"]
["C","Auxílio alimentação "]
["D","Assistência médica e Familiar"]
["E","Auxílio creche"]
["F","Seguro de vida "]
["G","Auxílio Funeral"]
["H","Cesta Básica"]
["I","Assistência odontológica"]
["J","Outros (especificar)"]
["Valor Total de benefícios mensais e diários: ",null,null,null,null,null,{"$f":"SUM(G88:G97)","v":0}]
[]
["MÓDULO 4 - INSUMOS DIVERSOS"]
[4,"Insumos Diversos",null,null,null,"%","Valor (R$)"]
["A","Uniformes"]
["B","EPIs"]
["C","Materiais"]
["D","Equipamentos (ponto eletrônico, outros)"]
["D","Aparelho celular"]
["F","Franquia de telefonia celular"]
["G","Outros (especificar)"]
["Valor Total de insumos diversos: ",null,null,null,null,null,{"$f":"SUM(G102:G108)","v":0}]
[]
["VALOR TOTAL DE REMUNERAÇÃO + ENCARGOS SOCIAIS + BENEFÍCIOS + INSUMOS",null,null,null,null,null,{"$f":"G32+G84+G98+G109","v":0}]
[]
["MÓDULO 5 - BONIFICAÇÃO E OUTRAS DESPESAS"]
[5,"Bonificações e outras despesas",null,null,null,"%","Valor (R$)"]
["A","LDI - Lucro e Despesas Indiretas",null,null,null,null,{"$f":"F115*$G$111","v":0}]
["B","Despesas Administrativas / Operacionais",null,null,null,null,{"$f":"F116*$G$111","v":0}]
["C","Outras despesas (especificar)",null,null,null,null,{"$f":"F117*$G$111","v":0}]
["Valor Total de bonificações e outras despesas: ",null,null,null,null,{"$f":"SUM(F115:F117)","v":0},{"$f":"SUM(G115:G117)","v":0}]
[]
["MÓDULO 6 - TRIBUTAÇÃO SOBRE O FATURAMENTO"]
[6,"Tributos",null,null,null,"%","Valor (R$)"]
["A","ISS",null,null,null,null,{"$f":"($G$111+$G$118)/(1-$F$125)*F122","v":0}]
["B","PIS",null,null,null,null,{"$f":"($G$111+$G$118)/(1-$F$125)*F123","v":0}]
["C","COFINS",null,null,null,null,{"$f":"($G$111+$G$118)/(1-$F$125)*F124","v":0}]
["Valor Total dos tributos: ",null,null,null,null,{"$f":"SUM(F122:F124)","v":0},{"$f":"SUM(G122:G124)","v":0}]
[]
["VALOR MENSAL TOTAL POR EMPREGADO",null,null,null,null,null,{"$f":"G111+G118+G125","v":0}]
[]
["7 - PREVISÃO DE ADICIONAL NOTURNO E DE HORAS EXTRAS"]
["Benefício",null,"Previsão (hs)","Adicional","Valor Base","Valor com Encargos ","Valor com Impostos"]
[]
["A - Hora extra (dias úteis)",null,44,0.5,{"$f":"C132*(D132+1)*$G$32/220","v":0},{"$f":"E132*(1+$F$84)","v":0},{"$f":"F132/(1-$F$125)","v":0}]
["B - Hora extra (repouso/feriado)",null,6,1,{"$f":"C133*(D133+1)/220*$G$32","v":0},{"$f":"E133*(1+$F$84)","v":0},{"$f":"F133/(1-$F$125)","v":0},null,null,"http://www.portaleducacao.com.br/contabilidade/artigos/51238/calculo-hora-extra-noturna"]
["C - Hora extra noturna",null,4,0.2,{"$f":"C134*$G$32/220*(1+D132)*(1+D134)*(1/52.5*60)","v":0},{"$f":"E134*(1+$F$84)","v":0},{"$f":"F134/(1-$F$125)","v":0}]
["Valor Total de Adicional Noturno e de Horas Extras: ",null,null,null,null,null,{"$f":"SUM(G132:G134)","v":0}]
[]
["QUADRO RESUMO DO VALOR MENSAL DO SERVIÇO"]
["ITEM","DESCRIÇÃO",null,null,"QUANT. DE EMPREGADO PARA O SERVIÇO","VALOR PROPOSTO POR EMPREGADO","VALOR TOTAL DO SERVIÇO"]
[null,null,null,null,null,{"$f":"G127","v":0},{"$f":"F139*E139","v":0},"*Valor Mensal sem horas extras"]
["VALOR DO SERVIÇO ANUAL",null,null,null,null,null,{"$f":"G139*12","v":0}]
[]
["VALOR TOTAL CONTRATUAL PREVISTO DO SERVIÇO COM HORAS EXTRAS E NOTURNAS",null,null,null,null,null,{"$f":"(G135+G140)*17/12","v":0},"*VALOR APROXIMADO PARA OS 17 MESES PREVISTOS (Do dia 29 de Setembro até o encerramento do contrato)"]
[]
[" *(1) Redução de 7 dias ou de 2h por dia. (Percentual relativo a contrato de 12 meses"]
["*(2) Estimativa de 5 dias de licença por ano"]
["*(3) Estimativa de 1,5% dos funcionários usufruindo 5 dias de licença por ano"]
["*(4) Estimativa de 1 ausência por ano"]
["*(5) Estimativa de 1 licença de 15 dias por ano para 8% dos funcionários"]
["*(6) Estimativa de 2% dos funcionários usufruindo de 4 meses de licença por ano"]
["*(7) Estimativa de 2% dos funcionários usufruindo de 4 meses de licença por ano"]
[" *(8) Estimativa de que 5% dos funcionários serão substituídos em um ano."]
[" *(9) Estimativa de que 2% dos funcionários serão demitidos com indenização adicional."]
[" *(10) Multa de 40% do FGTS em relação aos trabalhadores contratados."]
[" *(11) Contribuição de 10% do FGTS em relação aos trabalhadores contratados."]

{"sheet":"V- Recepção I","index":5,"n_rows":154,"n_cols":10,"rows_kept":154,"cut":false,"hidden":false,"merged":[[0,0,0,6],[1,0,1,6],[2,0,2,6],[3,5,3,6],[4,0,4,6],[5,0,5,6],[8,1,8,4],[8,5,8,6],[9,1,9,4],[9,5,9,6],[10,1,10,4],[10,5,10,6],[6,1,6,4],[6,5,6,6],[3,0,3,2],[3,3,3,4],[7,1,7,4],[7,5,7,6],[17,1,17,4],[17,5,17,6],[19,1,19,4],[19,5,19,6],[15,1,15,4],[15,5,15,6],[16,1,16,4],[16,5,16,6],[11,0,11,6],[12,0,12,6],[13,1,13,4],[13,5,13,6],[14,1,14,4],[14,5,14,6],[18,1,18,4],[18,5,18,6],[24,1,24,4],[24,5,24,6],[25,0,25,6],[26,0,26,6],[27,1,27,4],[28,1,28,4],[20,1,20,4],[20,5,20,6],[21,0,21,6],[22,1,22,4],[22,5,22,6],[23,1,23,4],[23,5,23,6],[35,1,35,4],[36,1,36,4],[37,1,37,4],[38,1,38,4],[39,1,39,4],[40,1,40,4],[29,1,29,4],[30,0,30,4],[31,0,31,5],[32,0,32,6],[33,0,33,6],[34,0,34,6],[47,1,47,4],[48,1,48,4],[49,1,49,4],[50,1,50,4],[51,1,51,4],[52,1,52,4],[41,1,41,4],[42,1,42,4],[43,1,43,4],[44,0,44,4],[45,0,45,6],[46,1,46,4],[59,0,59,6],[60,1,60,4],[61,1,61,4],[62,1,62,4],[63,1,63,4],[64,1,64,4],[53,1,53,4],[54,1,54,4],[55,1,55,4],[56,1,56,4],[57,1,57,4],[58,0,58,4],[70,1,70,4],[71,1,71,4],[72,0,72,4],[73,1,73,4],[74,1,74,4],[75,0,75,4],[65,0,65,4],[62,7,63,7],[66,0,66,6],[67,1,67,4],[68,1,68,4],[69,1,69,4],[82,1,82,4],[83,0,83,4],[84,0,84,6],[85,0,85,6],[86,1,86,4],[87,1,87,4],[76,0,76,6],[77,0,77,6],[78,1,78,4],[79,1,79,4],[80,1,80,4],[81,1,81,4],[94,1,94,4],[95,1,95,4],[96,1,96,4],[97,0,97,5],[98,0,98,6],[99,0,99,6],[88,1,88,4],[89,1,89,4],[90,1,90,4],[91,1,91,4],[92,1,92,4],[93,1,93,4],[106,1,106,4],[107,1,107,4],[108,0,108,5],[109,0,109,6],[110,0,110,5],[111,0,111,6],[100,1,100,4],[101,1,101,4],[102,1,102,4],[103,1,103,4],[104,1,104,4],[105,1,105,4],[118,0,118,6],[119,0,119,6],[120,1,120,4],[121,1,121,4],[122,1,122,4],[123,1,123,4],[112,0,112,6],[113,1,113,4],[114,1,114,4],[115,1,115,4],[116,1,116,4],[117,0,117,4],[124,0,124,4],[125,0,125,6],[126,0,126,5],[127,0,127,6],[136,0,136,6],[128,0,128,6],[129,0,130,1],[129,2,130,2],[129,3,130,3],[129,4,130,4],[141,0,141,5],[131,0,131,1],[132,0,132,1],[133,0,133,1],[134,0,134,5],[135,0,135,6],[129,5,130,5],[129,6,130,6],[137,1,137,3],[138,1,138,3],[139,0,139,5],[140,0,140,6]]}
["PLANILHA DE CUSTOS E FORMAÇÃO DE PREÇOS"]
["PRESTAÇÃO DE SERVIÇOS DE RECEPÇÃO I"]
[{"$f":"'I - Motorista'!A3:G3","v":"Razão Social:"},null,null,null,null,null,null,"*Preenchimento automático"]
[{"$f":"'I - Motorista'!A4:D4","v":"CNPJ:"},null,null,{"$f":"'I - Motorista'!E4","v":"Pregão n°:"},null,{"$f":"'I - Motorista'!F4:G4","v":"Data:"},null,"*Preenchimento automático"]
[]
["DISCRIMINAÇÃO DOS SERVIÇOS"]
["A","Data de apresentação da proposta (dia/mês/ano) "]
["B","Município/UF "]
["C","Ano Acordo, Convenção ou Sentença Normativa em Dissídio Coletivo"]
["D","No. Registro acordo convenção coletiva"]
["E","Nº de meses de execução contratual",null,null,null,"24 meses"]
[]
["IDENTIFICAÇÃO DO SERVIÇO"]
["Unidade","Tipo de Serviço",null,null,null,"Quantidade a contratar"]
["Postos","Motorista",null,null,null,"-"]
["Postos","Copeiro",null,null,null,"-"]
["Postos","Limpeza I",null,null,null,"-"]
["Postos","Limpeza II",null,null,null,"-"]
["Postos","Recepcionista I",null,null,null,"-"]
["Postos","Recepcionista II",null,null,null,"-"]
["Postos","Auxiliar de Manutenção Predial",null,null,null,"-"]
["DADOS COMPLEMENTARES PARA CUSTOS REFERENTES À MÃO DE OBRA"]
["A","Salário Normativo da categoria Profissional Vigente",null,null,null,null,null,"Poderá ser considerado o salário proporcional à carga horária"]
["B","Categoria profissional"]
["C","Data-base da categoria"]
[]
["MÓDULO 1 - COMPOSIÇÃO DA REMUNERAÇÃO"]
[1,"Composição da Remuneração:",null,null,null,"%","Valor (R$)"]
["A","Salário Base"]
["B","Adicionais (especificar)"]
["*Diárias, adicionais de horas extras e noturno extra em planilha à parte"]
["Valor Total da Remuneração: ",null,null,null,null,null,{"$f":"SUM(G29:G31)","v":0}]
[]
["MÓDULO 2 - ENCARGOS SOCIAIS E TRABALHISTAS INCIDENTES SOBRE A REMUNERAÇÃO"]
[]
["Grupo 2.1","Encargos Previdenciários e FGTS",null,null,null,"%","Valor (R$)"]
["A","INSS",null,null,null,0.2,{"$f":"$G$32*F37","v":0}]
["B","SESI ou SESC",null,null,null,1.4999999999999999E-2,{"$f":"$G$32*F38","v":0}]
["C","SENAI ou SENAC",null,null,null,0.01,{"$f":"$G$32*F39","v":0}]
["D","INCRA",null,null,null,2E-3,{"$f":"$G$32*F40","v":0}]
["E","Salário educação",null,null,null,2.5000000000000001E-2,{"$f":"$G$32*0.025","v":0}]
["F","FGTS",null,null,null,0.08,{"$f":"$G$32*F42","v":0}]
["G","RAT (Risco Ambiental do Trabalho) x FAP (2,00)",null,null,null,0.03,{"$f":"$G$32*F43","v":0}]
["H","SEBRAE",null,null,null,6.0000000000000001E-3,{"$f":"$G$32*F44","v":0}]
["Valor Total dos encargos previdenciários e FGTS: ",null,null,null,null,{"$f":"SUM(F37:F44)","v":0.36799999999999999},{"$f":"SUM(G37:G44)","v":0}]
[]
["Grupo 2.2","13º Salário e Afastamentos",null,null,null,"%","Valor (R$)"]
["A","13º Salário",null,null,null,8.3330000000000001E-2,{"$f":"SUM($G$32*F48)","v":0}]
["B","Férias",null,null,null,8.3299999999999999E-2,{"$f":"G32*F49","v":0}]
["C","Adicional de férias (1/3)",null,null,null,{"$f":"1/3/12","v":2.7779999999999999E-2},{"$f":"SUM($G$32*F50)","v":0}]
["D","Aviso prévio trabalhado *(1)",null,null,null,{"$f":"7/30/12","v":1.9439999999999999E-2},{"$f":"(G32)*F51","v":0}]
["E","Ausência por doença *(2)",null,null,null,{"$f":"5/30/12","v":1.389E-2},{"$f":"G32*F52","v":0}]
["F","Licença Paternidade *(3)",null,null,null,{"$f":"5/30/12*0.015","v":2.1000000000000001E-4},{"$f":"G32*F53","v":0}]
["G","Ausências Legais *(4)",null,null,null,{"$f":"1/30/12","v":2.7799999999999999E-3},{"$f":"G32*F54","v":0}]
["H","Ausência por acidente de trabalho *(5)",null,null,null,{"$f":"15/30/12*0.08","v":3.3300000000000001E-3},{"$f":"G32*F55","v":0}]
["J","Outros (especificar)",null,null,null,null,{"$f":"G32*F56","v":0}]
[null,"Subtotal: ",null,null,null,{"$f":"SUM(F48:F56)","v":0.23405999999999999},{"$f":"SUM($G$32*F57)","v":0}]
["K","Incidência do grupo 2.1 sobre o grupo 2.2",null,null,null,{"$f":"F45*F57","v":8.6129999999999998E-2},{"$f":"F58*G32","v":0}]
["Valor total do 13º Salário e Afastamentos: ",null,null,null,null,{"$f":"SUM(F57:F58)","v":0.32018999999999997},{"$f":"G57+G58","v":0}]
[]
["Grupo 2.3","Afastamento Maternidade ",null,null,null,"%","Valor (R$)"]
["A","Afastamento Maternidade *(6)",null,null,null,{"$f":"4/12*0.02","v":6.6699999999999997E-3},{"$f":"G32*F62","v":0}]
["B","Férias sobre licença maternidade *(7)",null,null,null,{"$f":"0.1111*0.02*4/12","v":7.3999999999999999E-4},{"$f":"G32*F63","v":0}]
[null,"Subtotal: ",null,null,null,{"$f":"SUM(F62:F63)","v":7.4099999999999999E-3},{"$f":"SUM($G$32*F64)","v":0}]
["C","Incidência do grupo 2.1 sobre o grupo 2.3",null,null,null,{"$f":"F64*F45","v":2.7299999999999998E-3},{"$f":"F65*G32","v":0}]
["Valor total do Afastamento Maternidade: ",null,null,null,null,{"$f":"SUM(F64:F65)","v":1.014E-2},{"$f":"SUM(G64:G65)","v":0}]
[]
["Grupo 2.4","Provisão para Rescisão",null,null,null,"%","Valor (R$)"]
["A","Aviso Prévio Indenizado *(8)",null,null,null,{"$f":"0.05*1/12","v":4.1700000000000001E-3},{"$f":"($G$32)*F69","v":0}]
["B","Indenização Adicional *(9)",null,null,null,{"$f":"0.02*1/12","v":1.67E-3},{"$f":"($G$32)*F70","v":0}]
["C","Indenização (rescisão sem justa causa - multa de 40% do FGTS) *(10)",null,null,null,{"$f":"1*0.4*0.08","v":3.2000000000000001E-2},{"$f":"($G$32)*F71","v":0}]
["D","Indenização (rescisão sem justa causa - contribuição de 10% do FGTS) *(11)",null,null,null,{"$f":"1*0.1*0.08","v":8.0000000000000002E-3},{"$f":"($G$32)*F72","v":0}]
["Subtotal: ",null,null,null,null,{"$f":"SUM(F69:F72)","v":4.5839999999999999E-2},{"$f":"SUM(G69:G72)","v":0}]
["E","Incidência do FGTS sobre o aviso prévio indenizado",null,null,null,{"$f":"F42*F69","v":3.3E-4},{"$f":"F74*$G$32","v":0}]
["F","Incidência do FGTS sobre o período médio de afastamento superior a 15 dias motivado por acidente de trabalho",null,null,null,{"$f":"F42*F55","v":2.7E-4},{"$f":"F75*$G$32","v":0}]
["Valor total da Provisão para Rescisão: ",null,null,null,null,{"$f":"SUM(F73:F75)","v":4.6440000000000002E-2},{"$f":"SUM(G73:G75)","v":0}]
[]
["QUADRO RESUMO - ENCARGOS SOCIAIS E TRABALHISTAS"]
[2,"Encargos Sociais e Trabalhistas",null,null,null,"%","Valor (R$)"]
["2.1","Encargos Previdenciários e FGTS",null,null,null,{"$f":"F45","v":0.36799999999999999},{"$f":"G45","v":0}]
["2.2","13º Salário e Afastamentos",null,null,null,{"$f":"F59","v":0.32018999999999997},{"$f":"G59","v":0}]
["2.3","Afastamento Maternidade",null,null,null,{"$f":"F66","v":1.014E-2},{"$f":"G66","v":0}]
["2.4","Provisão para Rescisão",null,null,null,{"$f":"F76","v":4.6440000000000002E-2},{"$f":"G76","v":0}]
["Valor Total de encargos sociais e trabalhistas: ",null,null,null,null,{"$f":"SUM(F80:F83)","v":0.74477000000000004},{"$f":"SUM(G80:G83)","v":0}]
[]
["MÓDULO 3 - BENEFÍCIOS MENSAIS E DIÁRIOS"]
[3,"Benefícios Mensais e Diários (deduzida parcela do empregado)",null,null,null,"%","Valor (R$)"]
["A","Transporte"]
["B","Desconto legal sobre transporte (máximo de 6% sobre o salário base)",null,null,null,null,null,"(inserir valor negativo)"]
["C","Auxílio alimentação "]
["D","Assistência médica e Familiar"]
["E","Auxílio creche"]
["F","Seguro de vida "]
["G","Auxílio Funeral"]
["H","Cesta Básica"]
["I","Assistência odontológica"]
["J","Outros (especificar)"]
["Valor Total de benefícios mensais e diários: ",null,null,null,null,null,{"$f":"SUM(G88:G97)","v":0}]
[]
["MÓDULO 4 - INSUMOS DIVERSOS"]
[4,"Insumos Diversos",null,null,null,"%","Valor (R$)"]
["A","Uniformes"]
["B","EPIs"]
["C","Materiais"]
["D","Equipamentos (ponto eletrônico, outros)"]
["D","Aparelho celular"]
["F","Franquia de telefonia celular"]
["G","Outros (especificar)"]
["Valor Total de insumos diversos: ",null,null,null,null,null,{"$f":"SUM(G102:G108)","v":0}]
[]
["VALOR TOTAL DE REMUNERAÇÃO + ENCARGOS SOCIAIS + BENEFÍCIOS + INSUMOS",null,null,null,null,null,{"$f":"G32+G84+G98+G109","v":0}]
[]
["MÓDULO 5 - BONIFICAÇÃO E OUTRAS DESPESAS"]
[5,"Bonificações e outras despesas",null,null,null,"%","Valor (R$)"]
["A","LDI - Lucro e Despesas Indiretas",null,null,null,null,{"$f":"F115*$G$111","v":0}]
["B","Despesas Administrativas / Operacionais",null,null,null,null,{"$f":"F116*$G$111","v":0}]
["C","Outras despesas (especificar)",null,null,null,null,{"$f":"F117*$G$111","v":0}]
["Valor Total de bonificações e outras despesas: ",null,null,null,null,{"$f":"SUM(F115:F117)","v":0},{"$f":"SUM(G115:G117)","v":0}]
[]
["MÓDULO 6 - TRIBUTAÇÃO SOBRE O FATURAMENTO"]
[6,"Tributos",null,null,null,"%","Valor (R$)"]
["A","ISS",null,null,null,null,{"$f":"($G$111+$G$118)/(1-$F$125)*F122","v":0}]
["B","PIS",null,null,null,null,{"$f":"($G$111+$G$118)/(1-$F$125)*F123","v":0}]
["C","COFINS",null,null,null,null,{"$f":"($G$111+$G$118)/(1-$F$125)*F124","v":0}]
["Valor Total dos tributos: ",null,null,null,null,{"$f":"SUM(F122:F124)","v":0},{"$f":"SUM(G122:G124)","v":0}]
[]
["VALOR MENSAL TOTAL POR EMPREGADO",null,null,null,null,null,{"$f":"G111+G118+G125","v":0}]
[]
["7 - PREVISÃO DE ADICIONAL NOTURNO E DE HORAS EXTRAS"]
["Benefício",null,"Previsão (hs)","Adicional","Valor Base","Valor com Encargos ","Valor com Impostos"]
[null,null,null,null,null,null,null,null,null,"http://www.portaleducacao.com.br/contabilidade/artigos/51238/calculo-hora-extra-noturna"]
["A - Hora extra (dias úteis)",null,230,0.5,{"$f":"C132*(D132+1)*$G$32/180","v":0},{"$f":"E132*(1+$F$84)","v":0},{"$f":"F132/(1-$F$125)","v":0}]
["B - Hora extra (repouso/feriado)",null,36,1,{"$f":"C133*(D133+1)/180*$G$32","v":0},{"$f":"E133*(1+$F$84)","v":0},{"$f":"F133/(1-$F$125)","v":0}]
["C - Hora extra noturna",null,24,0.2,{"$f":"C134*$G$32/180*(1+D132)*(1+D134)*(1/52.5*60)","v":0},{"$f":"E134*(1+$F$84)","v":0},{"$f":"F134/(1-$F$125)","v":0}]
["Valor Total de Adicional Noturno e de Horas Extras: ",null,null,null,null,null,{"$f":"SUM(G132:G134)","v":0}]
[]
["QUADRO RESUMO DO VALOR MENSAL DO SERVIÇO"]
["ITEM","DESCRIÇÃO",null,null,"QUANT. DE EMPREGADO PARA O SERVIÇO","VALOR PROPOSTO POR EMPREGADO","VALOR TOTAL DO SERVIÇO"]
[null,null,null,null,"-",{"$f":"G127","v":0},{"$f":"F139*E139","v":{"$error":"#VALUE!"}},"*Valor Mensal sem horas extras"]
["VALOR DO SERVIÇO ANUAL",null,null,null,null,null,{"$f":"G139*12","v":{"$error":"#VALUE!"}}]
[]
["VALOR TOTAL BIENAL DO SERVIÇO COM HORAS EXTRAS E NOTURNAS",null,null,null,null,null,{"$f":"(G135+G140)*2","v":{"$error":"#VALUE!"}}]
[]
[" *(1) Redução de 7 dias ou de 2h por dia. (Percentual relativo a contrato de 12 meses"]
["*(2) Estimativa de 5 dias de licença por ano"]
["*(3) Estimativa de 1,5% dos funcionários usufruindo 5 dias de licença por ano"]
["*(4) Estimativa de 1 ausência por ano"]
["*(5) Estimativa de 1 licença de 15 dias por ano para 8% dos funcionários"]
["*(6) Estimativa de 2% dos funcionários usufruindo de 4 meses de licença por ano"]
["*(7) Estimativa de 2% dos funcionários usufruindo de 4 meses de licença por ano"]
[" *(8) Estimativa de que 5% dos funcionários serão substituídos em um ano."]
[" *(9) Estimativa de que 2% dos funcionários serão demitidos com indenização adicional."]
[" *(10) Multa de 40% do FGTS em relação aos trabalhadores contratados."]
[" *(11) Contribuição de 10% do FGTS em relação aos trabalhadores contratados."]

{"sheet":"V-Preposto","index":6,"n_rows":151,"n_cols":8,"rows_kept":151,"cut":false,"hidden":true,"merged":[[134,1,134,3],[135,1,135,3],[136,0,136,5],[137,0,137,6],[138,0,138,5],[128,0,128,1],[129,0,129,1],[130,0,130,1],[131,0,131,5],[132,0,132,6],[122,0,122,6],[123,0,123,5],[124,0,124,6],[133,0,133,6],[125,0,125,6],[126,0,127,1],[126,2,127,2],[126,3,127,3],[126,4,127,4],[126,5,127,5],[126,6,127,6],[113,1,113,4],[114,0,114,4],[115,0,115,6],[116,0,116,6],[117,1,117,4],[118,1,118,4],[119,1,119,4],[120,1,120,4],[121,0,121,4],[104,1,104,4],[105,0,105,5],[106,0,106,6],[107,0,107,5],[108,0,108,6],[109,0,109,6],[110,1,110,4],[111,1,111,4],[112,1,112,4],[95,0,95,6],[96,0,96,6],[97,1,97,4],[98,1,98,4],[99,1,99,4],[100,1,100,4],[101,1,101,4],[102,1,102,4],[103,1,103,4],[86,1,86,4],[87,1,87,4],[88,1,88,4],[89,1,89,4],[90,1,90,4],[91,1,91,4],[92,1,92,4],[93,1,93,4],[94,0,94,5],[77,1,77,4],[78,1,78,4],[79,1,79,4],[80,0,80,4],[81,0,81,6],[82,0,82,6],[83,1,83,4],[84,1,84,4],[85,1,85,4],[68,1,68,4],[69,0,69,4],[70,1,70,4],[71,1,71,4],[72,0,72,4],[73,0,73,6],[74,0,74,6],[75,1,75,4],[76,1,76,4],[60,1,60,4],[61,1,61,4],[62,0,62,4],[62,7,63,7],[63,0,63,6],[64,1,64,4],[65,1,65,4],[66,1,66,4],[67,1,67,4],[51,1,51,4],[52,1,52,4],[53,1,53,4],[54,1,54,4],[55,0,55,4],[56,0,56,6],[57,1,57,4],[58,1,58,4],[59,1,59,4],[42,0,42,6],[43,1,43,4],[44,1,44,4],[45,1,45,4],[46,1,46,4],[47,1,47,4],[48,1,48,4],[49,1,49,4],[50,1,50,4],[33,1,33,4],[34,1,34,4],[35,1,35,4],[36,1,36,4],[37,1,37,4],[38,1,38,4],[39,1,39,4],[40,1,40,4],[41,0,41,4],[24,1,24,4],[25,1,25,4],[26,1,26,4],[27,0,27,4],[28,0,28,5],[29,0,29,6],[30,0,30,6],[31,0,31,6],[32,1,32,4],[18,0,18,6],[19,1,19,4],[19,5,19,6],[20,1,20,4],[20,5,20,6],[21,1,21,4],[21,5,21,6],[22,0,22,6],[23,0,23,6],[13,1,13,4],[13,5,13,6],[14,1,14,4],[14,5,14,6],[15,1,15,4],[15,5,15,6],[16,1,16,4],[16,5,16,6],[17,1,17,4],[17,5,17,6],[0,0,0,6],[1,0,1,6],[2,0,2,6],[3,0,3,3],[3,5,3,6],[4,0,4,6],[11,0,11,6],[12,0,12,6],[5,0,5,6],[6,1,6,4],[6,5,6,6],[7,1,7,4],[7,5,7,6],[8,1,8,4],[8,5,8,6],[9,1,9,4],[9,5,9,6],[10,1,10,4],[10,5,10,6]]}
["PLANILHA DE CUSTOS E FORMAÇÃO DE PREÇOS"]
["PRESTAÇÃO DE SERVIÇOS DE COPEIRAGEM E CHOFERAGEM"]
["LOTE e DESCRIÇÃO:"]
["Processo nº: ",null,null,null,"Pregão n°:","Data:"]
[]
["DISCRIMINAÇÃO DOS SERVIÇOS"]
["A","Data de apresentação da proposta (dia/mês/ano) "]
["B","Município/UF "]
["C","Ano Acordo, Convenção ou Sentença Normativa em Dissídio Coletivo"]
["D","No. Registro acordo convenção coletiva"]
["E","Nº de meses de execução contratual",null,null,null,"12 meses"]
[]
["IDENTIFICAÇÃO DO SERVIÇO"]
["Unidade","Tipo de Serviço",null,null,null,"Quantidade a contratar"]
["Postos","Copeiragem",null,null,null,"-"]
["Postos","Choferagem",null,null,null,"-"]
["Postos","Preposto",null,null,null,1]
["Postos"]
["DADOS COMPLEMENTARES PARA CUSTOS REFERENTES À MÃO DE OBRA"]
["A","Salário Normativo da categoria Profissional Vigente"]
["B","Categoria profissional",null,null,null,"Motorista Executivo"]
["C","Data-base da categoria"]
[]
["MÓDULO 1 - COMPOSIÇÃO DA REMUNERAÇÃO"]
[1,"Composição da Remuneração:",null,null,null,"%","Valor (R$)"]
["A","Salário Base"]
["B","Adicionais (especificar)"]
["*Diárias, adicionais de horas extras e noturno em planilha à parte"]
["Valor Total da Remuneração: ",null,null,null,null,null,{"$f":"SUM(G26:G28)","v":0}]
[]
["MÓDULO 2 - ENCARGOS SOCIAIS E TRABALHISTAS INCIDENTES SOBRE A REMUNERAÇÃO"]
[]
["Grupo 2.1","Encargos Previdenciários e FGTS",null,null,null,"%","Valor (R$)"]
["A","INSS",null,null,null,0.2,{"$f":"$G$29*F34","v":0}]
["B","SESI ou SESC",null,null,null,1.4999999999999999E-2,{"$f":"$G$29*F35","v":0}]
["C","SENAI ou SENAC",null,null,null,0.01,{"$f":"$G$29*F36","v":0}]
["D","INCRA",null,null,null,2E-3,{"$f":"$G$29*F37","v":0}]
["E","Salário educação",null,null,null,2.5000000000000001E-2,{"$f":"$G$29*0.025","v":0}]
["F","FGTS",null,null,null,0.08,{"$f":"$G$29*F39","v":0}]
["G","RAT (Risco Ambiental do Trabalho) x FAP (2,00)",null,null,null,0.03,{"$f":"$G$29*F40","v":0}]
["H","SEBRAE",null,null,null,6.0000000000000001E-3,{"$f":"$G$29*F41","v":0}]
["Valor Total dos encargos previdenciários e FGTS: ",null,null,null,null,{"$f":"SUM(F34:F41)","v":0.36799999999999999},{"$f":"SUM(G34:G41)","v":0}]
[]
["Grupo 2.2","13º Salário e Afastamentos",null,null,null,"%","Valor (R$)"]
["A","13º Salário",null,null,null,8.3330000000000001E-2,{"$f":"SUM($G$29*F45)","v":0}]
["B","Férias",null,null,null,8.3299999999999999E-2,{"$f":"G29*F46","v":0}]
["C","Adicional de férias (1/3)",null,null,null,{"$f":"1/3/12","v":2.7779999999999999E-2},{"$f":"SUM($G$29*F47)","v":0}]
["D","Aviso prévio trabalhado *(1)",null,null,null,{"$f":"7/30/12","v":1.9439999999999999E-2},{"$f":"(G29)*F48","v":0}]
["E","Ausência por doença *(2)",null,null,null,{"$f":"5/30/12","v":1.389E-2},{"$f":"G29*F49","v":0}]
["F","Licença Paternidade *(3)",null,null,null,{"$f":"5/30/12*0.015","v":2.1000000000000001E-4},{"$f":"G29*F50","v":0}]
["G","Ausências Legais *(4)",null,null,null,{"$f":"1/30/12","v":2.7799999999999999E-3},{"$f":"G29*F51","v":0}]
["H","Ausência por acidente de trabalho *(5)",null,null,null,{"$f":"15/30/12*0.08","v":3.3300000000000001E-3},{"$f":"G29*F52","v":0}]
["J","Outros (especificar)",null,null,null,null,{"$f":"G29*F53","v":0}]
[null,"Subtotal: ",null,null,null,{"$f":"SUM(F45:F53)","v":0.23405999999999999},{"$f":"SUM($G$29*F54)","v":0}]
["K","Incidência do grupo 2.1 sobre o grupo 2.2",null,null,null,{"$f":"F42*F54","v":8.6129999999999998E-2},{"$f":"F55*G29","v":0}]
["Valor total do 13º Salário e Afastamentos: ",null,null,null,null,{"$f":"SUM(F54:F55)","v":0.32018999999999997},{"$f":"G54+G55","v":0}]
[]
["Grupo 2.3","Afastamento Maternidade ",null,null,null,"%","Valor (R$)"]
["A","Afastamento Maternidade *(6)",null,null,null,{"$f":"4/12*0.02","v":6.6699999999999997E-3},{"$f":"G29*F59","v":0}]
["B","Férias sobre licença maternidade *(7)",null,null,null,{"$f":"0.1111*0.02*4/12","v":7.3999999999999999E-4},{"$f":"G29*F60","v":0}]
[null,"Subtotal: ",null,null,null,{"$f":"SUM(F59:F60)","v":7.4099999999999999E-3},{"$f":"SUM($G$29*F61)","v":0}]
["C","Incidência do grupo 2.1 sobre o grupo 2.3",null,null,null,{"$f":"F61*F42","v":2.7299999999999998E-3},{"$f":"F62*G29","v":0}]
["Valor total do Afastamento Maternidade: ",null,null,null,null,{"$f":"SUM(F61:F62)","v":1.014E-2},{"$f":"SUM(G61:G62)","v":0}]
[]
["Grupo 2.4","Provisão para Rescisão",null,null,null,"%","Valor (R$)"]
["A","Aviso Prévio Indenizado *(8)",null,null,null,{"$f":"0.05*1/12","v":4.1700000000000001E-3},{"$f":"($G$29)*F66","v":0}]
["B","Indenização Adicional *(9)",null,null,null,{"$f":"0.02*1/12","v":1.67E-3},{"$f":"($G$29)*F67","v":0}]
["C","Indenização (rescisão sem justa causa - multa de 40% do FGTS) *(10)",null,null,null,{"$f":"1*0.4*0.08","v":3.2000000000000001E-2},{"$f":"($G$29)*F68","v":0}]
["D","Indenização (rescisão sem justa causa - contribuição de 10% do FGTS) *(11)",null,null,null,{"$f":"1*0.1*0.08","v":8.0000000000000002E-3},{"$f":"($G$29)*F69","v":0}]
["Subtotal: ",null,null,null,null,{"$f":"SUM(F66:F69)","v":4.5839999999999999E-2},{"$f":"SUM(G66:G69)","v":0}]
["E","Incidência do FGTS sobre o aviso prévio indenizado",null,null,null,{"$f":"F39*F66","v":3.3E-4},{"$f":"F71*$G$29","v":0}]
["F","Incidência do FGTS sobre o período médio de afastamento superior a 15 dias motivado por acidente de trabalho",null,null,null,{"$f":"F39*F52","v":2.7E-4},{"$f":"F72*$G$29","v":0}]
["Valor total da Provisão para Rescisão: ",null,null,null,null,{"$f":"SUM(F70:F72)","v":4.6440000000000002E-2},{"$f":"SUM(G70:G72)","v":0}]
[]
["QUADRO RESUMO - ENCARGOS SOCIAIS E TRABALHISTAS"]
[2,"Encargos Sociais e Trabalhistas",null,null,null,"%","Valor (R$)"]
["2.1","Encargos Previdenciários e FGTS",null,null,null,{"$f":"F42","v":0.36799999999999999},{"$f":"G42","v":0}]
["2.2","13º Salário e Afastamentos",null,null,null,{"$f":"F56","v":0.32018999999999997},{"$f":"G56","v":0}]
["2.3","Afastamento Maternidade",null,null,null,{"$f":"F63","v":1.014E-2},{"$f":"G63","v":0}]
["2.4","Provisão para Rescisão",null,null,null,{"$f":"F73","v":4.6440000000000002E-2},{"$f":"G73","v":0}]
["Valor Total de encargos sociais e trabalhistas: ",null,null,null,null,{"$f":"SUM(F77:F80)","v":0.74477000000000004},{"$f":"SUM(G77:G80)","v":0}]
[]
["MÓDULO 3 - BENEFÍCIOS MENSAIS E DIÁRIOS"]
[3,"Benefícios Mensais e Diários (deduzida parcela do empregado)",null,null,null,"%","Valor (R$)"]
["A","Transporte"]
["B","Desconto legal sobre transporte (máximo de 6% sobre o salário base)",null,null,null,null,null,"(inserir valor negativo)"]
["C","Auxílio alimentação "]
["D","Assistência médica e Familiar"]
["E","Auxílio creche"]
["F","Seguro de vida "]
["G","Auxílio Funeral"]
["H","Cesta Básica"]
["I","Assistência odontológica"]
["J","Outros (especificar)"]
["Valor Total de benefícios mensais e diários: ",null,null,null,null,null,{"$f":"SUM(G85:G94)","v":0}]
[]
["MÓDULO 4 - INSUMOS DIVERSOS"]
[4,"Insumos Diversos",null,null,null,"%","Valor (R$)"]
["A","Uniformes"]
["B","EPIs"]
["C","Materiais"]
["D","Equipamentos"]
["D","Aparelho celular"]
["F","Franquia de telefonia celular"]
["G","Outros (especificar)"]
["Valor Total de insumos diversos: ",null,null,null,null,null,{"$f":"SUM(G99:G105)","v":0}]
[]
["VALOR TOTAL DE REMUNERAÇÃO + ENCARGOS SOCIAIS + BENEFÍCIOS + INSUMOS",null,null,null,null,null,{"$f":"G29+G81+G95+G106","v":0}]
[]
["MÓDULO 5 - BONIFICAÇÃO E OUTRAS DESPESAS"]
[5,"Bonificações e outras despesas",null,null,null,"%","Valor (R$)"]
["A","LDI - Lucro e Despesas Indiretas",null,null,null,null,{"$f":"F112*$G$108","v":0}]
["B","Despesas Administrativas / Operacionais",null,null,null,null,{"$f":"F113*$G$108","v":0}]
["C","Outras despesas (especificar)",null,null,null,null,{"$f":"F114*$G$108","v":0}]
["Valor Total de bonificações e outras despesas: ",null,null,null,null,{"$f":"SUM(F112:F114)","v":0},{"$f":"SUM(G112:G114)","v":0}]
[]
["MÓDULO 6 - TRIBUTAÇÃO SOBRE O FATURAMENTO"]
[6,"Tributos",null,null,null,"%","Valor (R$)"]
["A","ISS",null,null,null,0.02,{"$f":"($G$108+$G$115)/(1-$F$122)*F119","v":0}]
["B","PIS",null,null,null,6.4999999999999997E-3,{"$f":"($G$108+$G$115)/(1-$F$122)*F120","v":0}]
["C","COFINS",null,null,null,0.03,{"$f":"($G$108+$G$115)/(1-$F$122)*F121","v":0}]
["Valor Total dos tributos: ",null,null,null,null,{"$f":"SUM(F119:F121)","v":5.6500000000000002E-2},{"$f":"SUM(G119:G121)","v":0}]
[]
["VALOR MENSAL TOTAL POR EMPREGADO",null,null,null,null,null,{"$f":"G108+G115+G122","v":0}]
[]
["7 - PREVISÃO DE ADICIONAL NOTURNO E DE HORAS EXTRAS"]
["Benefício",null,"Previsão (hs)","Adicional","Valor Base","Valor com Encargos ","Valor com Impostos"]
[]
["A - Hora extra (dias úteis)",null,0,0.6,{"$f":"C129*(D129+1)*$G$29/220","v":0},{"$f":"E129*(1+$F$81)","v":0},{"$f":"F129*(1+$F$122)","v":0}]
["B - Hora extra (repouso/feriado)",null,0,1,{"$f":"C130*(D130+1)/220*$G$29","v":0},{"$f":"E130*(1+$F$81)","v":0},{"$f":"F130*(1+$F$122)","v":0}]
["C - Adicional noturno",null,0,0.3,{"$f":"C131*D131/220*$G$29","v":0},{"$f":"E131*(1+$F$81)","v":0},{"$f":"F131*(1+$F$122)","v":0}]
["Valor Total de Adicional Noturno e de Horas Extras: ",null,null,null,null,null,{"$f":"SUM(G129:G131)","v":0}]
[]
["QUADRO RESUMO DO VALOR MENSAL DO SERVIÇO"]
["LOTE","DESCRIÇÃO",null,null,"QUANT. DE EMPREGADO PARA O SERVIÇO","VALOR PROPOSTO POR EMPREGADO","VALOR TOTAL DO SERVIÇO (mensal)"]
[null,null,null,null,{"$f":"F17","v":1},{"$f":"G124","v":0},{"$f":"F136*E136","v":0}]
["VALOR ANUAL DO SERVIÇO",null,null,null,null,null,{"$f":"G136*12","v":0}]
[]
["VALOR TOTAL ANUAL DO SERVIÇO COM HORAS EXTRAS, NOTURNAS E DIÁRIAS",null,null,null,null,null,{"$f":"G132+G137","v":0}]
[]
[" *(1) Redução de 7 dias ou de 2h por dia. (Percentual relativo a contrato de 12 meses"]
["*(2) Estimativa de 5 dias de licença por ano"]
["*(3) Estimativa de 1,5% dos funcionários usufruindo 5 dias de licença por ano"]
["*(4) Estimativa de 1 ausência por ano"]
["*(5) Estimativa de 1 licença de 15 dias por ano para 8% dos funcionários"]
["*(6) Estimativa de 2% dos funcionários usufruindo de 4 meses de licença por ano"]
["*(7) Estimativa de 2% dos funcionários usufruindo de 4 meses de licença por ano"]
[" *(8) Estimativa de que 5% dos funcionários serão substituídos em um ano."]
[" *(9) Estimativa de que 2% dos funcionários serão demitidos com indenização adicional."]
[" *(10) Multa de 40% do FGTS em relação aos trabalhadores contratados."]
[" *(11) Contribuição de 10% do FGTS em relação aos trabalhadores contratados."]

{"sheet":"Impressão","index":7,"n_rows":710,"n_cols":8,"rows_kept":710,"cut":false,"hidden":true,"merged":[[503,1,503,3],[504,1,504,3],[505,0,505,5],[506,0,506,6],[507,0,507,5],[419,0,419,6],[420,0,420,6],[483,0,483,6],[484,0,484,6],[497,0,497,1],[498,0,498,1],[499,0,499,1],[500,0,500,5],[501,0,501,6],[502,0,502,6],[493,0,493,6],[494,0,494,6],[495,0,496,1],[495,2,496,2],[495,3,496,3],[495,4,496,4],[495,5,496,5],[495,6,496,6],[487,1,487,4],[463,1,463,4],[488,1,488,4],[489,1,489,4],[490,0,490,4],[491,0,491,6],[492,0,492,5],[476,1,476,4],[477,1,477,4],[478,0,478,4],[479,0,479,6],[486,1,486,4],[475,1,475,4],[464,1,464,4],[465,1,465,4],[466,1,466,4],[467,1,467,4],[468,1,468,4],[469,0,469,5],[470,0,470,6],[471,0,471,5],[472,0,472,6],[473,0,473,6],[474,1,474,4],[460,0,460,6],[461,1,461,4],[462,1,462,4],[442,1,442,4],[443,1,443,4],[444,0,444,4],[445,0,445,6],[446,0,446,6],[447,1,447,4],[448,1,448,4],[449,1,449,4],[450,1,450,4],[451,1,451,4],[452,1,452,4],[453,1,453,4],[454,1,454,4],[455,1,455,4],[456,1,456,4],[457,1,457,4],[458,0,458,5],[459,0,459,6],[433,0,433,4],[434,1,434,4],[435,1,435,4],[436,0,436,4],[437,0,437,6],[438,0,438,6],[439,1,439,4],[440,1,440,4],[441,1,441,4],[424,1,424,4],[425,1,425,4],[426,0,426,4],[427,0,427,6],[428,1,428,4],[429,1,429,4],[430,1,430,4],[431,1,431,4],[432,1,432,4],[412,0,412,4],[413,0,413,6],[403,1,403,4],[404,1,404,4],[405,1,405,4],[406,1,406,4],[407,1,407,4],[422,1,422,4],[423,1,423,4],[397,1,397,4],[398,0,398,4],[399,0,399,6],[400,1,400,4],[401,1,401,4],[402,1,402,4],[409,1,409,4],[410,1,410,4],[411,1,411,4],[543,0,543,6],[375,0,375,6],[376,1,376,4],[376,5,376,6],[377,1,377,4],[368,0,368,6],[369,0,369,6],[370,1,370,4],[370,5,370,6],[371,1,371,4],[390,1,390,4],[391,1,391,4],[392,1,392,4],[393,1,393,4],[382,1,382,4],[383,1,383,4],[384,0,384,4],[385,0,385,5],[386,0,386,6],[387,0,387,6],[394,1,394,4],[395,1,395,4],[396,1,396,4],[408,1,408,4],[364,1,364,4],[364,5,364,6],[388,0,388,6],[389,1,389,4],[365,1,365,4],[365,5,365,6],[366,1,366,4],[366,5,366,6],[367,1,367,4],[367,5,367,6],[381,1,381,4],[372,1,372,4],[372,5,372,6],[373,5,373,6],[374,1,374,4],[374,5,374,6],[371,5,371,6],[377,5,377,6],[378,1,378,4],[378,5,378,6],[379,0,379,6],[380,0,380,6],[356,0,356,6],[358,0,358,6],[359,0,359,6],[360,0,360,3],[360,5,360,6],[361,0,361,6],[362,0,362,6],[363,1,363,4],[363,5,363,6],[325,1,325,3],[326,1,326,3],[327,0,327,5],[328,0,328,6],[329,0,329,5],[322,0,322,5],[323,0,323,6],[324,0,324,6],[355,0,355,6],[319,0,319,1],[311,1,311,4],[312,0,312,4],[313,0,313,6],[314,0,314,5],[304,1,304,4],[305,0,305,4],[306,0,306,6],[321,0,321,1],[317,4,318,4],[317,5,318,5],[317,6,318,6],[315,0,315,6],[316,0,316,6],[317,0,318,1],[317,2,318,2],[317,3,318,3],[320,0,320,1],[310,1,310,4],[307,0,307,6],[308,1,308,4],[309,1,309,4],[300,0,300,6],[301,1,301,4],[302,1,302,4],[303,1,303,4],[280,0,280,6],[281,0,281,6],[282,1,282,4],[283,1,283,4],[284,1,284,4],[285,1,285,4],[286,1,286,4],[287,1,287,4],[288,1,288,4],[289,1,289,4],[290,0,290,5],[291,0,291,6],[297,0,297,6],[298,0,298,6],[292,0,292,5],[293,0,293,6],[271,1,271,4],[272,1,272,4],[273,1,273,4],[274,1,274,4],[275,1,275,4],[276,1,276,4],[277,1,277,4],[278,1,278,4],[279,0,279,5],[262,1,262,4],[263,1,263,4],[264,1,264,4],[265,0,265,4],[266,0,266,6],[267,0,267,6],[268,1,268,4],[269,1,269,4],[270,1,270,4],[253,1,253,4],[254,0,254,4],[255,1,255,4],[256,1,256,4],[257,0,257,4],[258,0,258,6],[259,0,259,6],[260,1,260,4],[261,1,261,4],[245,1,245,4],[246,1,246,4],[247,0,247,4],[247,7,248,7],[248,0,248,6],[249,1,249,4],[250,1,250,4],[251,1,251,4],[252,1,252,4],[231,1,231,4],[232,1,232,4],[233,1,233,4],[234,0,234,4],[235,0,235,6],[242,1,242,4],[236,0,236,6],[243,1,243,4],[244,1,244,4],[239,0,239,6],[240,0,240,6],[542,0,542,6],[197,0,197,6],[198,1,198,4],[198,5,198,6],[199,1,199,4],[218,1,218,4],[219,1,219,4],[220,0,220,4],[221,0,221,6],[210,0,210,6],[211,1,211,4],[212,1,212,4],[213,1,213,4],[214,1,214,4],[215,1,215,4],[222,1,222,4],[223,1,223,4],[224,1,224,4],[225,1,225,4],[226,1,226,4],[227,1,227,4],[228,1,228,4],[229,1,229,4],[230,1,230,4],[217,1,217,4],[190,0,190,6],[191,0,191,6],[192,1,192,4],[192,5,192,6],[193,1,193,4],[193,5,193,6],[199,5,199,6],[200,1,200,4],[200,5,200,6],[201,0,201,6],[202,0,202,6],[203,1,203,4],[204,1,204,4],[205,1,205,4],[206,0,206,4],[207,0,207,5],[208,0,208,6],[209,0,209,6],[194,1,194,4],[194,5,194,6],[195,5,195,6],[196,1,196,4],[196,5,196,6],[186,1,186,4],[186,5,186,6],[187,1,187,4],[187,5,187,6],[188,1,188,4],[188,5,188,6],[189,1,189,4],[189,5,189,6],[216,1,216,4],[1,0,1,6],[2,0,2,6],[5,1,5,5],[6,1,6,5],[7,1,7,5],[61,0,61,6],[183,0,183,6],[184,0,184,6],[185,1,185,4],[185,5,185,6],[145,0,145,1],[146,0,146,1],[147,0,147,1],[148,0,148,5],[149,0,149,6],[159,1,159,3],[160,0,160,5],[161,0,161,6],[162,0,162,5],[138,0,138,4],[139,0,139,6],[140,0,140,5],[141,0,141,6],[142,0,142,6],[143,0,144,1],[143,2,144,2],[143,3,144,3],[143,4,144,4],[143,5,144,5],[143,6,144,6],[156,0,156,6],[157,0,157,6],[158,1,158,3],[150,0,150,6],[151,0,152,1],[151,2,152,2],[151,3,152,3],[151,4,152,4],[151,5,152,5],[151,6,152,6],[153,0,153,1],[154,0,154,1],[155,0,155,5],[129,1,129,4],[130,1,130,4],[131,0,131,4],[132,0,132,6],[133,0,133,6],[134,1,134,4],[135,1,135,4],[136,1,136,4],[137,1,137,4],[117,1,117,4],[118,0,118,5],[124,0,124,5],[125,0,125,6],[121,0,121,6],[122,0,122,6],[126,0,126,6],[127,1,127,4],[128,1,128,4],[108,0,108,6],[109,0,109,6],[110,1,110,4],[111,1,111,4],[112,1,112,4],[113,1,113,4],[114,1,114,4],[115,1,115,4],[116,1,116,4],[99,1,99,4],[100,1,100,4],[101,1,101,4],[102,1,102,4],[103,1,103,4],[104,1,104,4],[105,1,105,4],[106,1,106,4],[107,0,107,5],[90,1,90,4],[91,1,91,4],[92,1,92,4],[93,0,93,4],[94,0,94,6],[95,0,95,6],[96,1,96,4],[97,1,97,4],[98,1,98,4],[81,1,81,4],[82,0,82,4],[83,1,83,4],[84,1,84,4],[85,0,85,4],[86,0,86,6],[87,0,87,6],[88,1,88,4],[89,1,89,4],[73,1,73,4],[74,1,74,4],[75,0,75,4],[75,7,76,7],[76,0,76,6],[77,1,77,4],[78,1,78,4],[79,1,79,4],[80,1,80,4],[65,1,65,4],[66,1,66,4],[67,1,67,4],[68,0,68,4],[62,0,62,6],[69,0,69,6],[70,1,70,4],[71,1,71,4],[72,1,72,4],[52,1,52,4],[53,1,53,4],[54,1,54,4],[55,1,55,4],[56,1,56,4],[57,1,57,4],[58,1,58,4],[59,1,59,4],[64,1,64,4],[43,1,43,4],[44,1,44,4],[45,1,45,4],[46,1,46,4],[47,1,47,4],[48,1,48,4],[49,1,49,4],[50,0,50,4],[51,0,51,6],[34,1,34,4],[35,1,35,4],[36,0,36,4],[37,0,37,5],[38,0,38,6],[39,0,39,6],[40,0,40,6],[41,1,41,4],[42,1,42,4],[10,0,10,6],[177,0,177,6],[178,0,178,6],[180,0,180,6],[181,0,181,6],[182,0,182,3],[182,5,182,6],[11,0,11,6],[12,0,12,3],[12,5,12,6],[24,1,24,4],[24,5,24,6],[26,1,26,4],[26,5,26,6],[20,0,20,6],[21,0,21,6],[22,1,22,4],[22,5,22,6],[23,1,23,4],[23,5,23,6],[27,0,27,6],[28,1,28,4],[28,5,28,6],[29,1,29,4],[25,1,25,4],[25,5,25,6],[545,0,545,6],[546,0,546,6],[547,0,547,3],[547,5,547,6],[13,0,13,6],[14,0,14,6],[15,1,15,4],[15,5,15,6],[16,1,16,4],[16,5,16,6],[17,1,17,4],[17,5,17,6],[18,1,18,4],[18,5,18,6],[19,1,19,4],[19,5,19,6],[29,5,29,6],[30,1,30,4],[30,5,30,6],[31,0,31,6],[32,0,32,6],[33,1,33,4],[552,1,552,4],[552,5,552,6],[553,1,553,4],[553,5,553,6],[554,1,554,4],[554,5,554,6],[548,0,548,6],[549,0,549,6],[550,1,550,4],[550,5,550,6],[551,1,551,4],[551,5,551,6],[559,1,559,4],[559,5,559,6],[560,5,560,6],[561,1,561,4],[561,5,561,6],[562,0,562,6],[555,0,555,6],[556,0,556,6],[557,1,557,4],[557,5,557,6],[558,1,558,4],[558,5,558,6],[566,0,566,6],[567,0,567,6],[568,1,568,4],[569,1,569,4],[570,1,570,4],[571,0,571,4],[563,1,563,4],[563,5,563,6],[564,1,564,4],[564,5,564,6],[565,1,565,4],[565,5,565,6],[578,1,578,4],[579,1,579,4],[580,1,580,4],[581,1,581,4],[582,1,582,4],[583,1,583,4],[572,0,572,5],[573,0,573,6],[574,0,574,6],[575,0,575,6],[576,1,576,4],[577,1,577,4],[590,1,590,4],[591,1,591,4],[592,1,592,4],[593,1,593,4],[594,1,594,4],[595,1,595,4],[584,1,584,4],[585,0,585,4],[586,0,586,6],[587,1,587,4],[588,1,588,4],[589,1,589,4],[607,0,607,6],[609,1,609,4],[610,1,610,4],[611,1,611,4],[612,1,612,4],[613,0,613,4],[596,1,596,4],[597,1,597,4],[598,1,598,4],[599,0,599,4],[600,0,600,6],[606,0,606,6],[620,0,620,4],[621,1,621,4],[622,1,622,4],[623,0,623,4],[624,0,624,6],[625,0,625,6],[614,0,614,6],[615,1,615,4],[616,1,616,4],[617,1,617,4],[618,1,618,4],[619,1,619,4],[632,0,632,6],[633,0,633,6],[634,1,634,4],[635,1,635,4],[636,1,636,4],[637,1,637,4],[626,1,626,4],[627,1,627,4],[628,1,628,4],[629,1,629,4],[630,1,630,4],[631,0,631,4],[644,1,644,4],[645,0,645,5],[646,0,646,6],[647,0,647,6],[648,1,648,4],[649,1,649,4],[638,1,638,4],[639,1,639,4],[640,1,640,4],[641,1,641,4],[642,1,642,4],[643,1,643,4],[656,0,656,5],[657,0,657,6],[658,0,658,5],[659,0,659,6],[660,0,660,6],[661,1,661,4],[650,1,650,4],[651,1,651,4],[652,1,652,4],[653,1,653,4],[654,1,654,4],[655,1,655,4],[671,0,671,6],[673,1,673,4],[674,1,674,4],[675,1,675,4],[676,1,676,4],[677,0,677,4],[662,1,662,4],[663,1,663,4],[664,1,664,4],[665,0,665,4],[666,0,666,6],[670,0,670,6],[678,0,678,6],[679,0,679,5],[680,0,680,6],[681,0,681,6],[682,0,683,1],[682,2,683,2],[682,3,683,3],[682,4,683,4],[682,5,683,5],[682,6,683,6],[692,0,692,5],[693,0,693,6],[684,0,684,1],[694,0,694,5],[709,0,709,5],[685,0,685,1],[686,0,686,1],[687,0,687,5],[688,0,688,6],[689,0,689,6],[690,1,690,3],[691,1,691,3]]}
[]
["CÂMARA MUNICIPAL DE POUSO ALEGRE"]
["Estado de Minas Gerais"]
[]
[]
[null,"ANEXO IV"]
[null,"PLANILHA DE CUSTOS E FORMAÇÃO DE PREÇOS"]
[null,"PREGÃO PRESENCIAL 09/2016"]
[]
[]
["PRESTAÇÃO DE SERVIÇOS DE CHOFERAGEM"]
["LOTE e DESCRIÇÃO:"]
["Processo nº: ",null,null,null,"Pregão n°:","Data:"]
[]
["DISCRIMINAÇÃO DOS SERVIÇOS"]
["A","Data de apresentação da proposta (dia/mês/ano) "]
["B","Município/UF "]
["C","Ano Acordo, Convenção ou Sentença Normativa em Dissídio Coletivo"]
["D","No. Registro acordo convenção coletiva"]
["E","Nº de meses de execução contratual",null,null,null,"12 meses"]
[]
["IDENTIFICAÇÃO DO SERVIÇO"]
["Unidade","Tipo de Serviço",null,null,null,"Quantidade a contratar"]
["Postos","Limpeza",null,null,null,"-"]
["Postos","Copeiragem",null,null,null,"-"]
["Postos","Choferagem",null,null,null,2]
["Postos","Vigia",null,null,null,"-"]
["DADOS COMPLEMENTARES PARA CUSTOS REFERENTES À MÃO DE OBRA"]
["A","Salário Normativo da categoria Profissional Vigente"]
["B","Categoria profissional",null,null,null,"Auxiliar de Limpeza"]
["C","Data-base da categoria"]
[]
["MÓDULO 1 - COMPOSIÇÃO DA REMUNERAÇÃO"]
[1,"Composição da Remuneração:",null,null,null,"%","Valor (R$)"]
["A","Salário Base"]
["B","Adicionais (especificar)"]
["*Diárias, adicionais de horas extras e noturno extra em planilha à parte"]
["Valor Total da Remuneração: ",null,null,null,null,null,{"$f":"SUM(G35:G37)","v":0}]
[]
["MÓDULO 2 - ENCARGOS SOCIAIS E TRABALHISTAS INCIDENTES SOBRE A REMUNERAÇÃO"]
[]
["Grupo 2.1","Encargos Previdenciários e FGTS",null,null,null,"%","Valor (R$)"]
["A","INSS",null,null,null,0.2,{"$f":"$G$38*F43","v":0}]
["B","SESI ou SESC",null,null,null,1.4999999999999999E-2,{"$f":"$G$38*F44","v":0}]
["C","SENAI ou SENAC",null,null,null,0.01,{"$f":"$G$38*F45","v":0}]
["D","INCRA",null,null,null,2E-3,{"$f":"$G$38*F46","v":0}]
["E","Salário educação",null,null,null,2.5000000000000001E-2,{"$f":"$G$38*0.025","v":0}]
["F","FGTS",null,null,null,0.08,{"$f":"$G$38*F48","v":0}]
["G","RAT (Risco Ambiental do Trabalho) x FAP (2,00)",null,null,null,3.15E-2,{"$f":"$G$38*F49","v":0}]
["H","SEBRAE",null,null,null,6.0000000000000001E-3,{"$f":"$G$38*F50","v":0}]
["Valor Total dos encargos previdenciários e FGTS: ",null,null,null,null,{"$f":"SUM(F43:F50)","v":0.3695},{"$f":"SUM(G43:G50)","v":0}]
[]
["Grupo 2.2","13º Salário e Afastamentos",null,null,null,"%","Valor (R$)"]
["A","13º Salário",null,null,null,8.3330000000000001E-2,{"$f":"SUM($G$38*F54)","v":0}]
["B","Férias",null,null,null,8.3299999999999999E-2,{"$f":"G38*F55","v":0}]
["C","Adicional de férias (1/3)",null,null,null,{"$f":"1/3/12","v":2.7779999999999999E-2},{"$f":"SUM($G$38*F56)","v":0}]
["D","Aviso prévio trabalhado *(1)",null,null,null,{"$f":"7/30/12","v":1.9439999999999999E-2},{"$f":"(G38)*F57","v":0}]
["E","Ausência por doença *(2)",null,null,null,{"$f":"5/30/12","v":1.389E-2},{"$f":"G38*F58","v":0}]
["F","Licença Paternidade *(3)",null,null,null,{"$f":"5/30/12*0.015","v":2.1000000000000001E-4},{"$f":"G38*F59","v":0}]
["G","Ausências Legais *(4)",null,null,null,{"$f":"1/30/12","v":2.7799999999999999E-3},{"$f":"G38*F60","v":0}]
[]
["CÂMARA MUNICIPAL DE POUSO ALEGRE"]
["Estado de Minas Gerais"]
[]
["H","Ausência por acidente de trabalho *(5)",null,null,null,{"$f":"15/30/12*0.08","v":3.3300000000000001E-3},{"$f":"G38*F65","v":0}]
["J","Outros (especificar)",null,null,null,null,{"$f":"G38*F66","v":0}]
[null,"Subtotal: ",null,null,null,{"$f":"SUM(F54:F66)","v":0.23405999999999999},{"$f":"SUM($G$38*F67)","v":0}]
["K","Incidência do grupo 2.1 sobre o grupo 2.2",null,null,null,{"$f":"F51*F67","v":8.6489999999999997E-2},{"$f":"F68*G38","v":0}]
["Valor total do 13º Salário e Afastamentos: ",null,null,null,null,{"$f":"SUM(F67:F68)","v":0.32055},{"$f":"SUM(G67:G68)","v":0}]
[]
["Grupo 2.3","Afastamento Maternidade ",null,null,null,"%","Valor (R$)"]
["A","Afastamento Maternidade *(6)",null,null,null,{"$f":"4/12*0.02","v":6.6699999999999997E-3},{"$f":"G38*F72","v":0}]
["B","Férias sobre licença maternidade *(7)",null,null,null,{"$f":"0.1111*0.02*4/12","v":7.3999999999999999E-4},{"$f":"G38*F73","v":0}]
[null,"Subtotal: ",null,null,null,{"$f":"SUM(F72:F73)","v":7.4099999999999999E-3},{"$f":"SUM($G$38*F74)","v":0}]
["C","Incidência do grupo 2.1 sobre o grupo 2.3",null,null,null,{"$f":"F74*F51","v":2.7399999999999998E-3},{"$f":"F75*G38","v":0}]
["Valor total do Afastamento Maternidade: ",null,null,null,null,{"$f":"SUM(F74:F75)","v":1.0149999999999999E-2},{"$f":"SUM(G74:G75)","v":0}]
[]
["Grupo 2.4","Provisão para Rescisão",null,null,null,"%","Valor (R$)"]
["A","Aviso Prévio Indenizado *(8)",null,null,null,{"$f":"0.05*1/12","v":4.1700000000000001E-3},{"$f":"($G$38)*F79","v":0}]
["B","Indenização Adicional *(9)",null,null,null,{"$f":"0.02*1/12","v":1.67E-3},{"$f":"($G$38)*F80","v":0}]
["C","Indenização (rescisão sem justa causa - multa de 40% do FGTS) *(10)",null,null,null,{"$f":"1*0.4*0.08","v":3.2000000000000001E-2},{"$f":"($G$38)*F81","v":0}]
["D","Indenização (rescisão sem justa causa - contribuição de 10% do FGTS) *(11)",null,null,null,{"$f":"1*0.1*0.08","v":8.0000000000000002E-3},{"$f":"($G$38)*F82","v":0}]
["Subtotal: ",null,null,null,null,{"$f":"SUM(F79:F82)","v":4.5839999999999999E-2},{"$f":"SUM(G79:G82)","v":0}]
["E","Incidência do FGTS sobre o aviso prévio indenizado",null,null,null,{"$f":"F48*F79","v":3.3E-4},{"$f":"F84*$G$38","v":0}]
["F","Incidência do FGTS sobre o período médio de afastamento superior a 15 dias motivado por acidente de trabalho",null,null,null,{"$f":"F48*F65","v":2.7E-4},{"$f":"F85*$G$38","v":0}]
["Valor total da Provisão para Rescisão: ",null,null,null,null,{"$f":"SUM(F83:F85)","v":4.6440000000000002E-2},{"$f":"SUM(G83:G85)","v":0}]
[]
["QUADRO RESUMO - ENCARGOS SOCIAIS E TRABALHISTAS"]
[2,"Encargos Sociais e Trabalhistas",null,null,null,"%","Valor (R$)"]
["2.1","Encargos Previdenciários e FGTS",null,null,null,{"$f":"F51","v":0.3695},{"$f":"G51","v":0}]
["2.2","13º Salário e Afastamentos",null,null,null,{"$f":"F69","v":0.32055},{"$f":"G69","v":0}]
["2.3","Afastamento Maternidade",null,null,null,{"$f":"F76","v":1.0149999999999999E-2},{"$f":"G76","v":0}]
["2.4","Provisão para Rescisão",null,null,null,{"$f":"F86","v":4.6440000000000002E-2},{"$f":"G86","v":0}]
["Valor Total de encargos sociais e trabalhistas: ",null,null,null,null,{"$f":"SUM(F90:F93)","v":0.74663999999999997},{"$f":"SUM(G90:G93)","v":0}]
[]
["MÓDULO 3 - BENEFÍCIOS MENSAIS E DIÁRIOS"]
[3,"Benefícios Mensais e Diários (deduzida parcela do empregado)",null,null,null,"%","Valor (R$)"]
["A","Transporte"]
["B","Desconto legal sobre transporte (máximo de 6% sobre o salário base)"]
["C","Auxílio alimentação "]
["D","Assistência médica e Familiar"]
["E","Auxílio creche"]
["F","Seguro de vida "]
["G","Auxílio Funeral"]
["H","Cesta Básica"]
["I","Assistência odontológica"]
["J","Outros (especificar)"]
["Valor Total de benefícios mensais e diários: ",null,null,null,null,null,{"$f":"SUM(G98:G107)","v":0}]
[]
["MÓDULO 4 - INSUMOS DIVERSOS"]
[4,"Insumos Diversos",null,null,null,"%","Valor (R$)"]
["A","Uniformes"]
["B","EPIs"]
["C","Materiais"]
["D","Equipamentos"]
["D","Aparelho celular"]
["F","Franquia de telefonia celular"]
["G","Outros (especificar)"]
["Valor Total de insumos diversos: ",null,null,null,null,null,{"$f":"SUM(G112:G118)","v":0}]
[]
[]
["CÂMARA MUNICIPAL DE POUSO ALEGRE"]
["Estado de Minas Gerais"]
[]
["VALOR TOTAL DE REMUNERAÇÃO + ENCARGOS SOCIAIS + BENEFÍCIOS + INSUMOS",null,null,null,null,null,{"$f":"G38+G94+G108+G119","v":0}]
[]
["MÓDULO 5 - BONIFICAÇÃO E OUTRAS DESPESAS"]
[5,"Bonificações e outras despesas",null,null,null,"%","Valor (R$)"]
["A","LDI - Lucro e Despesas Indiretas",null,null,null,null,{"$f":"F129*$G$125","v":0}]
["B","Despesas Administrativas / Operacionais",null,null,null,null,{"$f":"F130*$G$125","v":0}]
["C","Outras despesas (especificar)",null,null,null,null,{"$f":"F131*$G$125","v":0}]
["Valor Total de bonificações e outras despesas: ",null,null,null,null,{"$f":"SUM(F129:F131)","v":0},{"$f":"SUM(G129:G131)","v":0}]
[]
["MÓDULO 6 - TRIBUTAÇÃO SOBRE O FATURAMENTO"]
[6,"Tributos",null,null,null,"%","Valor (R$)"]
["A","ISS",null,null,null,0.02,{"$f":"($G$125+$G$132)/(1-$F$139)*F136","v":0}]
["B","PIS",null,null,null,6.4999999999999997E-3,{"$f":"($G$125+$G$132)/(1-$F$139)*F137","v":0}]
["C","COFINS",null,null,null,0.03,{"$f":"($G$125+$G$132)/(1-$F$139)*F138","v":0}]
["Valor Total dos tributos: ",null,null,null,null,{"$f":"SUM(F136:F138)","v":5.6500000000000002E-2},{"$f":"SUM(G136:G138)","v":0}]
[]
["VALOR MENSAL TOTAL POR EMPREGADO",null,null,null,null,null,{"$f":"G125+G132+G139","v":0}]
[]
["7 - PREVISÃO DE ADICIONAL NOTURNO E DE HORAS EXTRAS"]
["Benefício",null,"Previsão (hs) / ano","Adicional","Valor Base","Valor com Encargos ","Valor com Impostos"]
[]
["A - Hora extra (dias úteis)",null,260,0.6,{"$f":"C146*(D146+1)*$G$38/220","v":0},{"$f":"E146*(1+$F$94)","v":0},{"$f":"F146*(1+$F$139)","v":0},"*Viagens antes das 8hs ou após 18hs: 216hs e com fator de segurança de 20% = 260hs"]
["B - Hora extra (repouso/feriado)",null,78,1,{"$f":"C147*(D147+1)/220*$G$38","v":0},{"$f":"E147*(1+$F$94)","v":0},{"$f":"F147*(1+$F$139)","v":0},"*Viagens aos domingos: 32hs e com fator de segurança de 20% = 39hs"]
["C - Adicional noturno",null,80,0.3,{"$f":"C148*D148/220*$G$38","v":0},{"$f":"E148*(1+$F$94)","v":0},{"$f":"F148*(1+$F$139)","v":0},"*Total de horas após 22hs: 15hs e com fator de segurança de 20% = 18hs"]
["Valor Total de Adicional Noturno e de Horas Extras: ",null,null,null,null,null,{"$f":"SUM(G146:G148)","v":0}]
[]
["8 - PREVISÃO DE DIÁRIAS E INDENIZAÇÃO DE ALIMENTAÇÃO"]
["Benefício",null,"Previsão Anual","Valor Médio","Valor Base","Valor com Bonificações","Valor com Impostos"]
[]
["Diária",null,67,300,{"$f":"C154*D154","v":20100},{"$f":"E154*(1+$F$132)","v":20100},{"$f":"F154*(1+$F$139)","v":21235.65}," *Média de diárias por ano (R$16.565,71) / diária de BH-SP (R$300,00) * 1,2 (fator de segurança) = 67"]
["Indenização de Alimentação",null,47,70,{"$f":"C155*D155","v":3290},{"$f":"E155*(1+$F$132)","v":3290},{"$f":"F155*(1+$F$139)","v":3475.89}," *Média anual de 39 indenizações * 1,2 (fator de segurança) = 47"]
["Valor Total de previsão de diárias e indenização de alimentação: ",null,null,null,null,null,{"$f":"SUM(G154:G155)","v":24711.54}]
[]
["QUADRO RESUMO DO VALOR MENSAL DO SERVIÇO"]
["LOTE","DESCRIÇÃO",null,null,"QUANT. DE EMPREGADO PARA O SERVIÇO","VALOR PROPOSTO POR EMPREGADO","VALOR TOTAL DO SERVIÇO (mensal)"]
[null,null,null,null,{"$f":"F26","v":2},{"$f":"G141","v":0},{"$f":"F160*E160","v":0}]
["VALOR ANUAL DO SERVIÇO",null,null,null,null,null,{"$f":"G160*12","v":0}]
[]
["VALOR TOTAL ANUAL DO SERVIÇO COM HORAS EXTRAS, NOTURNAS E DIÁRIAS/INDENIZAÇÕES",null,null,null,null,null,{"$f":"G149+G156+G161","v":24711.54}]
[]
[" *(1) Redução de 7 dias ou de 2h por dia. (Percentual relativo a contrato de 12 meses"]
["*(2) Estimativa de 5 dias de licença por ano"]
["*(3) Estimativa de 1,5% dos funcionários usufruindo 5 dias de licença por ano"]
["*(4) Estimativa de 1 ausência por ano"]
["*(5) Estimativa de 1 licença de 15 dias por ano para 8% dos funcionários"]
["*(6) Estimativa de 2% dos funcionários usufruindo de 4 meses de licença por ano"]
["*(7) Estimativa de 2% dos funcionários usufruindo de 4 meses de licença por ano"]
[" *(8) Estimativa de que 5% dos funcionários serão substituídos em um ano."]
[" *(9) Estimativa de que 2% dos funcionários serão demitidos com indenização adicional."]
[" *(10) Multa de 40% do FGTS em relação aos trabalhadores contratados."]
[" *(11) Contribuição de 10% do FGTS em relação aos trabalhadores contratados."]
[]
[]
["CÂMARA MUNICIPAL DE POUSO ALEGRE"]
["Estado de Minas Gerais"]
[]
["PRESTAÇÃO DE SERVIÇOS DE COPEIRAGEM"]
["LOTE e DESCRIÇÃO:"]
["Processo nº: ",null,null,null,"Pregão n°:","Data:"]
[]
["DISCRIMINAÇÃO DOS SERVIÇOS"]
["A","Data de apresentação da proposta (dia/mês/ano) "]
["B","Município/UF "]
["C","Ano Acordo, Convenção ou Sentença Normativa em Dissídio Coletivo"]
["D","No. Registro acordo convenção coletiva"]
["E","Nº de meses de execução contratual",null,null,null,"7 meses"]
[]
["IDENTIFICAÇÃO DO SERVIÇO"]
["Unidade","Tipo de Serviço",null,null,null,"Quantidade a contratar"]
["Postos","Limpeza",null,null,null,"-"]
["Postos","Copeiragem",null,null,null,1]
["Postos","Choferagem",null,null,null,"-"]
["Postos","Vigia",null,null,null,"-"]
["DADOS COMPLEMENTARES PARA CUSTOS REFERENTES À MÃO DE OBRA"]
["A","Salário Normativo da categoria Profissional Vigente"]
["B","Categoria profissional",null,null,null,"Copeira"]
["C","Data-base da categoria"]
[]
["MÓDULO 1 - COMPOSIÇÃO DA REMUNERAÇÃO"]
[1,"Composição da Remuneração:",null,null,null,"%","Valor (R$)"]
["A","Salário Base"]
["B","Adicionais (especificar)"]
["*Diárias, adicionais de horas extras e noturno extra em planilha à parte"]
["Valor Total da Remuneração: ",null,null,null,null,null,{"$f":"SUM(G205:G207)","v":0}]
[]
["MÓDULO 2 - ENCARGOS SOCIAIS E TRABALHISTAS INCIDENTES SOBRE A REMUNERAÇÃO"]
[]
["Grupo 2.1","Encargos Previdenciários e FGTS",null,null,null,"%","Valor (R$)"]
["A","INSS",null,null,null,0.2,{"$f":"$G$29*F213","v":0}]
["B","SESI ou SESC",null,null,null,1.4999999999999999E-2,{"$f":"$G$29*F214","v":0}]
["C","SENAI ou SENAC",null,null,null,0.01,{"$f":"$G$29*F215","v":0}]
["D","INCRA",null,null,null,2E-3,{"$f":"$G$29*F216","v":0}]
["E","Salário educação",null,null,null,2.5000000000000001E-2,{"$f":"$G$29*0.025","v":0}]
["F","FGTS",null,null,null,0.08,{"$f":"$G$29*F218","v":0}]
["G","RAT (Risco Ambiental do Trabalho) x FAP (2,00)",null,null,null,0.06,{"$f":"$G$29*F219","v":0}]
["H","SEBRAE",null,null,null,6.0000000000000001E-3,{"$f":"$G$29*F220","v":0}]
["Valor Total dos encargos previdenciários e FGTS: ",null,null,null,null,{"$f":"SUM(F213:F220)","v":0.39800000000000002},{"$f":"SUM(G213:G220)","v":0}]
[]
["Grupo 2.2","13º Salário e Afastamentos",null,null,null,"%","Valor (R$)"]
["A","13º Salário",null,null,null,8.3330000000000001E-2,{"$f":"SUM($G$29*F224)","v":0}]
["B","Férias",null,null,null,8.3299999999999999E-2,{"$f":"G208*F225","v":0}]
["C","Adicional de férias (1/3)",null,null,null,{"$f":"1/3/12","v":2.7779999999999999E-2},{"$f":"SUM($G$29*F226)","v":0}]
["D","Aviso prévio trabalhado *(1)",null,null,null,{"$f":"7/30/12","v":1.9439999999999999E-2},{"$f":"(G208)*F227","v":0}]
["E","Ausência por doença *(2)",null,null,null,{"$f":"5/30/12","v":1.389E-2},{"$f":"G208*F228","v":0}]
["F","Licença Paternidade *(3)",null,null,null,{"$f":"5/30/12*0.015","v":2.1000000000000001E-4},{"$f":"G208*F229","v":0}]
["G","Ausências Legais *(4)",null,null,null,{"$f":"1/30/12","v":2.7799999999999999E-3},{"$f":"G208*F230","v":0}]
["H","Ausência por acidente de trabalho *(5)",null,null,null,{"$f":"15/30/12*0.08","v":3.3300000000000001E-3},{"$f":"G208*F231","v":0}]
["J","Outros (especificar)",null,null,null,null,{"$f":"G208*F232","v":0}]
[null,"Subtotal: ",null,null,null,{"$f":"SUM(F224:F232)","v":0.23405999999999999},{"$f":"SUM($G$29*F233)","v":0}]
["K","Incidência do grupo 2.1 sobre o grupo 2.2",null,null,null,{"$f":"F221*F233","v":9.3160000000000007E-2},{"$f":"F234*G208","v":0}]
["Valor total do 13º Salário e Afastamentos: ",null,null,null,null,{"$f":"SUM(F233:F234)","v":0.32722000000000001},{"$f":"G233+G234","v":0}]
[]
[]
[]
[]
["CÂMARA MUNICIPAL DE POUSO ALEGRE"]
["Estado de Minas Gerais"]
[]
["Grupo 2.3","Afastamento Maternidade ",null,null,null,"%","Valor (R$)"]
["A","Afastamento Maternidade *(6)",null,null,null,{"$f":"4/12*0.02","v":6.6699999999999997E-3},{"$f":"G208*F244","v":0}]
["B","Férias sobre licença maternidade *(7)",null,null,null,{"$f":"0.1111*0.02*4/12","v":7.3999999999999999E-4},{"$f":"G208*F245","v":0}]
[null,"Subtotal: ",null,null,null,{"$f":"SUM(F244:F245)","v":7.4099999999999999E-3},{"$f":"SUM($G$29*F246)","v":0}]
["C","Incidência do grupo 2.1 sobre o grupo 2.3",null,null,null,{"$f":"F246*F221","v":2.9499999999999999E-3},{"$f":"F247*G208","v":0}]
["Valor total do Afastamento Maternidade: ",null,null,null,null,{"$f":"SUM(F246:F247)","v":1.0359999999999999E-2},{"$f":"SUM(G246:G247)","v":0}]
[]
["Grupo 2.4","Provisão para Rescisão",null,null,null,"%","Valor (R$)"]
["A","Aviso Prévio Indenizado *(8)",null,null,null,{"$f":"0.05*1/12","v":4.1700000000000001E-3},{"$f":"($G$29)*F251","v":0}]
["B","Indenização Adicional *(9)",null,null,null,{"$f":"0.02*1/12","v":1.67E-3},{"$f":"($G$29)*F252","v":0}]
["C","Indenização (rescisão sem justa causa - multa de 40% do FGTS) *(10)",null,null,null,{"$f":"1*0.4*0.08","v":3.2000000000000001E-2},{"$f":"($G$29)*F253","v":0}]
["D","Indenização (rescisão sem justa causa - contribuição de 10% do FGTS) *(11)",null,null,null,{"$f":"1*0.1*0.08","v":8.0000000000000002E-3},{"$f":"($G$29)*F254","v":0}]
["Subtotal: ",null,null,null,null,{"$f":"SUM(F251:F254)","v":4.5839999999999999E-2},{"$f":"SUM(G251:G254)","v":0}]
["E","Incidência do FGTS sobre o aviso prévio indenizado",null,null,null,{"$f":"F218*F251","v":3.3E-4},{"$f":"F256*$G$29","v":0}]
["F","Incidência do FGTS sobre o período médio de afastamento superior a 15 dias motivado por acidente de trabalho",null,null,null,{"$f":"F218*F231","v":2.7E-4},{"$f":"F257*$G$29","v":0}]
["Valor total da Provisão para Rescisão: ",null,null,null,null,{"$f":"SUM(F255:F257)","v":4.6440000000000002E-2},{"$f":"SUM(G255:G257)","v":0}]
[]
["QUADRO RESUMO - ENCARGOS SOCIAIS E TRABALHISTAS"]
[2,"Encargos Sociais e Trabalhistas",null,null,null,"%","Valor (R$)"]
["2.1","Encargos Previdenciários e FGTS",null,null,null,{"$f":"F221","v":0.39800000000000002},{"$f":"G221","v":0}]
["2.2","13º Salário e Afastamentos",null,null,null,{"$f":"F235","v":0.32722000000000001},{"$f":"G235","v":0}]
["2.3","Afastamento Maternidade",null,null,null,{"$f":"F248","v":1.0359999999999999E-2},{"$f":"G248","v":0}]
["2.4","Provisão para Rescisão",null,null,null,{"$f":"F258","v":4.6440000000000002E-2},{"$f":"G258","v":0}]
["Valor Total de encargos sociais e trabalhistas: ",null,null,null,null,{"$f":"SUM(F262:F265)","v":0.78202000000000005},{"$f":"SUM(G262:G265)","v":0}]
[]
["MÓDULO 3 - BENEFÍCIOS MENSAIS E DIÁRIOS"]
[3,"Benefícios Mensais e Diários (deduzida parcela do empregado)",null,null,null,"%","Valor (R$)"]
["A","Transporte"]
["B","Desconto legal sobre transporte (máximo de 6% sobre o salário base)"]
["C","Auxílio alimentação "]
["D","Assistência médica e Familiar"]
["E","Auxílio creche"]
["F","Seguro de vida "]
["G","Auxílio Funeral"]
["H","Cesta Básica"]
["I","Assistência odontológica"]
["J","Outros (especificar)"]
["Valor Total de benefícios mensais e diários: ",null,null,null,null,null,{"$f":"SUM(G270:G279)","v":0}]
[]
["MÓDULO 4 - INSUMOS DIVERSOS"]
[4,"Insumos Diversos",null,null,null,"%","Valor (R$)"]
["A","Uniformes"]
["B","EPIs"]
["C","Materiais"]
["D","Equipamentos"]
["D","Aparelho celular"]
["F","Franquia de telefonia celular"]
["G","Outros (especificar)"]
["Valor Total de insumos diversos: ",null,null,null,null,null,{"$f":"SUM(G284:G290)","v":0}]
[]
["VALOR TOTAL DE REMUNERAÇÃO + ENCARGOS SOCIAIS + BENEFÍCIOS + INSUMOS",null,null,null,null,null,{"$f":"G208+G266+G280+G291","v":0}]
[]
[]
[]
[]
["CÂMARA MUNICIPAL DE POUSO ALEGRE"]
["Estado de Minas Gerais"]
[]
["MÓDULO 5 - BONIFICAÇÃO E OUTRAS DESPESAS"]
[5,"Bonificações e outras despesas",null,null,null,"%","Valor (R$)"]
["A","LDI - Lucro e Despesas Indiretas",null,null,null,null,{"$f":"F303*$G$108","v":0}]
["B","Despesas Administrativas / Operacionais",null,null,null,null,{"$f":"F304*$G$108","v":0}]
["C","Outras despesas (especificar)",null,null,null,null,{"$f":"F305*$G$108","v":0}]
["Valor Total de bonificações e outras despesas: ",null,null,null,null,{"$f":"SUM(F303:F305)","v":0},{"$f":"SUM(G303:G305)","v":0}]
[]
["MÓDULO 6 - TRIBUTAÇÃO SOBRE O FATURAMENTO"]
[6,"Tributos",null,null,null,"%","Valor (R$)"]
["A","ISS",null,null,null,0.02,{"$f":"($G$108+$G$115)/(1-$F$122)*F310","v":0}]
["B","PIS",null,null,null,6.4999999999999997E-3,{"$f":"($G$108+$G$115)/(1-$F$122)*F311","v":0}]
["C","COFINS",null,null,null,0.03,{"$f":"($G$108+$G$115)/(1-$F$122)*F312","v":0}]
["Valor Total dos tributos: ",null,null,null,null,{"$f":"SUM(F310:F312)","v":5.6500000000000002E-2},{"$f":"SUM(G310:G312)","v":0}]
[]
["VALOR MENSAL TOTAL POR EMPREGADO",null,null,null,null,null,{"$f":"G293+G306+G313","v":0}]
[]
["7 - PREVISÃO DE ADICIONAL NOTURNO E DE HORAS EXTRAS"]
["Benefício",null,"Previsão (hs)","Adicional","Valor Base","Valor com Encargos ","Valor com Impostos"]
[]
["A - Hora extra (dias úteis)",null,288,0.5,{"$f":"C320*(D320+1)*$G$29/220","v":0},{"$f":"E320*(1+$F$81)","v":0},{"$f":"F320*(1+$F$122)","v":0}]
["B - Hora extra (repouso/feriado)",null,36,1,{"$f":"C321*(D321+1)/220*$G$29","v":0},{"$f":"E321*(1+$F$81)","v":0},{"$f":"F321*(1+$F$122)","v":0}]
["C - Adicional noturno",null,48,0.2,{"$f":"C322*D322/220*$G$29","v":0},{"$f":"E322*(1+$F$81)","v":0},{"$f":"F322*(1+$F$122)","v":0}]
["Valor Total de Adicional Noturno e de Horas Extras: ",null,null,null,null,null,{"$f":"SUM(G320:G322)*7/12","v":0}]
[]
["QUADRO RESUMO DO VALOR MENSAL DO SERVIÇO"]
["LOTE","DESCRIÇÃO",null,null,"QUANT. DE EMPREGADO PARA O SERVIÇO","VALOR PROPOSTO POR EMPREGADO","VALOR TOTAL DO SERVIÇO (mensal)"]
[null,null,null,null,{"$f":"F195","v":1},{"$f":"G315","v":0},{"$f":"F327*E327","v":0}]
["VALOR DO SERVIÇO (out/16 a abr/17 - 7 meses)",null,null,null,null,null,{"$f":"G327*7","v":0}]
[]
["VALOR TOTAL DO SERVIÇO COM HORAS EXTRAS, NOTURNAS E DIÁRIAS",null,null,null,null,null,{"$f":"G323+G328","v":0}]
[]
[" *(1) Redução de 7 dias ou de 2h por dia. (Percentual relativo a contrato de 12 meses"]
["*(2) Estimativa de 5 dias de licença por ano"]
["*(3) Estimativa de 1,5% dos funcionários usufruindo 5 dias de licença por ano"]
["*(4) Estimativa de 1 ausência por ano"]
["*(5) Estimativa de 1 licença de 15 dias por ano para 8% dos funcionários"]
["*(6) Estimativa de 2% dos funcionários usufruindo de 4 meses de licença por ano"]
["*(7) Estimativa de 2% dos funcionários usufruindo de 4 meses de licença por ano"]
[" *(8) Estimativa de que 5% dos funcionários serão substituídos em um ano."]
[" *(9) Estimativa de que 2% dos funcionários serão demitidos com indenização adicional."]
[" *(10) Multa de 40% do FGTS em relação aos trabalhadores contratados."]
[" *(11) Contribuição de 10% do FGTS em relação aos trabalhadores contratados."]
[]
[]
[]
[]
[]
[]
[]
[]
[]
[]
[]
[]
[]
["CÂMARA MUNICIPAL DE POUSO ALEGRE"]
["Estado de Minas Gerais"]
[]
["PRESTAÇÃO DE SERVIÇOS DE LIMPEZA"]
["LOTE e DESCRIÇÃO:"]
["Processo nº: ",null,null,null,"Pregão n°:","Data:"]
[]
["DISCRIMINAÇÃO DOS SERVIÇOS"]
["A","Data de apresentação da proposta (dia/mês/ano) "]
["B","Município/UF "]
["C","Ano Acordo, Convenção ou Sentença Normativa em Dissídio Coletivo"]
["D","No. Registro acordo convenção coletiva"]
["E","Nº de meses de execução contratual",null,null,null,"7 meses"]
[]
["IDENTIFICAÇÃO DO SERVIÇO"]
["Unidade","Tipo de Serviço",null,null,null,"Quantidade a contratar"]
["Postos","Limpeza",null,null,null,5]
["Postos","Copeiragem",null,null,null,"-"]
["Postos","Choferagem",null,null,null,"-"]
["Postos","Vigia"]
["DADOS COMPLEMENTARES PARA CUSTOS REFERENTES À MÃO DE OBRA"]
["A","Salário Normativo da categoria Profissional Vigente"]
["B","Categoria profissional",null,null,null,"Motorista Executivo"]
["C","Data-base da categoria"]
[]
["MÓDULO 1 - COMPOSIÇÃO DA REMUNERAÇÃO"]
[1,"Composição da Remuneração:",null,null,null,"%","Valor (R$)"]
["A","Salário Base"]
["B","Adicionais (especificar)"]
["*Diárias, adicionais de horas extras e noturno extra em planilha à parte"]
["Valor Total da Remuneração: ",null,null,null,null,null,{"$f":"SUM(G383:G385)","v":0}]
[]
["MÓDULO 2 - ENCARGOS SOCIAIS E TRABALHISTAS INCIDENTES SOBRE A REMUNERAÇÃO"]
[]
["Grupo 2.1","Encargos Previdenciários e FGTS",null,null,null,"%","Valor (R$)"]
["A","INSS",null,null,null,0.2,{"$f":"$G$29*F391","v":0}]
["B","SESI ou SESC",null,null,null,1.4999999999999999E-2,{"$f":"$G$29*F392","v":0}]
["C","SENAI ou SENAC",null,null,null,0.01,{"$f":"$G$29*F393","v":0}]
["D","INCRA",null,null,null,2E-3,{"$f":"$G$29*F394","v":0}]
["E","Salário educação",null,null,null,2.5000000000000001E-2,{"$f":"$G$29*0.025","v":0}]
["F","FGTS",null,null,null,0.08,{"$f":"$G$29*F396","v":0}]
["G","RAT (Risco Ambiental do Trabalho) x FAP (2,00)",null,null,null,0.02,{"$f":"$G$29*F397","v":0}]
["H","SEBRAE",null,null,null,6.0000000000000001E-3,{"$f":"$G$29*F398","v":0}]
["Valor Total dos encargos previdenciários e FGTS: ",null,null,null,null,{"$f":"SUM(F391:F398)","v":0.35799999999999998},{"$f":"SUM(G391:G398)","v":0}]
[]
["Grupo 2.2","13º Salário e Afastamentos",null,null,null,"%","Valor (R$)"]
["A","13º Salário",null,null,null,8.3330000000000001E-2,{"$f":"SUM($G$29*F402)","v":0}]
["B","Férias",null,null,null,8.3299999999999999E-2,{"$f":"G386*F403","v":0}]
["C","Adicional de férias (1/3)",null,null,null,{"$f":"1/3/12","v":2.7779999999999999E-2},{"$f":"SUM($G$29*F404)","v":0}]
["D","Aviso prévio trabalhado *(1)",null,null,null,{"$f":"7/30/12","v":1.9439999999999999E-2},{"$f":"(G386)*F405","v":0}]
["E","Ausência por doença *(2)",null,null,null,{"$f":"5/30/12","v":1.389E-2},{"$f":"G386*F406","v":0}]
["F","Licença Paternidade *(3)",null,null,null,{"$f":"5/30/12*0.015","v":2.1000000000000001E-4},{"$f":"G386*F407","v":0}]
["G","Ausências Legais *(4)",null,null,null,{"$f":"1/30/12","v":2.7799999999999999E-3},{"$f":"G386*F408","v":0}]
["H","Ausência por acidente de trabalho *(5)",null,null,null,{"$f":"15/30/12*0.08","v":3.3300000000000001E-3},{"$f":"G386*F409","v":0}]
["J","Outros (especificar)",null,null,null,null,{"$f":"G386*F410","v":0}]
[null,"Subtotal: ",null,null,null,{"$f":"SUM(F402:F410)","v":0.23405999999999999},{"$f":"SUM($G$29*F411)","v":0}]
["K","Incidência do grupo 2.1 sobre o grupo 2.2",null,null,null,{"$f":"F399*F411","v":8.3790000000000003E-2},{"$f":"F412*G386","v":0}]
["Valor total do 13º Salário e Afastamentos: ",null,null,null,null,{"$f":"SUM(F411:F412)","v":0.31785000000000002},{"$f":"G411+G412","v":0}]
[]
[]
[]
[]
[]
[]
["CÂMARA MUNICIPAL DE POUSO ALEGRE"]
["Estado de Minas Gerais"]
[]
["A","Afastamento Maternidade *(6)",null,null,null,{"$f":"4/12*0.02","v":6.6699999999999997E-3},{"$f":"G386*F423","v":0}]
["B","Férias sobre licença maternidade *(7)",null,null,null,{"$f":"0.1111*0.02*4/12","v":7.3999999999999999E-4},{"$f":"G386*F424","v":0}]
[null,"Subtotal: ",null,null,null,{"$f":"SUM(F423:F424)","v":7.4099999999999999E-3},{"$f":"SUM($G$29*F425)","v":0}]
["C","Incidência do grupo 2.1 sobre o grupo 2.3",null,null,null,{"$f":"F425*F399","v":2.65E-3},{"$f":"F426*G386","v":0}]
["Valor total do Afastamento Maternidade: ",null,null,null,null,{"$f":"SUM(F425:F426)","v":1.0059999999999999E-2},{"$f":"SUM(G425:G426)","v":0}]
[]
["Grupo 2.4","Provisão para Rescisão",null,null,null,"%","Valor (R$)"]
["A","Aviso Prévio Indenizado *(8)",null,null,null,{"$f":"0.05*1/12","v":4.1700000000000001E-3},{"$f":"($G$29)*F430","v":0}]
["B","Indenização Adicional *(9)",null,null,null,{"$f":"0.02*1/12","v":1.67E-3},{"$f":"($G$29)*F431","v":0}]
["C","Indenização (rescisão sem justa causa - multa de 40% do FGTS) *(10)",null,null,null,{"$f":"1*0.4*0.08","v":3.2000000000000001E-2},{"$f":"($G$29)*F432","v":0}]
["D","Indenização (rescisão sem justa causa - contribuição de 10% do FGTS) *(11)",null,null,null,{"$f":"1*0.1*0.08","v":8.0000000000000002E-3},{"$f":"($G$29)*F433","v":0}]
["Subtotal: ",null,null,null,null,{"$f":"SUM(F430:F433)","v":4.5839999999999999E-2},{"$f":"SUM(G430:G433)","v":0}]
["E","Incidência do FGTS sobre o aviso prévio indenizado",null,null,null,{"$f":"F396*F430","v":3.3E-4},{"$f":"F435*$G$29","v":0}]
["F","Incidência do FGTS sobre o período médio de afastamento superior a 15 dias motivado por acidente de trabalho",null,null,null,{"$f":"F396*F409","v":2.7E-4},{"$f":"F436*$G$29","v":0}]
["Valor total da Provisão para Rescisão: ",null,null,null,null,{"$f":"SUM(F434:F436)","v":4.6440000000000002E-2},{"$f":"SUM(G434:G436)","v":0}]
[]
["QUADRO RESUMO - ENCARGOS SOCIAIS E TRABALHISTAS"]
[2,"Encargos Sociais e Trabalhistas",null,null,null,"%","Valor (R$)"]
["2.1","Encargos Previdenciários e FGTS",null,null,null,{"$f":"F399","v":0.35799999999999998},{"$f":"G399","v":0}]
["2.2","13º Salário e Afastamentos",null,null,null,{"$f":"F413","v":0.31785000000000002},{"$f":"G413","v":0}]
["2.3","Afastamento Maternidade",null,null,null,{"$f":"F427","v":1.0059999999999999E-2},{"$f":"G427","v":0}]
["2.4","Provisão para Rescisão",null,null,null,{"$f":"F437","v":4.6440000000000002E-2},{"$f":"G437","v":0}]
["Valor Total de encargos sociais e trabalhistas: ",null,null,null,null,{"$f":"SUM(F441:F444)","v":0.73234999999999995},{"$f":"SUM(G441:G444)","v":0}]
[]
["MÓDULO 3 - BENEFÍCIOS MENSAIS E DIÁRIOS"]
[3,"Benefícios Mensais e Diários (deduzida parcela do empregado)",null,null,null,"%","Valor (R$)"]
["A","Transporte"]
["B","Desconto legal sobre transporte (máximo de 6% sobre o salário base)"]
["C","Auxílio alimentação "]
["D","Assistência médica e Familiar"]
["E","Auxílio creche"]
["F","Seguro de vida "]
["G","Auxílio Funeral"]
["H","Cesta Básica"]
["I","Assistência odontológica"]
["J","Outros (especificar)"]
["Valor Total de benefícios mensais e diários: ",null,null,null,null,null,{"$f":"SUM(G449:G458)","v":0}]
[]
["MÓDULO 4 - INSUMOS DIVERSOS"]
[4,"Insumos Diversos",null,null,null,"%","Valor (R$)"]
["A","Uniformes"]
["B","EPIs"]
["C","Materiais"]
["D","Equipamentos"]
["D","Aparelho celular"]
["F","Franquia de telefonia celular"]
["G","Outros (especificar)"]
["Valor Total de insumos diversos: ",null,null,null,null,null,{"$f":"SUM(G463:G469)","v":0}]
[]
["VALOR TOTAL DE REMUNERAÇÃO + ENCARGOS SOCIAIS + BENEFÍCIOS + INSUMOS",null,null,null,null,null,{"$f":"G386+G445+G459+G470","v":0}]
[]
["MÓDULO 5 - BONIFICAÇÃO E OUTRAS DESPESAS"]
[5,"Bonificações e outras despesas",null,null,null,"%","Valor (R$)"]
["A","LDI - Lucro e Despesas Indiretas",null,null,null,null,{"$f":"F476*$G$108","v":0}]
["B","Despesas Administrativas / Operacionais",null,null,null,null,{"$f":"F477*$G$108","v":0}]
["C","Outras despesas (especificar)",null,null,null,null,{"$f":"F478*$G$108","v":0}]
["Valor Total de bonificações e outras despesas: ",null,null,null,null,{"$f":"SUM(F476:F478)","v":0},{"$f":"SUM(G476:G478)","v":0}]
[]
[]
[]
[]
["CÂMARA MUNICIPAL DE POUSO ALEGRE"]
["Estado de Minas Gerais"]
[]
[6,"Tributos",null,null,null,"%","Valor (R$)"]
["A","ISS",null,null,null,0.02,{"$f":"($G$108+$G$115)/(1-$F$122)*F488","v":0}]
["B","PIS",null,null,null,6.4999999999999997E-3,{"$f":"($G$108+$G$115)/(1-$F$122)*F489","v":0}]
["C","COFINS",null,null,null,0.03,{"$f":"($G$108+$G$115)/(1-$F$122)*F490","v":0}]
["Valor Total dos tributos: ",null,null,null,null,{"$f":"SUM(F488:F490)","v":5.6500000000000002E-2},{"$f":"SUM(G488:G490)","v":0}]
[]
["VALOR MENSAL TOTAL POR EMPREGADO",null,null,null,null,null,{"$f":"G472+G479+G491","v":0}]
[]
["7 - PREVISÃO DE ADICIONAL NOTURNO E DE HORAS EXTRAS"]
["Benefício",null,"Previsão (hs)","Adicional","Valor Base","Valor com Encargos ","Valor com Impostos"]
[]
["A - Hora extra (dias úteis)",null,220,0.5,{"$f":"C498*(D498+1)*$G$29/220","v":0},{"$f":"E498*(1+$F$81)","v":0},{"$f":"F498*(1+$F$122)","v":0}]
["B - Hora extra (repouso/feriado)",null,30,1,{"$f":"C499*(D499+1)/220*$G$29","v":0},{"$f":"E499*(1+$F$81)","v":0},{"$f":"F499*(1+$F$122)","v":0}]
["C - Adicional noturno",null,20,0.2,{"$f":"C500*D500/220*$G$29","v":0},{"$f":"E500*(1+$F$81)","v":0},{"$f":"F500*(1+$F$122)","v":0}]
["Valor Total de Adicional Noturno e de Horas Extras: ",null,null,null,null,null,{"$f":"SUM(G498:G500)","v":0}]
[]
["QUADRO RESUMO DO VALOR MENSAL DO SERVIÇO"]
["LOTE","DESCRIÇÃO",null,null,"QUANT. DE EMPREGADO PARA O SERVIÇO","VALOR PROPOSTO POR EMPREGADO","VALOR TOTAL DO SERVIÇO (mensal)"]
[null,null,null,null,{"$f":"F372","v":5},{"$f":"G493","v":0},{"$f":"F505*E505","v":0}]
["VALOR DO SERVIÇO (out/16 a abr/17 - 7 meses)",null,null,null,null,null,{"$f":"G505*7","v":0}]
[]
["VALOR TOTAL ANUAL DO SERVIÇO COM HORAS EXTRAS, NOTURNAS E DIÁRIAS",null,null,null,null,null,{"$f":"G501+G506","v":0}]
[]
[" *(1) Redução de 7 dias ou de 2h por dia. (Percentual relativo a contrato de 12 meses"]
["*(2) Estimativa de 5 dias de licença por ano"]
["*(3) Estimativa de 1,5% dos funcionários usufruindo 5 dias de licença por ano"]
["*(4) Estimativa de 1 ausência por ano"]
["*(5) Estimativa de 1 licença de 15 dias por ano para 8% dos funcionários"]
["*(6) Estimativa de 2% dos funcionários usufruindo de 4 meses de licença por ano"]
["*(7) Estimativa de 2% dos funcionários usufruindo de 4 meses de licença por ano"]
[" *(8) Estimativa de que 5% dos funcionários serão substituídos em um ano."]
[" *(9) Estimativa de que 2% dos funcionários serão demitidos com indenização adicional."]
[" *(10) Multa de 40% do FGTS em relação aos trabalhadores contratados."]
[" *(11) Contribuição de 10% do FGTS em relação aos trabalhadores contratados."]
[]
[]
[]
[]
[]
[]
[]
[]
[]
[]
[]
[]
[]
[]
[]
[]
[]
[]
[]
[]
[]
[]
["CÂMARA MUNICIPAL DE POUSO ALEGRE"]
["Estado de Minas Gerais"]
[]
["PRESTAÇÃO DE SERVIÇOS DE VIGIA"]
["LOTE e DESCRIÇÃO:"]
["Processo nº: ",null,null,null,"Pregão n°:","Data:"]
[]
["DISCRIMINAÇÃO DOS SERVIÇOS"]
["A","Data de apresentação da proposta (dia/mês/ano) "]
["B","Município/UF "]
["C","Ano Acordo, Convenção ou Sentença Normativa em Dissídio Coletivo"]
["D","No. Registro acordo convenção coletiva"]
["E","Nº de meses de execução contratual",null,null,null,"12 meses"]
[]
["IDENTIFICAÇÃO DO SERVIÇO"]
["Unidade","Tipo de Serviço",null,null,null,"Quantidade a contratar"]
["Postos","Limpeza",null,null,null,"-"]
["Postos","Copeiragem",null,null,null,"-"]
["Postos","Choferagem",null,null,null,"-"]
["Postos","Vigia",null,null,null,5]
["DADOS COMPLEMENTARES PARA CUSTOS REFERENTES À MÃO DE OBRA"]
["A","Salário Normativo da categoria Profissional Vigente"]
["B","Categoria profissional",null,null,null,"Vigia"]
["C","Data-base da categoria"]
[]
["MÓDULO 1 - COMPOSIÇÃO DA REMUNERAÇÃO"]
[1,"Composição da Remuneração:",null,null,null,"%","Valor (R$)"]
["A","Salário Base"]
["B","Adicional noturno (hs)",null,null,null,270,{"$f":"F571*(D687)*$G$570/220","v":0}]
["*Diárias, adicionais de horas extras e noturno extra em planilha à parte"]
["Valor Total da Remuneração: ",null,null,null,null,null,{"$f":"SUM(G570:G572)","v":0}]
[]
["MÓDULO 2 - ENCARGOS SOCIAIS E TRABALHISTAS INCIDENTES SOBRE A REMUNERAÇÃO"]
[]
["Grupo 2.1","Encargos Previdenciários e FGTS",null,null,null,"%","Valor (R$)"]
["A","INSS",null,null,null,0.2,{"$f":"$G$29*F578","v":0}]
["B","SESI ou SESC",null,null,null,1.4999999999999999E-2,{"$f":"$G$29*F579","v":0}]
["C","SENAI ou SENAC",null,null,null,0.01,{"$f":"$G$29*F580","v":0}]
["D","INCRA",null,null,null,2E-3,{"$f":"$G$29*F581","v":0}]
["E","Salário educação",null,null,null,2.5000000000000001E-2,{"$f":"$G$29*0.025","v":0}]
["F","FGTS",null,null,null,0.08,{"$f":"$G$29*F583","v":0}]
["G","RAT (Risco Ambiental do Trabalho) x FAP (2,00)",null,null,null,0.02,{"$f":"$G$29*F584","v":0}]
["H","SEBRAE",null,null,null,6.0000000000000001E-3,{"$f":"$G$29*F585","v":0}]
["Valor Total dos encargos previdenciários e FGTS: ",null,null,null,null,{"$f":"SUM(F578:F585)","v":0.35799999999999998},{"$f":"SUM(G578:G585)","v":0}]
[]
["Grupo 2.2","13º Salário e Afastamentos",null,null,null,"%","Valor (R$)"]
["A","13º Salário",null,null,null,8.3330000000000001E-2,{"$f":"SUM($G$29*F589)","v":0}]
["B","Férias",null,null,null,8.3299999999999999E-2,{"$f":"G573*F590","v":0}]
["C","Adicional de férias (1/3)",null,null,null,{"$f":"1/3/12","v":2.7779999999999999E-2},{"$f":"SUM($G$29*F591)","v":0}]
["D","Aviso prévio trabalhado *(1)",null,null,null,{"$f":"7/30/12","v":1.9439999999999999E-2},{"$f":"(G573)*F592","v":0}]
["E","Ausência por doença *(2)",null,null,null,{"$f":"5/30/12","v":1.389E-2},{"$f":"G573*F593","v":0}]
["F","Licença Paternidade *(3)",null,null,null,{"$f":"5/30/12*0.015","v":2.1000000000000001E-4},{"$f":"G573*F594","v":0}]
["G","Ausências Legais *(4)",null,null,null,{"$f":"1/30/12","v":2.7799999999999999E-3},{"$f":"G573*F595","v":0}]
["H","Ausência por acidente de trabalho *(5)",null,null,null,{"$f":"15/30/12*0.08","v":3.3300000000000001E-3},{"$f":"G573*F596","v":0}]
["J","Outros (especificar)",null,null,null,null,{"$f":"G573*F597","v":0}]
[null,"Subtotal: ",null,null,null,{"$f":"SUM(F589:F597)","v":0.23405999999999999},{"$f":"SUM($G$29*F598)","v":0}]
["K","Incidência do grupo 2.1 sobre o grupo 2.2",null,null,null,{"$f":"F586*F598","v":8.3790000000000003E-2},{"$f":"F599*G573","v":0}]
["Valor total do 13º Salário e Afastamentos: ",null,null,null,null,{"$f":"SUM(F598:F599)","v":0.31785000000000002},{"$f":"G598+G599","v":0}]
[]
[]
[]
[]
[]
[]
["CÂMARA MUNICIPAL DE POUSO ALEGRE"]
["Estado de Minas Gerais"]
[]
["A","Afastamento Maternidade *(6)",null,null,null,{"$f":"4/12*0.02","v":6.6699999999999997E-3},{"$f":"G573*F610","v":0}]
["B","Férias sobre licença maternidade *(7)",null,null,null,{"$f":"0.1111*0.02*4/12","v":7.3999999999999999E-4},{"$f":"G573*F611","v":0}]
[null,"Subtotal: ",null,null,null,{"$f":"SUM(F610:F611)","v":7.4099999999999999E-3},{"$f":"SUM($G$29*F612)","v":0}]
["C","Incidência do grupo 2.1 sobre o grupo 2.3",null,null,null,{"$f":"F612*F586","v":2.65E-3},{"$f":"F613*G573","v":0}]
["Valor total do Afastamento Maternidade: ",null,null,null,null,{"$f":"SUM(F612:F613)","v":1.0059999999999999E-2},{"$f":"SUM(G612:G613)","v":0}]
[]
["Grupo 2.4","Provisão para Rescisão",null,null,null,"%","Valor (R$)"]
["A","Aviso Prévio Indenizado *(8)",null,null,null,{"$f":"0.05*1/12","v":4.1700000000000001E-3},{"$f":"($G$29)*F617","v":0}]
["B","Indenização Adicional *(9)",null,null,null,{"$f":"0.02*1/12","v":1.67E-3},{"$f":"($G$29)*F618","v":0}]
["C","Indenização (rescisão sem justa causa - multa de 40% do FGTS) *(10)",null,null,null,{"$f":"1*0.4*0.08","v":3.2000000000000001E-2},{"$f":"($G$29)*F619","v":0}]
["D","Indenização (rescisão sem justa causa - contribuição de 10% do FGTS) *(11)",null,null,null,{"$f":"1*0.1*0.08","v":8.0000000000000002E-3},{"$f":"($G$29)*F620","v":0}]
["Subtotal: ",null,null,null,null,{"$f":"SUM(F617:F620)","v":4.5839999999999999E-2},{"$f":"SUM(G617:G620)","v":0}]
["E","Incidência do FGTS sobre o aviso prévio indenizado",null,null,null,{"$f":"F583*F617","v":3.3E-4},{"$f":"F622*$G$29","v":0}]
["F","Incidência do FGTS sobre o período médio de afastamento superior a 15 dias motivado por acidente de trabalho",null,null,null,{"$f":"F583*F596","v":2.7E-4},{"$f":"F623*$G$29","v":0}]
["Valor total da Provisão para Rescisão: ",null,null,null,null,{"$f":"SUM(F621:F623)","v":4.6440000000000002E-2},{"$f":"SUM(G621:G623)","v":0}]
[]
["QUADRO RESUMO - ENCARGOS SOCIAIS E TRABALHISTAS"]
[2,"Encargos Sociais e Trabalhistas",null,null,null,"%","Valor (R$)"]
["2.1","Encargos Previdenciários e FGTS",null,null,null,{"$f":"F586","v":0.35799999999999998},{"$f":"G586","v":0}]
["2.2","13º Salário e Afastamentos",null,null,null,{"$f":"F600","v":0.31785000000000002},{"$f":"G600","v":0}]
["2.3","Afastamento Maternidade",null,null,null,{"$f":"F614","v":1.0059999999999999E-2},{"$f":"G614","v":0}]
["2.4","Provisão para Rescisão",null,null,null,{"$f":"F624","v":4.6440000000000002E-2},{"$f":"G624","v":0}]
["Valor Total de encargos sociais e trabalhistas: ",null,null,null,null,{"$f":"SUM(F628:F631)","v":0.73234999999999995},{"$f":"SUM(G628:G631)","v":0}]
[]
["MÓDULO 3 - BENEFÍCIOS MENSAIS E DIÁRIOS"]
[3,"Benefícios Mensais e Diários (deduzida parcela do empregado)",null,null,null,"%","Valor (R$)"]
["A","Transporte"]
["B","Desconto legal sobre transporte (máximo de 6% sobre o salário base)"]
["C","Auxílio alimentação "]
["D","Assistência médica e Familiar"]
["E","Auxílio creche"]
["F","Seguro de vida "]
["G","Auxílio Funeral"]
["H","Cesta Básica"]
["I","Assistência odontológica"]
["J","Outros (especificar)"]
["Valor Total de benefícios mensais e diários: ",null,null,null,null,null,{"$f":"SUM(G636:G645)","v":0}]
[]
["MÓDULO 4 - INSUMOS DIVERSOS"]
[4,"Insumos Diversos",null,null,null,"%","Valor (R$)"]
["A","Uniformes"]
["B","EPIs"]
["C","Materiais"]
["D","Equipamentos"]
["D","Aparelho celular"]
["F","Franquia de telefonia celular"]
["G","Outros (especificar)"]
["Valor Total de insumos diversos: ",null,null,null,null,null,{"$f":"SUM(G650:G656)","v":0}]
[]
["VALOR TOTAL DE REMUNERAÇÃO + ENCARGOS SOCIAIS + BENEFÍCIOS + INSUMOS",null,null,null,null,null,{"$f":"G573+G632+G646+G657","v":0}]
[]
["MÓDULO 5 - BONIFICAÇÃO E OUTRAS DESPESAS"]
[5,"Bonificações e outras despesas",null,null,null,"%","Valor (R$)"]
["A","LDI - Lucro e Despesas Indiretas",null,null,null,null,{"$f":"F663*$G$108","v":0}]
["B","Despesas Administrativas / Operacionais",null,null,null,null,{"$f":"F664*$G$108","v":0}]
["C","Outras despesas (especificar)",null,null,null,null,{"$f":"F665*$G$108","v":0}]
["Valor Total de bonificações e outras despesas: ",null,null,null,null,{"$f":"SUM(F663:F665)","v":0},{"$f":"SUM(G663:G665)","v":0}]
[]
[]
[]
[]
["CÂMARA MUNICIPAL DE POUSO ALEGRE"]
["Estado de Minas Gerais"]
[]
[6,"Tributos",null,null,null,"%","Valor (R$)"]
["A","ISS",null,null,null,0.02,{"$f":"($G$108+$G$115)/(1-$F$122)*F675","v":0}]
["B","PIS",null,null,null,6.4999999999999997E-3,{"$f":"($G$108+$G$115)/(1-$F$122)*F676","v":0}]
["C","COFINS",null,null,null,0.03,{"$f":"($G$108+$G$115)/(1-$F$122)*F677","v":0}]
["Valor Total dos tributos: ",null,null,null,null,{"$f":"SUM(F675:F677)","v":5.6500000000000002E-2},{"$f":"SUM(G675:G677)","v":0}]
[]
["VALOR MENSAL TOTAL POR EMPREGADO",null,null,null,null,null,{"$f":"G659+G666+G678","v":0}]
[]
["7 - PREVISÃO DE ADICIONAL NOTURNO E DE HORAS EXTRAS"]
["Benefício",null,"Previsão (hs)","Adicional","Valor Base","Valor com Encargos ","Valor com Impostos"]
[]
["A - Hora extra (dias úteis)",null,1318,0.5,{"$f":"C685*(D685+1)*$G$570/220","v":0},{"$f":"E685*(1+$F$81)","v":0},{"$f":"F685*(1+$G$573)","v":0}]
["B - Hora extra (repouso/feriado)",null,24,1,{"$f":"C686*(D686+1)/220*$G$70","v":0},{"$f":"E686*(1+$F$81)","v":0},{"$f":"F686*(1+$F$122)","v":0}]
["C - Adicional noturno",null,44,0.2,{"$f":"C687*D687/220*$G$570","v":0},{"$f":"E687*(1+$F$81)","v":0},{"$f":"F687*(1+$F$122)","v":0}]
["Valor Total de Adicional Noturno e de Horas Extras: ",null,null,null,null,null,{"$f":"SUM(G685:G687)","v":0}]
[]
["QUADRO RESUMO DO VALOR MENSAL DO SERVIÇO"]
["LOTE","DESCRIÇÃO",null,null,"QUANT. DE EMPREGADO PARA O SERVIÇO","VALOR PROPOSTO POR EMPREGADO","VALOR TOTAL DO SERVIÇO (mensal)"]
[null,null,null,null,{"$f":"F562","v":5},{"$f":"G680","v":0},{"$f":"F692*E692","v":0}]
["VALOR ANUAL DO SERVIÇO",null,null,null,null,null,{"$f":"G692*12","v":0}]
[]
["VALOR TOTAL ANUAL DO SERVIÇO COM HORAS EXTRAS, NOTURNAS E DIÁRIAS",null,null,null,null,null,{"$f":"G688+G693","v":0}]
[]
[" *(1) Redução de 7 dias ou de 2h por dia. (Percentual relativo a contrato de 12 meses"]
["*(2) Estimativa de 5 dias de licença por ano"]
["*(3) Estimativa de 1,5% dos funcionários usufruindo 5 dias de licença por ano"]
["*(4) Estimativa de 1 ausência por ano"]
["*(5) Estimativa de 1 licença de 15 dias por ano para 8% dos funcionários"]
["*(6) Estimativa de 2% dos funcionários usufruindo de 4 meses de licença por ano"]
["*(7) Estimativa de 2% dos funcionários usufruindo de 4 meses de licença por ano"]
[" *(8) Estimativa de que 5% dos funcionários serão substituídos em um ano."]
[" *(9) Estimativa de que 2% dos funcionários serão demitidos com indenização adicional."]
[" *(10) Multa de 40% do FGTS em relação aos trabalhadores contratados."]
[" *(11) Contribuição de 10% do FGTS em relação aos trabalhadores contratados."]
[]
[]
["VALOR TOTAL DO SERVIÇO COM HORAS EXTRAS, NOTURNAS E DIÁRIAS",null,null,null,null,null,{"$f":"G695+G508+G330+G163","v":24711.54}]

{"sheet":"VI - Recepção II","index":8,"n_rows":154,"n_cols":10,"rows_kept":154,"cut":false,"hidden":false,"merged":[[62,7,63,7],[137,1,137,3],[138,1,138,3],[139,0,139,5],[140,0,140,6],[141,0,141,5],[131,0,131,1],[132,0,132,1],[133,0,133,1],[134,0,134,5],[135,0,135,6],[136,0,136,6],[128,0,128,6],[129,0,130,1],[129,2,130,2],[129,3,130,3],[129,4,130,4],[129,5,130,5],[129,6,130,6],[122,1,122,4],[123,1,123,4],[124,0,124,4],[125,0,125,6],[126,0,126,5],[127,0,127,6],[116,1,116,4],[117,0,117,4],[118,0,118,6],[119,0,119,6],[120,1,120,4],[121,1,121,4],[110,0,110,5],[111,0,111,6],[112,0,112,6],[113,1,113,4],[114,1,114,4],[115,1,115,4],[104,1,104,4],[105,1,105,4],[106,1,106,4],[107,1,107,4],[108,0,108,5],[109,0,109,6],[98,0,98,6],[99,0,99,6],[100,1,100,4],[101,1,101,4],[102,1,102,4],[103,1,103,4],[92,1,92,4],[93,1,93,4],[94,1,94,4],[95,1,95,4],[96,1,96,4],[97,0,97,5],[86,1,86,4],[87,1,87,4],[88,1,88,4],[89,1,89,4],[90,1,90,4],[91,1,91,4],[80,1,80,4],[81,1,81,4],[82,1,82,4],[83,0,83,4],[84,0,84,6],[85,0,85,6],[74,1,74,4],[75,0,75,4],[76,0,76,6],[77,0,77,6],[78,1,78,4],[79,1,79,4],[68,1,68,4],[69,1,69,4],[70,1,70,4],[71,1,71,4],[72,0,72,4],[73,1,73,4],[63,1,63,4],[64,1,64,4],[65,0,65,4],[66,0,66,6],[67,1,67,4],[57,1,57,4],[58,0,58,4],[59,0,59,6],[60,1,60,4],[61,1,61,4],[62,1,62,4],[51,1,51,4],[52,1,52,4],[53,1,53,4],[54,1,54,4],[55,1,55,4],[56,1,56,4],[45,0,45,6],[46,1,46,4],[47,1,47,4],[48,1,48,4],[49,1,49,4],[50,1,50,4],[39,1,39,4],[40,1,40,4],[41,1,41,4],[42,1,42,4],[43,1,43,4],[44,0,44,4],[33,0,33,6],[34,0,34,6],[35,1,35,4],[36,1,36,4],[37,1,37,4],[38,1,38,4],[27,1,27,4],[28,1,28,4],[29,1,29,4],[30,0,30,4],[31,0,31,5],[32,0,32,6],[23,1,23,4],[23,5,23,6],[24,1,24,4],[24,5,24,6],[25,0,25,6],[26,0,26,6],[19,1,19,4],[19,5,19,6],[20,1,20,4],[20,5,20,6],[21,0,21,6],[22,1,22,4],[22,5,22,6],[16,1,16,4],[16,5,16,6],[17,1,17,4],[17,5,17,6],[18,1,18,4],[18,5,18,6],[11,0,11,6],[12,0,12,6],[13,1,13,4],[13,5,13,6],[14,1,14,4],[14,5,14,6],[10,1,10,4],[10,5,10,6],[4,0,4,6],[5,0,5,6],[6,1,6,4],[6,5,6,6],[7,1,7,4],[7,5,7,6],[15,1,15,4],[15,5,15,6],[0,0,0,6],[1,0,1,6],[2,0,2,6],[3,0,3,2],[3,3,3,4],[3,5,3,6],[8,1,8,4],[8,5,8,6],[9,1,9,4],[9,5,9,6]]}
["PLANILHA DE CUSTOS E FORMAÇÃO DE PREÇOS"]
["PRESTAÇÃO DE SERVIÇOS DE RECEPÇÃO II"]
[{"$f":"'I - Motorista'!A3:G3","v":"Razão Social:"},null,null,null,null,null,null,"*Preenchimento automático"]
[{"$f":"'I - Motorista'!A4:D4","v":"CNPJ:"},null,null,{"$f":"'I - Motorista'!E4","v":"Pregão n°:"},null,{"$f":"'I - Motorista'!F4:G4","v":"Data:"},null,"*Preenchimento automático"]
[]
["DISCRIMINAÇÃO DOS SERVIÇOS"]
["A","Data de apresentação da proposta (dia/mês/ano) "]
["B","Município/UF "]
["C","Ano Acordo, Convenção ou Sentença Normativa em Dissídio Coletivo"]
["D","No. Registro acordo convenção coletiva"]
["E","Nº de meses de execução contratual",null,null,null,"24 meses"]
[]
["IDENTIFICAÇÃO DO SERVIÇO"]
["Unidade","Tipo de Serviço",null,null,null,"Quantidade a contratar"]
["Postos","Motorista",null,null,null,"-"]
["Postos","Copeiro",null,null,null,"-"]
["Postos","Limpeza I",null,null,null,"-"]
["Postos","Limpeza II",null,null,null,"-"]
["Postos","Recepcionista I",null,null,null,"-"]
["Postos","Recepcionista II",null,null,null,"-"]
["Postos","Auxiliar de Manutenção Predial",null,null,null,"-"]
["DADOS COMPLEMENTARES PARA CUSTOS REFERENTES À MÃO DE OBRA"]
["A","Salário Normativo da categoria Profissional Vigente",null,null,null,null,null,"*Poderá ser considerado o salário proporcional à carga horária"]
["B","Categoria profissional"]
["C","Data-base da categoria"]
[]
["MÓDULO 1 - COMPOSIÇÃO DA REMUNERAÇÃO"]
[1,"Composição da Remuneração:",null,null,null,"%","Valor (R$)"]
["A","Salário Base"]
["B","Adicionais (especificar)",null,null,null,null,null,"*Adicional para preposto"]
["*Diárias, adicionais de horas extras e noturno extra em planilha à parte"]
["Valor Total da Remuneração: ",null,null,null,null,null,{"$f":"SUM(G29:G31)","v":0},"*Valor de no mínimo R$1420,11"]
[]
["MÓDULO 2 - ENCARGOS SOCIAIS E TRABALHISTAS INCIDENTES SOBRE A REMUNERAÇÃO"]
[]
["Grupo 2.1","Encargos Previdenciários e FGTS",null,null,null,"%","Valor (R$)"]
["A","INSS",null,null,null,0.2,{"$f":"$G$32*F37","v":0}]
["B","SESI ou SESC",null,null,null,1.4999999999999999E-2,{"$f":"$G$32*F38","v":0}]
["C","SENAI ou SENAC",null,null,null,0.01,{"$f":"$G$32*F39","v":0}]
["D","INCRA",null,null,null,2E-3,{"$f":"$G$32*F40","v":0}]
["E","Salário educação",null,null,null,2.5000000000000001E-2,{"$f":"$G$32*0.025","v":0}]
["F","FGTS",null,null,null,0.08,{"$f":"$G$32*F42","v":0}]
["G","RAT (Risco Ambiental do Trabalho) x FAP (2,00)",null,null,null,0.03,{"$f":"$G$32*F43","v":0}]
["H","SEBRAE",null,null,null,6.0000000000000001E-3,{"$f":"$G$32*F44","v":0}]
["Valor Total dos encargos previdenciários e FGTS: ",null,null,null,null,{"$f":"SUM(F37:F44)","v":0.36799999999999999},{"$f":"SUM(G37:G44)","v":0}]
[]
["Grupo 2.2","13º Salário e Afastamentos",null,null,null,"%","Valor (R$)"]
["A","13º Salário",null,null,null,8.3330000000000001E-2,{"$f":"SUM($G$32*F48)","v":0}]
["B","Férias",null,null,null,8.3299999999999999E-2,{"$f":"G32*F49","v":0}]
["C","Adicional de férias (1/3)",null,null,null,{"$f":"1/3/12","v":2.7779999999999999E-2},{"$f":"SUM($G$32*F50)","v":0}]
["D","Aviso prévio trabalhado *(1)",null,null,null,{"$f":"7/30/12","v":1.9439999999999999E-2},{"$f":"(G32)*F51","v":0}]
["E","Ausência por doença *(2)",null,null,null,{"$f":"5/30/12","v":1.389E-2},{"$f":"G32*F52","v":0}]
["F","Licença Paternidade *(3)",null,null,null,{"$f":"5/30/12*0.015","v":2.1000000000000001E-4},{"$f":"G32*F53","v":0}]
["G","Ausências Legais *(4)",null,null,null,{"$f":"1/30/12","v":2.7799999999999999E-3},{"$f":"G32*F54","v":0}]
["H","Ausência por acidente de trabalho *(5)",null,null,null,{"$f":"15/30/12*0.08","v":3.3300000000000001E-3},{"$f":"G32*F55","v":0}]
["J","Outros (especificar)",null,null,null,null,{"$f":"G32*F56","v":0}]
[null,"Subtotal: ",null,null,null,{"$f":"SUM(F48:F56)","v":0.23405999999999999},{"$f":"SUM($G$32*F57)","v":0}]
["K","Incidência do grupo 2.1 sobre o grupo 2.2",null,null,null,{"$f":"F45*F57","v":8.6129999999999998E-2},{"$f":"F58*G32","v":0}]
["Valor total do 13º Salário e Afastamentos: ",null,null,null,null,{"$f":"SUM(F57:F58)","v":0.32018999999999997},{"$f":"G57+G58","v":0}]
[]
["Grupo 2.3","Afastamento Maternidade ",null,null,null,"%","Valor (R$)"]
["A","Afastamento Maternidade *(6)",null,null,null,{"$f":"4/12*0.02","v":6.6699999999999997E-3},{"$f":"G32*F62","v":0}]
["B","Férias sobre licença maternidade *(7)",null,null,null,{"$f":"0.1111*0.02*4/12","v":7.3999999999999999E-4},{"$f":"G32*F63","v":0}]
[null,"Subtotal: ",null,null,null,{"$f":"SUM(F62:F63)","v":7.4099999999999999E-3},{"$f":"SUM($G$32*F64)","v":0}]
["C","Incidência do grupo 2.1 sobre o grupo 2.3",null,null,null,{"$f":"F64*F45","v":2.7299999999999998E-3},{"$f":"F65*G32","v":0}]
["Valor total do Afastamento Maternidade: ",null,null,null,null,{"$f":"SUM(F64:F65)","v":1.014E-2},{"$f":"SUM(G64:G65)","v":0}]
[]
["Grupo 2.4","Provisão para Rescisão",null,null,null,"%","Valor (R$)"]
["A","Aviso Prévio Indenizado *(8)",null,null,null,{"$f":"0.05*1/12","v":4.1700000000000001E-3},{"$f":"($G$32)*F69","v":0}]
["B","Indenização Adicional *(9)",null,null,null,{"$f":"0.02*1/12","v":1.67E-3},{"$f":"($G$32)*F70","v":0}]
["C","Indenização (rescisão sem justa causa - multa de 40% do FGTS) *(10)",null,null,null,{"$f":"1*0.4*0.08","v":3.2000000000000001E-2},{"$f":"($G$32)*F71","v":0}]
["D","Indenização (rescisão sem justa causa - contribuição de 10% do FGTS) *(11)",null,null,null,{"$f":"1*0.1*0.08","v":8.0000000000000002E-3},{"$f":"($G$32)*F72","v":0}]
["Subtotal: ",null,null,null,null,{"$f":"SUM(F69:F72)","v":4.5839999999999999E-2},{"$f":"SUM(G69:G72)","v":0}]
["E","Incidência do FGTS sobre o aviso prévio indenizado",null,null,null,{"$f":"F42*F69","v":3.3E-4},{"$f":"F74*$G$32","v":0}]
["F","Incidência do FGTS sobre o período médio de afastamento superior a 15 dias motivado por acidente de trabalho",null,null,null,{"$f":"F42*F55","v":2.7E-4},{"$f":"F75*$G$32","v":0}]
["Valor total da Provisão para Rescisão: ",null,null,null,null,{"$f":"SUM(F73:F75)","v":4.6440000000000002E-2},{"$f":"SUM(G73:G75)","v":0}]
[]
["QUADRO RESUMO - ENCARGOS SOCIAIS E TRABALHISTAS"]
[2,"Encargos Sociais e Trabalhistas",null,null,null,"%","Valor (R$)"]
["2.1","Encargos Previdenciários e FGTS",null,null,null,{"$f":"F45","v":0.36799999999999999},{"$f":"G45","v":0}]
["2.2","13º Salário e Afastamentos",null,null,null,{"$f":"F59","v":0.32018999999999997},{"$f":"G59","v":0}]
["2.3","Afastamento Maternidade",null,null,null,{"$f":"F66","v":1.014E-2},{"$f":"G66","v":0}]
["2.4","Provisão para Rescisão",null,null,null,{"$f":"F76","v":4.6440000000000002E-2},{"$f":"G76","v":0}]
["Valor Total de encargos sociais e trabalhistas: ",null,null,null,null,{"$f":"SUM(F80:F83)","v":0.74477000000000004},{"$f":"SUM(G80:G83)","v":0}]
[]
["MÓDULO 3 - BENEFÍCIOS MENSAIS E DIÁRIOS"]
[3,"Benefícios Mensais e Diários (deduzida parcela do empregado)",null,null,null,"%","Valor (R$)"]
["A","Transporte"]
["B","Desconto legal sobre transporte (máximo de 6% sobre o salário base)",null,null,null,null,null,"(inserir valor negativo)"]
["C","Auxílio alimentação "]
["D","Assistência médica e Familiar"]
["E","Auxílio creche"]
["F","Seguro de vida "]
["G","Auxílio Funeral"]
["H","Cesta Básica"]
["I","Assistência odontológica"]
["J","Outros (especificar)"]
["Valor Total de benefícios mensais e diários: ",null,null,null,null,null,{"$f":"SUM(G88:G97)","v":0}]
[]
["MÓDULO 4 - INSUMOS DIVERSOS"]
[4,"Insumos Diversos",null,null,null,"%","Valor (R$)"]
["A","Uniformes"]
["B","EPIs"]
["C","Materiais"]
["D","Equipamentos (ponto eletrônico, outros)"]
["D","Aparelho celular"]
["F","Franquia de telefonia celular"]
["G","Outros (especificar)"]
["Valor Total de insumos diversos: ",null,null,null,null,null,{"$f":"SUM(G102:G108)","v":0}]
[]
["VALOR TOTAL DE REMUNERAÇÃO + ENCARGOS SOCIAIS + BENEFÍCIOS + INSUMOS",null,null,null,null,null,{"$f":"G32+G84+G98+G109","v":0}]
[]
["MÓDULO 5 - BONIFICAÇÃO E OUTRAS DESPESAS"]
[5,"Bonificações e outras despesas",null,null,null,"%","Valor (R$)"]
["A","LDI - Lucro e Despesas Indiretas",null,null,null,null,{"$f":"F115*$G$111","v":0}]
["B","Despesas Administrativas / Operacionais",null,null,null,null,{"$f":"F116*$G$111","v":0}]
["C","Outras despesas (especificar)",null,null,null,null,{"$f":"F117*$G$111","v":0}]
["Valor Total de bonificações e outras despesas: ",null,null,null,null,{"$f":"SUM(F115:F117)","v":0},{"$f":"SUM(G115:G117)","v":0}]
[]
["MÓDULO 6 - TRIBUTAÇÃO SOBRE O FATURAMENTO"]
[6,"Tributos",null,null,null,"%","Valor (R$)"]
["A","ISS",null,null,null,null,{"$f":"($G$111+$G$118)/(1-$F$125)*F122","v":0}]
["B","PIS",null,null,null,null,{"$f":"($G$111+$G$118)/(1-$F$125)*F123","v":0}]
["C","COFINS",null,null,null,null,{"$f":"($G$111+$G$118)/(1-$F$125)*F124","v":0}]
["Valor Total dos tributos: ",null,null,null,null,{"$f":"SUM(F122:F124)","v":0},{"$f":"SUM(G122:G124)","v":0}]
[]
["VALOR MENSAL TOTAL POR EMPREGADO",null,null,null,null,null,{"$f":"G111+G118+G125","v":0}]
[]
["7 - PREVISÃO DE ADICIONAL NOTURNO E DE HORAS EXTRAS"]
["Benefício",null,"Previsão (hs)","Adicional","Valor Base","Valor com Encargos ","Valor com Impostos"]
[null,null,null,null,null,null,null,null,null,"http://www.portaleducacao.com.br/contabilidade/artigos/51238/calculo-hora-extra-noturna"]
["A - Hora extra (dias úteis)",null,230,0.5,{"$f":"C132*(D132+1)*$G$32/180","v":0},{"$f":"E132*(1+$F$84)","v":0},{"$f":"F132/(1-$F$125)","v":0}]
["B - Hora extra (repouso/feriado)",null,36,1,{"$f":"C133*(D133+1)/180*$G$32","v":0},{"$f":"E133*(1+$F$84)","v":0},{"$f":"F133/(1-$F$125)","v":0}]
["C - Hora extra noturna",null,24,0.2,{"$f":"C134*$G$32/180*(1+D132)*(1+D134)*(1/52.5*60)","v":0},{"$f":"E134*(1+$F$84)","v":0},{"$f":"F134/(1-$F$125)","v":0}]
["Valor Total de Adicional Noturno e de Horas Extras: ",null,null,null,null,null,{"$f":"SUM(G132:G134)","v":0}]
[]
["QUADRO RESUMO DO VALOR MENSAL DO SERVIÇO"]
["ITEM","DESCRIÇÃO",null,null,"QUANT. DE EMPREGADO PARA O SERVIÇO","VALOR PROPOSTO POR EMPREGADO","VALOR TOTAL DO SERVIÇO"]
[null,null,null,null,"-",{"$f":"G127","v":0},{"$f":"F139*E139","v":{"$error":"#VALUE!"}},"*Valor Mensal sem horas extras"]
["VALOR DO SERVIÇO ANUAL",null,null,null,null,null,{"$f":"G139*12","v":{"$error":"#VALUE!"}}]
[]
["VALOR TOTAL BIENAL DO SERVIÇO COM HORAS EXTRAS E NOTURNAS",null,null,null,null,null,{"$f":"(G135+G140)*2","v":{"$error":"#VALUE!"}}]
[]
[" *(1) Redução de 7 dias ou de 2h por dia. (Percentual relativo a contrato de 12 meses"]
["*(2) Estimativa de 5 dias de licença por ano"]
["*(3) Estimativa de 1,5% dos funcionários usufruindo 5 dias de licença por ano"]
["*(4) Estimativa de 1 ausência por ano"]
["*(5) Estimativa de 1 licença de 15 dias por ano para 8% dos funcionários"]
["*(6) Estimativa de 2% dos funcionários usufruindo de 4 meses de licença por ano"]
["*(7) Estimativa de 2% dos funcionários usufruindo de 4 meses de licença por ano"]
[" *(8) Estimativa de que 5% dos funcionários serão substituídos em um ano."]
[" *(9) Estimativa de que 2% dos funcionários serão demitidos com indenização adicional."]
[" *(10) Multa de 40% do FGTS em relação aos trabalhadores contratados."]
[" *(11) Contribuição de 10% do FGTS em relação aos trabalhadores contratados."]

{"sheet":"VII - Auxiliar de Manut. Pred.","index":9,"n_rows":154,"n_cols":8,"rows_kept":154,"cut":false,"hidden":false,"merged":[[18,1,18,4],[18,5,18,6],[137,1,137,3],[138,1,138,3],[139,0,139,5],[140,0,140,6],[141,0,141,5],[131,0,131,1],[132,0,132,1],[133,0,133,1],[134,0,134,5],[135,0,135,6],[122,1,122,4],[123,1,123,4],[124,0,124,4],[125,0,125,6],[126,0,126,5],[127,0,127,6],[128,0,128,6],[136,0,136,6],[129,0,130,1],[129,2,130,2],[129,3,130,3],[129,4,130,4],[129,5,130,5],[129,6,130,6],[113,1,113,4],[114,1,114,4],[115,1,115,4],[116,1,116,4],[117,0,117,4],[118,0,118,6],[119,0,119,6],[120,1,120,4],[121,1,121,4],[104,1,104,4],[105,1,105,4],[106,1,106,4],[107,1,107,4],[108,0,108,5],[109,0,109,6],[110,0,110,5],[111,0,111,6],[112,0,112,6],[95,1,95,4],[96,1,96,4],[97,0,97,5],[98,0,98,6],[99,0,99,6],[100,1,100,4],[101,1,101,4],[102,1,102,4],[103,1,103,4],[86,1,86,4],[87,1,87,4],[88,1,88,4],[89,1,89,4],[90,1,90,4],[91,1,91,4],[92,1,92,4],[93,1,93,4],[94,1,94,4],[77,0,77,6],[78,1,78,4],[79,1,79,4],[80,1,80,4],[81,1,81,4],[82,1,82,4],[83,0,83,4],[84,0,84,6],[85,0,85,6],[68,1,68,4],[69,1,69,4],[70,1,70,4],[71,1,71,4],[72,0,72,4],[73,1,73,4],[74,1,74,4],[75,0,75,4],[76,0,76,6],[59,0,59,6],[60,1,60,4],[61,1,61,4],[62,1,62,4],[63,1,63,4],[64,1,64,4],[65,0,65,4],[66,0,66,6],[67,1,67,4],[50,1,50,4],[51,1,51,4],[52,1,52,4],[53,1,53,4],[54,1,54,4],[55,1,55,4],[56,1,56,4],[57,1,57,4],[58,0,58,4],[41,1,41,4],[42,1,42,4],[43,1,43,4],[44,0,44,4],[45,0,45,6],[46,1,46,4],[47,1,47,4],[48,1,48,4],[49,1,49,4],[32,0,32,6],[33,0,33,6],[34,0,34,6],[35,1,35,4],[36,1,36,4],[37,1,37,4],[38,1,38,4],[39,1,39,4],[40,1,40,4],[24,1,24,4],[24,5,24,6],[25,0,25,6],[26,0,26,6],[27,1,27,4],[28,1,28,4],[29,1,29,4],[30,0,30,4],[31,0,31,5],[19,1,19,4],[19,5,19,6],[20,1,20,4],[20,5,20,6],[21,0,21,6],[22,1,22,4],[22,5,22,6],[23,1,23,4],[23,5,23,6],[12,0,12,6],[13,1,13,4],[13,5,13,6],[14,1,14,4],[14,5,14,6],[17,1,17,4],[17,5,17,6],[15,1,15,4],[15,5,15,6],[16,1,16,4],[16,5,16,6],[7,1,7,4],[7,5,7,6],[8,1,8,4],[8,5,8,6],[9,1,9,4],[9,5,9,6],[10,1,10,4],[10,5,10,6],[11,0,11,6],[0,0,0,6],[1,0,1,6],[2,0,2,6],[3,5,3,6],[4,0,4,6],[3,0,3,2],[3,3,3,4],[5,0,5,6],[6,1,6,4],[6,5,6,6]]}
["PLANILHA DE CUSTOS E FORMAÇÃO DE PREÇOS"]
["PRESTAÇÃO DE SERVIÇOS DE AUXILIAR DE MANUTENÇÃO PREDIAL"]
[{"$f":"'I - Motorista'!A3:G3","v":"Razão Social:"}]
[{"$f":"'I - Motorista'!A4:D4","v":"CNPJ:"},null,null,{"$f":"'I - Motorista'!E4","v":"Pregão n°:"},null,{"$f":"'I - Motorista'!F4:G4","v":"Data:"}]
[]
["DISCRIMINAÇÃO DOS SERVIÇOS"]
["A","Data de apresentação da proposta (dia/mês/ano) "]
["B","Município/UF "]
["C","Ano Acordo, Convenção ou Sentença Normativa em Dissídio Coletivo"]
["D","No. Registro acordo convenção coletiva"]
["E","Nº de meses de execução contratual",null,null,null,"24 meses"]
[]
["IDENTIFICAÇÃO DO SERVIÇO"]
["Unidade","Tipo de Serviço",null,null,null,"Quantidade a contratar"]
["Postos","Motorista",null,null,null,"-"]
["Postos","Copeiro",null,null,null,"-"]
["Postos","Limpeza I",null,null,null,"-"]
["Postos","Limpeza II",null,null,null,"-"]
["Postos","Recepcionista I",null,null,null,"-"]
["Postos","Recepcionista II",null,null,null,"-"]
["Postos","Auxiliar de Manutenção Predial",null,null,null,"-"]
["DADOS COMPLEMENTARES PARA CUSTOS REFERENTES À MÃO DE OBRA"]
["A","Salário Normativo da categoria Profissional Vigente"]
["B","Categoria profissional"]
["C","Data-base da categoria"]
[]
["MÓDULO 1 - COMPOSIÇÃO DA REMUNERAÇÃO"]
[1,"Composição da Remuneração:",null,null,null,"%","Valor (R$)"]
["A","Salário Base",null,null,null,null,0,"*Poderá ser considerado o salário proporcional à carga horária"]
["B","Adicionais (especificar)",null,null,null,0.3,{"$f":"G29*F30","v":0},"*Adicionar 30% referente a adicional de periculosidade."]
["*Diárias, adicionais de horas extras e noturno extra em planilha à parte"]
["Valor Total da Remuneração: ",null,null,null,null,null,{"$f":"SUM(G29:G31)","v":0}]
[]
["MÓDULO 2 - ENCARGOS SOCIAIS E TRABALHISTAS INCIDENTES SOBRE A REMUNERAÇÃO"]
[]
["Grupo 2.1","Encargos Previdenciários e FGTS",null,null,null,"%","Valor (R$)"]
["A","INSS",null,null,null,0.2,{"$f":"$G$32*F37","v":0}]
["B","SESI ou SESC",null,null,null,1.4999999999999999E-2,{"$f":"$G$32*F38","v":0}]
["C","SENAI ou SENAC",null,null,null,0.01,{"$f":"$G$32*F39","v":0}]
["D","INCRA",null,null,null,2E-3,{"$f":"$G$32*F40","v":0}]
["E","Salário educação",null,null,null,2.5000000000000001E-2,{"$f":"$G$32*0.025","v":0}]
["F","FGTS",null,null,null,0.08,{"$f":"$G$32*F42","v":0}]
["G","RAT (Risco Ambiental do Trabalho) x FAP (2,00)",null,null,null,0.03,{"$f":"$G$32*F43","v":0}]
["H","SEBRAE",null,null,null,6.0000000000000001E-3,{"$f":"$G$32*F44","v":0}]
["Valor Total dos encargos previdenciários e FGTS: ",null,null,null,null,{"$f":"SUM(F37:F44)","v":0.36799999999999999},{"$f":"SUM(G37:G44)","v":0}]
[]
["Grupo 2.2","13º Salário e Afastamentos",null,null,null,"%","Valor (R$)"]
["A","13º Salário",null,null,null,8.3330000000000001E-2,{"$f":"SUM($G$32*F48)","v":0}]
["B","Férias",null,null,null,8.3299999999999999E-2,{"$f":"G32*F49","v":0}]
["C","Adicional de férias (1/3)",null,null,null,{"$f":"1/3/12","v":2.7779999999999999E-2},{"$f":"SUM($G$32*F50)","v":0}]
["D","Aviso prévio trabalhado *(1)",null,null,null,{"$f":"7/30/12","v":1.9439999999999999E-2},{"$f":"(G32)*F51","v":0}]
["E","Ausência por doença *(2)",null,null,null,{"$f":"5/30/12","v":1.389E-2},{"$f":"G32*F52","v":0}]
["F","Licença Paternidade *(3)",null,null,null,{"$f":"5/30/12*0.015","v":2.1000000000000001E-4},{"$f":"G32*F53","v":0}]
["G","Ausências Legais *(4)",null,null,null,{"$f":"1/30/12","v":2.7799999999999999E-3},{"$f":"G32*F54","v":0}]
["H","Ausência por acidente de trabalho *(5)",null,null,null,{"$f":"15/30/12*0.08","v":3.3300000000000001E-3},{"$f":"G32*F55","v":0}]
["J","Outros (especificar)",null,null,null,null,{"$f":"G32*F56","v":0}]
[null,"Subtotal: ",null,null,null,{"$f":"SUM(F48:F56)","v":0.23405999999999999},{"$f":"SUM($G$32*F57)","v":0}]
["K","Incidência do grupo 2.1 sobre o grupo 2.2",null,null,null,{"$f":"F45*F57","v":8.6129999999999998E-2},{"$f":"F58*G32","v":0}]
["Valor total do 13º Salário e Afastamentos: ",null,null,null,null,{"$f":"SUM(F57:F58)","v":0.32018999999999997},{"$f":"G57+G58","v":0}]
[]
["Grupo 2.3","Afastamento Maternidade ",null,null,null,"%","Valor (R$)"]
["A","Afastamento Maternidade *(6)",null,null,null,{"$f":"4/12*0.02","v":6.6699999999999997E-3},{"$f":"G32*F62","v":0}]
["B","Férias sobre licença maternidade *(7)",null,null,null,{"$f":"0.1111*0.02*4/12","v":7.3999999999999999E-4},{"$f":"G32*F63","v":0}]
[null,"Subtotal: ",null,null,null,{"$f":"SUM(F62:F63)","v":7.4099999999999999E-3},{"$f":"SUM($G$32*F64)","v":0}]
["C","Incidência do grupo 2.1 sobre o grupo 2.3",null,null,null,{"$f":"F64*F45","v":2.7299999999999998E-3},{"$f":"F65*G32","v":0}]
["Valor total do Afastamento Maternidade: ",null,null,null,null,{"$f":"SUM(F64:F65)","v":1.014E-2},{"$f":"SUM(G64:G65)","v":0}]
[]
["Grupo 2.4","Provisão para Rescisão",null,null,null,"%","Valor (R$)"]
["A","Aviso Prévio Indenizado *(8)",null,null,null,{"$f":"0.05*1/12","v":4.1700000000000001E-3},{"$f":"($G$32)*F69","v":0}]
["B","Indenização Adicional *(9)",null,null,null,{"$f":"0.02*1/12","v":1.67E-3},{"$f":"($G$32)*F70","v":0}]
["C","Indenização (rescisão sem justa causa - multa de 40% do FGTS) *(10)",null,null,null,{"$f":"1*0.4*0.08","v":3.2000000000000001E-2},{"$f":"($G$32)*F71","v":0}]
["D","Indenização (rescisão sem justa causa - contribuição de 10% do FGTS) *(11)",null,null,null,{"$f":"1*0.1*0.08","v":8.0000000000000002E-3},{"$f":"($G$32)*F72","v":0}]
["Subtotal: ",null,null,null,null,{"$f":"SUM(F69:F72)","v":4.5839999999999999E-2},{"$f":"SUM(G69:G72)","v":0}]
["E","Incidência do FGTS sobre o aviso prévio indenizado",null,null,null,{"$f":"F42*F69","v":3.3E-4},{"$f":"F74*$G$32","v":0}]
["F","Incidência do FGTS sobre o período médio de afastamento superior a 15 dias motivado por acidente de trabalho",null,null,null,{"$f":"F42*F55","v":2.7E-4},{"$f":"F75*$G$32","v":0}]
["Valor total da Provisão para Rescisão: ",null,null,null,null,{"$f":"SUM(F73:F75)","v":4.6440000000000002E-2},{"$f":"SUM(G73:G75)","v":0}]
[]
["QUADRO RESUMO - ENCARGOS SOCIAIS E TRABALHISTAS"]
[2,"Encargos Sociais e Trabalhistas",null,null,null,"%","Valor (R$)"]
["2.1","Encargos Previdenciários e FGTS",null,null,null,{"$f":"F45","v":0.36799999999999999},{"$f":"G45","v":0}]
["2.2","13º Salário e Afastamentos",null,null,null,{"$f":"F59","v":0.32018999999999997},{"$f":"G59","v":0}]
["2.3","Afastamento Maternidade",null,null,null,{"$f":"F66","v":1.014E-2},{"$f":"G66","v":0}]
["2.4","Provisão para Rescisão",null,null,null,{"$f":"F76","v":4.6440000000000002E-2},{"$f":"G76","v":0}]
["Valor Total de encargos sociais e trabalhistas: ",null,null,null,null,{"$f":"SUM(F80:F83)","v":0.74477000000000004},{"$f":"SUM(G80:G83)","v":0}]
[]
["MÓDULO 3 - BENEFÍCIOS MENSAIS E DIÁRIOS"]
[3,"Benefícios Mensais e Diários (deduzida parcela do empregado)",null,null,null,"%","Valor (R$)"]
["A","Transporte"]
["B","Desconto legal sobre transporte (máximo de 6% sobre o salário base)",null,null,null,null,null,"(inserir valor negativo)"]
["C","Auxílio alimentação "]
["D","Assistência médica e Familiar"]
["E","Auxílio creche"]
["F","Seguro de vida "]
["G","Auxílio Funeral"]
["H","Cesta Básica"]
["I","Assistência odontológica"]
["J","Outros (especificar)"]
["Valor Total de benefícios mensais e diários: ",null,null,null,null,null,{"$f":"SUM(G88:G97)","v":0}]
[]
["MÓDULO 4 - INSUMOS DIVERSOS"]
[4,"Insumos Diversos",null,null,null,"%","Valor (R$)"]
["A","Uniformes"]
["B","EPIs"]
["C","Materiais"]
["D","Equipamentos (ponto eletrônico, outros)"]
["D","Aparelho celular"]
["F","Franquia de telefonia celular"]
["G","Outros (especificar)"]
["Valor Total de insumos diversos: ",null,null,null,null,null,{"$f":"SUM(G102:G108)","v":0}]
[]
["VALOR TOTAL DE REMUNERAÇÃO + ENCARGOS SOCIAIS + BENEFÍCIOS + INSUMOS",null,null,null,null,null,{"$f":"G32+G84+G98+G109","v":0}]
[]
["MÓDULO 5 - BONIFICAÇÃO E OUTRAS DESPESAS"]
[5,"Bonificações e outras despesas",null,null,null,"%","Valor (R$)"]
["A","LDI - Lucro e Despesas Indiretas",null,null,null,null,{"$f":"F115*$G$111","v":0}]
["B","Despesas Administrativas / Operacionais",null,null,null,null,{"$f":"F116*$G$111","v":0}]
["C","Outras despesas (especificar)",null,null,null,null,{"$f":"F117*$G$111","v":0}]
["Valor Total de bonificações e outras despesas: ",null,null,null,null,{"$f":"SUM(F115:F117)","v":0},{"$f":"SUM(G115:G117)","v":0}]
[]
["MÓDULO 6 - TRIBUTAÇÃO SOBRE O FATURAMENTO"]
[6,"Tributos",null,null,null,"%","Valor (R$)"]
["A","ISS",null,null,null,null,{"$f":"($G$111+$G$118)/(1-$F$125)*F122","v":0}]
["B","PIS",null,null,null,null,{"$f":"($G$111+$G$118)/(1-$F$125)*F123","v":0}]
["C","COFINS",null,null,null,null,{"$f":"($G$111+$G$118)/(1-$F$125)*F124","v":0}]
["Valor Total dos tributos: ",null,null,null,null,{"$f":"SUM(F122:F124)","v":0},{"$f":"SUM(G122:G124)","v":0}]
[]
["VALOR MENSAL TOTAL POR EMPREGADO",null,null,null,null,null,{"$f":"G111+G118+G125","v":0}]
[]
["7 - PREVISÃO DE ADICIONAL NOTURNO E DE HORAS EXTRAS"]
["Benefício",null,"Previsão (hs)","Adicional","Valor Base","Valor com Encargos ","Valor com Impostos"]
[]
["A - Hora extra (dias úteis)",null,44,0.5,{"$f":"C132*(D132+1)*$G$32/150","v":0},{"$f":"E132*(1+$F$84)","v":0},{"$f":"F132/(1-$F$125)","v":0}]
["B - Hora extra (repouso/feriado)",null,6,1,{"$f":"C133*(D133+1)/150*$G$32","v":0},{"$f":"E133*(1+$F$84)","v":0},{"$f":"F133/(1-$F$125)","v":0}]
["C - Hora extra noturna",null,4,0.2,{"$f":"C134*$G$32/150*(1+D132)*(1+D134)*(1/52.5*60)","v":0},{"$f":"E134*(1+$F$84)","v":0},{"$f":"F134/(1-$F$125)","v":0}]
["Valor Total de Adicional Noturno e de Horas Extras: ",null,null,null,null,null,{"$f":"SUM(G132:G134)","v":0}]
[]
["QUADRO RESUMO DO VALOR MENSAL DO SERVIÇO"]
["ITEM","DESCRIÇÃO",null,null,"QUANT. DE EMPREGADO PARA O SERVIÇO","VALOR PROPOSTO POR EMPREGADO","VALOR TOTAL DO SERVIÇO"]
[null,null,null,null,"-",{"$f":"G127","v":0},{"$f":"F139*E139","v":{"$error":"#VALUE!"}},"*Valor Mensal sem horas extras"]
["VALOR DO SERVIÇO ANUAL",null,null,null,null,null,{"$f":"G139*12","v":{"$error":"#VALUE!"}}]
[]
["VALOR TOTAL BIENAL DO SERVIÇO COM HORAS EXTRAS, NOTURNAS E DIÁRIAS/INDENIZAÇÕES",null,null,null,null,null,{"$f":"(G135+G140)*2","v":{"$error":"#VALUE!"}}]
[]
[" *(1) Redução de 7 dias ou de 2h por dia. (Percentual relativo a contrato de 12 meses"]
["*(2) Estimativa de 5 dias de licença por ano"]
["*(3) Estimativa de 1,5% dos funcionários usufruindo 5 dias de licença por ano"]
["*(4) Estimativa de 1 ausência por ano"]
["*(5) Estimativa de 1 licença de 15 dias por ano para 8% dos funcionários"]
["*(6) Estimativa de 2% dos funcionários usufruindo de 4 meses de licença por ano"]
["*(7) Estimativa de 2% dos funcionários usufruindo de 4 meses de licença por ano"]
[" *(8) Estimativa de que 5% dos funcionários serão substituídos em um ano."]
[" *(9) Estimativa de que 2% dos funcionários serão demitidos com indenização adicional."]
[" *(10) Multa de 40% do FGTS em relação aos trabalhadores contratados."]
[" *(11) Contribuição de 10% do FGTS em relação aos trabalhadores contratados."]